Workbook
Name Print_Area: CLASIFICACIÓN!$B$1:$X$250
Name Print_Area: FINAL!$B$1:$U$165
Name Print_Area: 'POST ALCARRIA PARA WEB'!$B$1:$X$181
Name Print_Area: 'POST GUADAMUR PARA WEB'!$B$1:$X$219
Name Print_Area: 'POST MAQUEDA PARA WEB'!$B$1:$X$249

Sheet PREMIADOS
B3: CAMPEONATO MADRILEÑO DE TIERRA 2026 (CMT) | C3: PREMIO | D3: PREMIADOS | E3: Correo
B4: CAMPEONATO MADRILEÑO DE PILOTOS DE TIERRA | C4: CAMPEÓN
C5: SUBCAMPEÓN
C6: TROFEO 3º
B7: CAMPEONATO MADRILEÑO DE COPILOTOS DE TIERRA | C7: CAMPEÓN
C8: SUBCAMPEÓN
C9: TROFEO 3º
B10: CAMPEONATO MADRILEÑO DE TIERRA DE ESCUDERÍAS | C10: CAMPEÓN
B11: TROFEO MADRILEÑO DE PILOTOS 2RM | C11: VENCEDOR
B12: TROFEO MADRILEÑO DE COPILOTOS 2RM | C12: VENCEDOR
B13: COPA MADRILEÑA DE PILOTOS VEHÍCULOS SSV | C13: VENCEDOR
C14: SUBCAMPEÓN
C15: TROFEO 3º
B16: COPA MADRILEÑA DE COPILOTOS VEHÍCULOS SSV | C16: VENCEDOR
C17: SUBCAMPEÓN
C18: TROFEO 3º
B19: COPA MADRILEÑA DE PILOTOS VEHÍCULOS TT | C19: VENCEDOR
C20: SUBCAMPEÓN
C21: TROFEO 3º
B22: COPA MADRILEÑA DE COPILOTOS VEHÍCULOS TT | C22: VENCEDOR
C23: SUBCAMPEÓN
C24: TROFEO 3º
B25: COPA MADRILEÑA DE PILOTOS DE CAMIONES TT | C25: VENCEDOR
C26: SUBCAMPEÓN
C27: TROFEO 3º
B28: COPA MADRILEÑA DE COPILOTOS DE CAMIONES TT | C28: VENCEDOR
C29: SUBCAMPEÓN
C30: TROFEO 3º
B31: COPA MADRILEÑA DE TRIPULANTES DE CAMIONES TT | C31: VENCEDOR
C32: SUBCAMPEÓN
C33: TROFEO 3º
B34: TROFEO JUNIOR DE PILOTOS DE TIERRA | C34: VENCEDOR
B35: TROFEO JUNIOR DE COPILOTOS DE TIERRA | C35: VENCEDOR
B36: TROFEO MADRILEÑO DE TIERRA POR CLASES - CLASE 1 - PILOTOS | C36: PRIMER CLASIFICADO
B37: TROFEO MADRILEÑO DE TIERRA POR CLASES - CLASE 1 - COPILOTOS | C37: PRIMER CLASIFICADO
B38: TROFEO MADRILEÑO DE TIERRA POR CLASES - CLASE 2 - PILOTOS | C38: PRIMER CLASIFICADO
B39: TROFEO MADRILEÑO DE TIERRA POR CLASES - CLASE 2 - COPILOTOS | C39: PRIMER CLASIFICADO
B40: TROFEO MADRILEÑO DE TIERRA POR CLASES - CLASE 3 - PILOTOS | C40: PRIMER CLASIFICADO
B41: TROFEO MADRILEÑO DE TIERRA POR CLASES - CLASE 3 - COPILOTOS | C41: PRIMER CLASIFICADO
B42: TROFEO MADRILEÑO DE TIERRA POR CLASES - CLASE 4 - PILOTOS | C42: PRIMER CLASIFICADO
...

Sheet FINAL
B1: CAMPEONATO MADRILEÑO DE TIERRA 2025
B2: CLASIFICACIÓN FINAL GENERAL DE PILOTOS
F3: RS ALCARRIA | I3: RS GUADAMUR | L3: R CM-EL MOLAR | O3: RS NAVALCARNERO | R3: TCT N. BAZTÁN
B4: Pos | C4: PILOTO | D4: Clase | E4: RM | F4: 15 FEBRERO | I4: 5 ABRIL | L4: 11 OCTUBRE | O4: 8 NOVIEMBRE | R4: 29 NOVIEMBRE | U4: TOTAL | V4: ¿CLASIFICA? | W4: PARTICIPACIÓN
F5: sct | G5: cl | H5: total | I5: sct | J5: cl | K5: total | L5: sct | M5: cl | N5: total | O5: sct | P5: cl | Q5: total | R5: sct | S5: cl | T5: total
B6: 1 | C6: ISAAC VERA ALBERRUCHE | D6: * | E6: 4 | F6: 17 | G6: 9 | H6: 52 | I6: 20 | J6: 12 | K6: 64 | L6: 20 | M6: 12 | N6: 96 | O6: 17 | P6: 9 | Q6: 52 | R6: 8 | S6: 12 | T6: 20 | U6: 284 | V6: =IF(W6>=3,"Sí","No") -> Sí | W6: =COUNTA(H6,K6,N6,Q6,T6) -> 5 | Y6: =IFERROR(VLOOKUP(C6,Tabla15[[Piloto]:[Puntos clase]],6, FALSE), " ")
B7: 2 | C7: MANUEL GÓMEZ-MANZANILLA JAVEGA | D7: 2 | E7: 2 | F7: 12 | G7: 12 | H7: 48 | I7: 14 | J7: 12 | K7: 52 | L7: 10 | M7: 12 | N7: 66 | O7: 8 | P7: 9 | Q7: 34 | R7: 14 | S7: 12 | T7: 26 | U7: 226 | V7: =IF(W7>=3,"Sí","No") -> Sí | W7: =COUNTA(H7,K7,N7,Q7,T7) -> 5 | Y7: =IFERROR(VLOOKUP(C7,Tabla15[[Piloto]:[Puntos clase]],6, FALSE), " ")
B8: 3 | C8: MIGUEL SÁNCHEZ DIEZMA | D8: 1 | E8: 4 | F8: 20 | G8: 12 | H8: 64 | I8: 17 | J8: 9 | K8: 52 | L8: 17 | M8: 9 | N8: 78 | O8: 0 | P8: 0 | Q8: 0 | R8: 17 | S8: 9 | T8: 26 | U8: 220 | V8: =IF(W8>=3,"Sí","No") -> Sí | W8: =COUNTA(H8,K8,N8,Q8,T8) -> 5 | Y8: =IFERROR(VLOOKUP(C8,Tabla15[[Piloto]:[Puntos clase]],6, FALSE), " ")
B9: 4 | C9: NICOLÁS OTTO BOEHRINGER | D9: 1 | E9: 4 | L9: 14 | M9: 7 | N9: 63 | O9: 20 | P9: 12 | Q9: 64 | R9: 20 | S9: 12 | T9: 32 | U9: 159 | V9: =IF(W9>=3,"Sí","No") -> Sí | W9: =COUNTA(H9,K9,N9,Q9,T9) -> 3 | Y9: =IFERROR(VLOOKUP(C9,Tabla15[[Piloto]:[Puntos clase]],6, FALSE), " ")
B10: 5 | C10: MANUEL GÓMEZ-MANZANILLA ARRABAL | D10: 2 | E10: 2 | F10: 0 | G10: 0 | H10: 0 | I10: 12 | J10: 9 | K10: 42 | L10: 8 | M10: 9 | N10: 51 | O10: 10 | P10: 12 | Q10: 44 | R10: 12 | S10: 9 | T10: 21 | U10: 158 | V10: =IF(W10>=3,"Sí","No") -> Sí | W10: =COUNTA(H10,K10,N10,Q10,T10) -> 5 | Y10: =IFERROR(VLOOKUP(C10,Tabla15[[Piloto]:[Puntos clase]],6, FALSE), " ")
B11: 6 | C11: CRISTOFER CALERO CARRANZA | D11: 3 | E11: 2 | F11: 6 | G11: 12 | H11: 36 | I11: 10 | J11: 12 | K11: 44 | L11: 0 | M11: 3 | N11: 9 | O11: 4 | P11: 12 | Q11: 32 | R11: 6 | S11: 9 | T11: 15 | U11: 136 | V11: =IF(W11>=3,"Sí","No") -> Sí | W11: =COUNTA(H11,K11,N11,Q11,T11) -> 5 | Y11: =IFERROR(VLOOKUP(C11,Tabla15[[Piloto]:[Puntos clase]],6, FALSE), " ") -> 2RM
B12: 7 | C12: DAVID DE LA OSA SANJUAN | D12: * | E12: 2 | F12: 5 | G12: 12 | H12: 34 | I12: 8 | J12: 9 | K12: 34 | L12: 6 | M12: 12 | N12: 54 | O12: 0 | P12: 0 | Q12: 0 | R12: 5 | S12: 7 | T12: 12 | U12: 134 | V12: =IF(W12>=3,"Sí","No") -> Sí | W12: =COUNTA(H12,K12,N12,Q12,T12) -> 5 | Y12: =IFERROR(VLOOKUP(C12,Tabla15[[Piloto]:[Puntos clase]],6, FALSE), " ")
B13: 8 | C13: RUBÉN VELÁZQUEZ BERNARDO | D13: 5 | E13: 4 | F13: 3 | G13: 9 | H13: 24 | I13: 0 | J13: 9 | K13: 18 | L13: 4 | M13: 12 | N13: 48 | O13: 1 | P13: 12 | Q13: 26 | U13: 116 | V13: =IF(W13>=3,"Sí","No") -> Sí | W13: =COUNTA(H13,K13,N13,Q13,T13) -> 4 | Y13: =IFERROR(VLOOKUP(C13,Tabla15[[Piloto]:[Puntos clase]],6, FALSE), " ")
B14: 9 | C14: VÍCTOR JOSÉ MONTES DE SANTOS | D14: 5 | E14: 2 | F14: 0 | G14: 5 | H14: 10 | I14: 4 | J14: 12 | K14: 32 | L14: 3 | M14: 9 | N14: 36 | O14: 0 | P14: 7 | Q14: 14 | U14: 92 | V14: =IF(W14>=3,"Sí","No") -> Sí | W14: =COUNTA(H14,K14,N14,Q14,T14) -> 4 | Y14: =IFERROR(VLOOKUP(C14,Tabla15[[Piloto]:[Puntos clase]],6, FALSE), " ")
B15: 10 | C15: ÁLVARO GIL CARRETERO | D15: 3 | E15: 2 | F15: 0 | G15: 7 | H15: 14 | I15: 6 | J15: 7 | K15: 26 | L15: 5 | M15: 9 | N15: 42 | U15: 82 | V15: =IF(W15>=3,"Sí","No") -> Sí | W15: =COUNTA(H15,K15,N15,Q15,T15) -> 3 | Y15: =IFERROR(VLOOKUP(C15,Tabla15[[Piloto]:[Puntos clase]],6, FALSE), " ")
B16: 11 | C16: ANDRÉS LÓPEZ ARCHILLA | D16: 2 | E16: 2 | F16: 10 | G16: 9 | H16: 38 | I16: 0 | J16: 0 | K16: 0 | O16: 6 | P16: 7 | Q16: 26 | R16: 10 | S16: 7 | T16: 17 | U16: 81 | V16: =IF(W16>=3,"Sí","No") -> Sí | W16: =COUNTA(H16,K16,N16,Q16,T16) -> 4 | Y16: =IFERROR(VLOOKUP(C16,Tabla15[[Piloto]:[Puntos clase]],6, FALSE), " ")
B17: 12 | C17: ALBERTO LUIS PÉREZ | D17: 5 | E17: 2 | F17: 8 | G17: 12 | H17: 40 | I17: 0 | J17: 0 | K17: 0 | L17: 0 | M17: 0 | N17: 0 | O17: 0 | P17: 9 | Q17: 18 | R17: 3 | S17: 12 | T17: 15 | U17: 73 | V17: =IF(W17>=3,"Sí","No") -> Sí | W17: =COUNTA(H17,K17,N17,Q17,T17) -> 5 | Y17: =IFERROR(VLOOKUP(C17,Tabla15[[Piloto]:[Puntos clase]],6, FALSE), " ")
B18: 13 | C18: JULIO MARTÍN AGUDO | D18: * | E18: 2 | F18: 2 | G18: 7 | H18: 18 | I18: 3 | J18: 5 | K18: 16 | L18: 1 | M18: 5 | N18: 18 | R18: 2 | S18: 3 | T18: 5 | U18: 57 | V18: =IF(W18>=3,"Sí","No") -> Sí | W18: =COUNTA(H18,K18,N18,Q18,T18) -> 4 | Y18: =IFERROR(VLOOKUP(C18,Tabla15[[Piloto]:[Puntos clase]],6, FALSE), " ")
B19: 14 | C19: ÁNGEL ALONSO MARÍN | D19: * | E19: 2 | F19: 1 | G19: 7 | H19: 16 | I19: 0 | J19: 7 | K19: 14 | L19: 0 | M19: 7 | N19: 21 | U19: 51 | V19: =IF(W19>=3,"Sí","No") -> Sí | W19: =COUNTA(H19,K19,N19,Q19,T19) -> 3 | Y19: =IFERROR(VLOOKUP(C19,Tabla15[[Piloto]:[Puntos clase]],6, FALSE), " ")
B20: 16 | C20: RAUL CARRASCO SEGOVIA | D20: 4 | E20: 2 | F20: 0 | G20: 0 | H20: 0 | I20: 5 | J20: 6 | K20: 22 | O20: 3 | P20: 6 | Q20: 18 | R20: 1 | S20: 6 | T20: 7 | U20: 47 | V20: =IF(W20>=3,"Sí","No") -> Sí | W20: =COUNTA(H20,K20,N20,Q20,T20) -> 4 | Y20: =IFERROR(VLOOKUP(C20,Tabla15[[Piloto]:[Puntos clase]],6, FALSE), " ") -> 2RM
B21: 17 | C21: JUAN CARLOS AGUADO CUELLAR | D21: 1 | E21: 4 | F21: 0 | G21: 0 | H21: 0 | I21: 0 | J21: 0 | K21: 0 | L21: 0 | M21: 0 | N21: 0 | O21: 14 | P21: 7 | Q21: 42 | R21: 0 | S21: 0 | T21: 0 | U21: 42 | V21: =IF(W21>=3,"Sí","No") -> Sí | W21: =COUNTA(H21,K21,N21,Q21,T21) -> 5 | Y21: =IFERROR(VLOOKUP(C21,Tabla15[[Piloto]:[Puntos clase]],6, FALSE), " ")
B22: 19 | C22: MANUEL ROMÁN MANCEBO SUÁREZ | D22: 4 | E22: 2 | F22: 0 | G22: 9 | H22: 18 | I22: 2 | J22: 4.5 | K22: 13 | O22: 0 | P22: 4.5 | Q22: 9 | U22: 40 | V22: =IF(W22>=3,"Sí","No") -> Sí | W22: =COUNTA(H22,K22,N22,Q22,T22) -> 3 | Y22: =IFERROR(VLOOKUP(C22,Tabla15[[Piloto]:[Puntos clase]],6, FALSE), " ")
B23: 20 | C23: ÓSCAR ENCINA LINUESA | D23: * | E23: 2 | F23: 0 | G23: 5 | H23: 10 | L23: 0 | M23: 7 | N23: 21 | O23: 0 | P23: 3 | Q23: 6 | U23: 37 | V23: =IF(W23>=3,"Sí","No") -> Sí | W23: =COUNTA(H23,K23,N23,Q23,T23) -> 3 | Y23: =IFERROR(VLOOKUP(C23,Tabla15[[Piloto]:[Puntos clase]],6, FALSE), " ")
B24: 22 | C24: JOSÉ MARÍA SAN JOSÉ ROMERO | D24: 1 | E24: 4 | F24: 0 | G24: 0 | H24: 0 | L24: 0 | M24: 0 | N24: 0 | O24: 12 | P24: 5 | Q24: 34 | U24: 34 | V24: =IF(W24>=3,"Sí","No") -> Sí | W24: =COUNTA(H24,K24,N24,Q24,T24) -> 3 | Y24: =IFERROR(VLOOKUP(C24,Tabla15[[Piloto]:[Puntos clase]],6, FALSE), " ")
B25: 23 | C25: CARLOS VELÁZQUEZ RODRÍGUEZ | D25: 3 | E25: 2 | F25: 0 | G25: 1 | H25: 2 | I25: 1 | J25: 3 | K25: 8 | L25: 0 | M25: 0 | N25: 0 | O25: 2 | P25: 9 | Q25: 22 | R25: 0 | S25: 1 | T25: 1 | U25: 33 | V25: =IF(W25>=3,"Sí","No") -> Sí | W25: =COUNTA(H25,K25,N25,Q25,T25) -> 5 | Y25: =IFERROR(VLOOKUP(C25,Tabla15[[Piloto]:[Puntos clase]],6, FALSE), " ")
B26: 27 | C26: JOSÉ MARÍA CANO JIMÉNEZ | D26: * | E26: 2 | F26: 0 | G26: 3 | H26: 6 | I26: 0 | J26: 1 | K26: 2 | R26: 0 | S26: 7 | T26: 7 | U26: 15 | V26: =IF(W26>=3,"Sí","No") -> Sí | W26: =COUNTA(H26,K26,N26,Q26,T26) -> 3 | Y26: =IFERROR(VLOOKUP(C26,Tabla15[[Piloto]:[Puntos clase]],6, FALSE), " ")
E28: Se reparten el 50 % de los puntos de clase de acuerdo al art. 12.2.1 del RD CMT 2025
B30: No optan a las clasificaciones finales según Art. 11.3.1. PCCCTCM los siguientes pilotos:
F31: RS ALCARRIA | I31: RS GUADAMUR | L31: R CM-EL MOLAR | O31: RS NAVALCARNERO | R31: TCT N. BAZTÁN
B32: Pos | C32: PILOTO | D32: Clase | E32: RM | F32: 15 FEBRERO | I32: 5 ABRIL | L32: 11 OCTUBRE | O32: 8 NOVIEMBRE | R32: 29 NOVIEMBRE | U32: TOTAL
F33: sct | G33: cl | H33: total | I33: sct | J33: cl | K33: total | L33: sct | M33: cl | N33: total | O33: sct | P33: cl | Q33: total | R33: sct | S33: cl | T33: total
C34: ÓSCAR BUENO DE LA ROSA | D34: 1 | E34: 4 | L34: 12 | M34: 5 | N34: 51 | U34: 51
C35: ANTONIO OTERO MONTERO | D35: 1 | E35: 4 | F35: 14 | G35: 7 | H35: 42 | U35: 42
C36: SANTIAGO GARCÍA MARTÍN | D36: 3 | E36: 2 | L36: 2 | M36: 7 | N36: 27 | R36: 4 | S36: 5 | T36: 9 | U36: 36
C37: JOSÉ MARÍA GARCÍA SOLER | D37: 3 | E37: 2 | F37: 4 | G37: 9 | H37: 26 | N37: 0 | U37: 26
C38: JOSÉ MARÍA GARCÍA-VIÑÓ SÁNCHEZ | D38: 5 | E38: 2 | L38: 0 | M38: 5 | N38: 15 | O38: 0 | P38: 5 | Q38: 10 | U38: 25
C39: JAVIER ENCINAS ALARZA | D39: 1 | E39: 4 | F39: 0 | G39: 0 | H39: 0 | O39: 5 | P39: 3 | Q39: 16 | U39: 16
C40: ALEJANDRO VIÑAMBRES ROMERO | D40: 3 | E40: 2 | F40: 0 | G40: 0 | H40: 0 | O40: 0 | P40: 7 | Q40: 14 | U40: 14
C41: MANUEL SORIANO DÍAZ | D41: 2 | E41: 2 | F41: 0 | G41: 5 | H41: 10 | U41: 10
C42: IVÁN ALONSO MARÍN | D42: 5 | E42: 2 | L42: 0 | M42: 0 | N42: 0 | R42: 0 | S42: 9 | T42: 9 | U42: 9
...

Sheet POST MAQUEDA PARA WEB
B1: CAMPEONATO MADRILEÑO DE TIERRA 2026 | Y1: Ojo con Arts. 8.6 (Super-Rallye no puntúa ni bloquea), 9.4 (Todos madrileños puntúan y bloquean salvo que no hayan participado (autorizados) en el primer 50%), 9.5 (No madrileños puntúan solo si lo han pedido con art. 11.2.3 PCCCTCM), 12.2.1 (50% de puntos si nº de inscritos, autorizados y con derecho a puntuar y bloquear son 2 o menos) del RD CMT 2026. De las PCCCTCM importa el 11.3.1 (Clasifican si han sido autorizados a tomar salida en 3 pruebas como mínimo del CMA 2026 - 50%) y el 12.1 (Empates)
B2: CLASIFICACIÓN PROVISIONAL GENERAL DE PILOTOS | Y2: SE DESCARTA 1 PRUEBA SI HAY 6 O 7 EN TOTAL POR ART. 13.2 RD CMT 2026 (Si se ha participado/se está autorizado a participar en todas). DSQ no es descartable. En Copa Centro se descarta 1 (Menos DSQ y Todas con mismo coeficiente) y CKM se contabilizan todas y con 50% de puntos si se toma Super-Rallye.
F3: RS ALCARRIA | I3: TCT GUADAMUR | L3: TCT MAQUEDA | O3: RALLYE CAM | R3: RS NAVALCARNERO | U3: TCT NUEVO BAZTÁN
B4: Pos | C4: PILOTO | D4: Clase | E4: RM | F4: 14 FEBRERO | I4: 9 MAYO | L4: 12 SEPTIEMBRE | O4: 10 OCTUBRE | R4: 7 NOVIEMBRE | U4: 28 NOVIEMBRE | X4: TOTAL | Y4: ¿CLASIFICA? | Z4: PARTICIPACIÓN
F5: sct | G5: cl | H5: total | I5: sct | J5: cl | K5: total | L5: sct | M5: cl | N5: total | O5: sct | P5: cl | Q5: total | R5: sct | S5: cl | T5: total | U5: sct | V5: cl | W5: total
B6: 1 | C6: MANUEL GOMEZ-MANZANILLA JAVEGA | D6: =IFERROR(VLOOKUP(C6,Tabla15[[Piloto]:[Puntos clase]],7, FALSE), " ") -> 2 | E6: =LEFT(AB6,LEN(AB6)-2) -> 2 | F6: =IFERROR(VLOOKUP(C6,'01_RS ALCARRIA'!$D$6:$M$36,10,FALSE),"") -> 25 | G6: =IFERROR(VLOOKUP(C6,'01_RS ALCARRIA'!$D$6:$O$36,12,FALSE),"") -> 10 | H6: =(F6+G6)*2 -> 70 | I6: =IFERROR(VLOOKUP(C6,'02_TCT GUADAMUR'!$D$6:$M$36,10,FALSE),"") -> 17 | J6: =IFERROR(VLOOKUP(C6,'02_TCT GUADAMUR'!$D$6:$O$36,12,FALSE),"") -> 6 | K6: =(I6+J6) -> 23 | L6: =IFERROR(VLOOKUP(C6,'03_TCT MAQUEDA'!$D$6:$M$36,10,FALSE),"") -> 17 | M6: =IFERROR(VLOOKUP(C6,'03_TCT MAQUEDA'!$D$6:$O$36,12,FALSE),"") -> 10 | N6: =(L6+M6) -> 27 | X6: =H6+K6+N6+Q6+T6+W6 -> 120 | Y6: =IF(Z6>=3,"Sí","No") -> Sí | Z6: =COUNTA(H6,K6,N6,Q6,T6,W6) -> 3 | AB6: =IFERROR(VLOOKUP(C6,Tabla15[[Piloto]:[Puntos clase]],6, FALSE), " ") -> 2RM
B7: 2 | C7: MANUEL GOMEZ-MANZANILLA ARRABAL | D7: =IFERROR(VLOOKUP(C7,Tabla15[[Piloto]:[Puntos clase]],7, FALSE), " ") -> 2 | E7: =LEFT(AB7,LEN(AB7)-2) -> 2 | F7: =IFERROR(VLOOKUP(C7,'01_RS ALCARRIA'!$D$6:$M$36,10,FALSE),"") -> 20 | G7: =IFERROR(VLOOKUP(C7,'01_RS ALCARRIA'!$D$6:$O$36,12,FALSE),"") -> 8 | H7: =(F7+G7)*2 -> 56 | I7: =IFERROR(VLOOKUP(C7,'02_TCT GUADAMUR'!$D$6:$M$36,10,FALSE),"") -> 25 | J7: =IFERROR(VLOOKUP(C7,'02_TCT GUADAMUR'!$D$6:$O$36,12,FALSE),"") -> 10 | K7: =(I7+J7) -> 35 | L7: =IFERROR(VLOOKUP(C7,'03_TCT MAQUEDA'!$D$6:$M$36,10,FALSE),"") -> 15 | M7: =IFERROR(VLOOKUP(C7,'03_TCT MAQUEDA'!$D$6:$O$36,12,FALSE),"") -> 8 | N7: =(L7+M7) -> 23 | X7: =H7+K7+N7+Q7+T7+W7 -> 114 | Y7: =IF(Z7>=3,"Sí","No") -> Sí | Z7: =COUNTA(H7,K7,N7,Q7,T7,W7) -> 3 | AB7: =IFERROR(VLOOKUP(C7,Tabla15[[Piloto]:[Puntos clase]],6, FALSE), " ") -> 2RM
B8: 3 | C8: CRISTOFER CALERO CARRANZA | D8: =IFERROR(VLOOKUP(C8,Tabla15[[Piloto]:[Puntos clase]],7, FALSE), " ") -> 3 | E8: =LEFT(AB8,LEN(AB8)-2) -> 2 | F8: =IFERROR(VLOOKUP(C8,'01_RS ALCARRIA'!$D$6:$M$36,10,FALSE),"") -> 10 | G8: =IFERROR(VLOOKUP(C8,'01_RS ALCARRIA'!$D$6:$O$36,12,FALSE),"") -> 10 | H8: =(F8+G8)*2 -> 40 | I8: =IFERROR(VLOOKUP(C8,'02_TCT GUADAMUR'!$D$6:$M$36,10,FALSE),"") -> 10 | J8: =IFERROR(VLOOKUP(C8,'02_TCT GUADAMUR'!$D$6:$O$36,12,FALSE),"") -> 8 | K8: =(I8+J8) -> 18 | L8: =IFERROR(VLOOKUP(C8,'03_TCT MAQUEDA'!$D$6:$M$36,10,FALSE),"") -> 8 | M8: =IFERROR(VLOOKUP(C8,'03_TCT MAQUEDA'!$D$6:$O$36,12,FALSE),"") -> 10 | N8: =(L8+M8) -> 18 | X8: =H8+K8+N8+Q8+T8+W8 -> 76 | Y8: =IF(Z8>=3,"Sí","No") -> Sí | Z8: =COUNTA(H8,K8,N8,Q8,T8,W8) -> 3 | AB8: =IFERROR(VLOOKUP(C8,Tabla15[[Piloto]:[Puntos clase]],6, FALSE), " ") -> 2RM
B9: 4 | C9: JAVIER ENCINAS ALARZA | D9: =IFERROR(VLOOKUP(C9,Tabla15[[Piloto]:[Puntos clase]],7, FALSE), " ") -> 1 | E9: =LEFT(AB9,LEN(AB9)-2) -> 4 | F9: =IFERROR(VLOOKUP(C9,'01_RS ALCARRIA'!$D$6:$M$36,10,FALSE),"") -> 12 | G9: =IFERROR(VLOOKUP(C9,'01_RS ALCARRIA'!$D$6:$O$36,12,FALSE),"")/2 -> 4 | H9: =(F9+G9)*2 -> 32 | I9: =IFERROR(VLOOKUP(C9,'02_TCT GUADAMUR'!$D$6:$M$36,10,FALSE),"") -> 15 | J9: =IFERROR(VLOOKUP(C9,'02_TCT GUADAMUR'!$D$6:$O$36,12,FALSE),"") -> 10 | K9: =(I9+J9) -> 25 | L9: 0 | M9: 0 | N9: =(L9+M9) -> 0 | X9: =H9+K9+N9+Q9+T9+W9 -> 57 | Y9: =IF(Z9>=3,"Sí","No") -> Sí | Z9: =COUNTA(H9,K9,N9,Q9,T9,W9) -> 3 | AB9: =IFERROR(VLOOKUP(C9,Tabla15[[Piloto]:[Puntos clase]],6, FALSE), " ") -> 4RM
B10: 5 | C10: ALBERTO LUIS PEREZ | D10: =IFERROR(VLOOKUP(C10,Tabla15[[Piloto]:[Puntos clase]],7, FALSE), " ") -> 5 | E10: =LEFT(AB10,LEN(AB10)-2) -> 2 | F10: =IFERROR(VLOOKUP(C10,'01_RS ALCARRIA'!$D$6:$M$36,10,FALSE),"") -> 4 | G10: =IFERROR(VLOOKUP(C10,'01_RS ALCARRIA'!$D$6:$O$36,12,FALSE),"") -> 10 | H10: =(F10+G10)*2 -> 28 | I10: =IFERROR(VLOOKUP(C10,'02_TCT GUADAMUR'!$D$6:$M$36,10,FALSE),"") -> 8 | J10: =IFERROR(VLOOKUP(C10,'02_TCT GUADAMUR'!$D$6:$O$36,12,FALSE),"") -> 10 | K10: =(I10+J10) -> 18 | X10: =H10+K10+N10+Q10+T10+W10 -> 46 | Y10: =IF(Z10>=3,"Sí","No") -> No | Z10: =COUNTA(H10,K10,N10,Q10,T10,W10) -> 2 | AB10: =IFERROR(VLOOKUP(C10,Tabla15[[Piloto]:[Puntos clase]],6, FALSE), " ") -> 2RM
B11: 5 | C11: ANDRES LOPEZ ARCHILLA | D11: 2 | E11: 2 | I11: =IFERROR(VLOOKUP(C11,'02_TCT GUADAMUR'!$D$6:$M$36,10,FALSE),"") -> 20 | J11: =IFERROR(VLOOKUP(C11,'02_TCT GUADAMUR'!$D$6:$O$36,12,FALSE),"") -> 8 | K11: =(I11+J11) -> 28 | L11: =IFERROR(VLOOKUP(C11,'03_TCT MAQUEDA'!$D$6:$M$36,10,FALSE),"") -> 12 | M11: =IFERROR(VLOOKUP(C11,'03_TCT MAQUEDA'!$D$6:$O$36,12,FALSE),"") -> 6 | N11: =(L11+M11) -> 18 | X11: =H11+K11+N11+Q11+T11+W11 -> 46 | Y11: =IF(Z11>=3,"Sí","No") -> No | Z11: =COUNTA(H11,K11,N11,Q11,T11,W11) -> 2 | AB11: =IFERROR(VLOOKUP(C11,Tabla15[[Piloto]:[Puntos clase]],6, FALSE), " ")
B12: 7 | C12: DIEGO CRUZ MARTINEZ (-) | D12: =IFERROR(VLOOKUP(C12,Tabla15[[Piloto]:[Puntos clase]],7, FALSE), " ") -> 1 | E12: =LEFT(AB12,LEN(AB12)-2) -> 4 | F12: =IFERROR(VLOOKUP(C12,'01_RS ALCARRIA'!$D$6:$M$36,10,FALSE),"") -> 17 | G12: =IFERROR(VLOOKUP(C12,'01_RS ALCARRIA'!$D$6:$O$36,12,FALSE),"")/2 -> 5 | H12: =(F12+G12)*2 -> 44 | X12: =H12+K12+N12+Q12+T12+W12 -> 44 | Y12: =IF(Z12>=3,"Sí","No") -> No | Z12: =COUNTA(H12,K12,N12,Q12,T12,W12) -> 1 | AB12: =IFERROR(VLOOKUP(C12,Tabla15[[Piloto]:[Puntos clase]],6, FALSE), " ") -> 4RM
B13: 8 | C13: RUBEN GONZALEZ PEREZ | D13: 2 | E13: 2 | F13: =IFERROR(VLOOKUP(C13,'01_RS ALCARRIA'!$D$6:$M$36,10,FALSE),"") -> 15 | G13: =IFERROR(VLOOKUP(C13,'01_RS ALCARRIA'!$D$6:$O$36,12,FALSE),"") -> 6 | H13: =(F13+G13)*2 -> 42 | X13: =H13+K13+N13+Q13+T13+W13 -> 42 | Y13: =IF(Z13>=3,"Sí","No") -> No | Z13: =COUNTA(H13,K13,N13,Q13,T13,W13) -> 1 | AB13: =IFERROR(VLOOKUP(C13,Tabla15[[Piloto]:[Puntos clase]],6, FALSE), " ") -> 2RM
B14: 8 | C14: RAUL CARRASCO SEGOVIA | D14: =IFERROR(VLOOKUP(C14,Tabla15[[Piloto]:[Puntos clase]],7, FALSE), " ") -> 4 | E14: =LEFT(AB14,LEN(AB14)-2) -> 2 | F14: =IFERROR(VLOOKUP(C14,'01_RS ALCARRIA'!$D$6:$M$36,10,FALSE),"") -> 3 | G14: =IFERROR(VLOOKUP(C14,'01_RS ALCARRIA'!$D$6:$O$36,12,FALSE),"") -> 10 | H14: =(F14+G14)*2 -> 26 | I14: =IFERROR(VLOOKUP(C14,'02_TCT GUADAMUR'!$D$6:$M$36,10,FALSE),"") -> 6 | J14: =IFERROR(VLOOKUP(C14,'02_TCT GUADAMUR'!$D$6:$O$36,12,FALSE),"") -> 10 | K14: =(I14+J14) -> 16 | X14: =H14+K14+N14+Q14+T14+W14 -> 42 | Y14: =IF(Z14>=3,"Sí","No") -> No | Z14: =COUNTA(H14,K14,N14,Q14,T14,W14) -> 2 | AB14: =IFERROR(VLOOKUP(C14,Tabla15[[Piloto]:[Puntos clase]],6, FALSE), " ") -> 2RM
B15: 8 | C15: ALBERTO DORSCH BLANCO | D15: =IFERROR(VLOOKUP(C15,Tabla15[[Piloto]:[Puntos clase]],7, FALSE), " ") -> 4 | E15: =LEFT(AB15,LEN(AB15)-2) -> 2 | F15: =IFERROR(VLOOKUP(C15,'01_RS ALCARRIA'!$D$6:$M$36,10,FALSE),"") -> 2 | G15: =IFERROR(VLOOKUP(C15,'01_RS ALCARRIA'!$D$6:$O$36,12,FALSE),"") -> 8 | H15: =(F15+G15)*2 -> 20 | I15: =IFERROR(VLOOKUP(C15,'02_TCT GUADAMUR'!$D$6:$M$36,10,FALSE),"") -> 1 | J15: =IFERROR(VLOOKUP(C15,'02_TCT GUADAMUR'!$D$6:$O$36,12,FALSE),"") -> 8 | K15: =(I15+J15) -> 9 | L15: =IFERROR(VLOOKUP(C15,'03_TCT MAQUEDA'!$D$6:$M$36,10,FALSE),"") -> 5 | M15: =IFERROR(VLOOKUP(C15,'03_TCT MAQUEDA'!$D$6:$O$36,12,FALSE),"") -> 8 | N15: =(L15+M15) -> 13 | X15: =H15+K15+N15+Q15+T15+W15 -> 42 | Y15: =IF(Z15>=3,"Sí","No") -> Sí | Z15: =COUNTA(H15,K15,N15,Q15,T15,W15) -> 3 | AB15: =IFERROR(VLOOKUP(C15,Tabla15[[Piloto]:[Puntos clase]],6, FALSE), " ") -> 2RM
B16: 11 | C16: CARLOS VELAZQUEZ RODRIGUEZ | D16: =IFERROR(VLOOKUP(C16,Tabla15[[Piloto]:[Puntos clase]],7, FALSE), " ") -> 3 | E16: =LEFT(AB16,LEN(AB16)-2) -> 2 | F16: =IFERROR(VLOOKUP(C16,'01_RS ALCARRIA'!$D$6:$M$36,10,FALSE),"") -> 5 | G16: =IFERROR(VLOOKUP(C16,'01_RS ALCARRIA'!$D$6:$O$36,12,FALSE),"") -> 5 | H16: =(F16+G16)*2 -> 20 | I16: =IFERROR(VLOOKUP(C16,'02_TCT GUADAMUR'!$D$6:$M$36,10,FALSE),"") -> 3 | J16: =IFERROR(VLOOKUP(C16,'02_TCT GUADAMUR'!$D$6:$O$36,12,FALSE),"") -> 5 | K16: =(I16+J16) -> 8 | L16: =IFERROR(VLOOKUP(C16,'03_TCT MAQUEDA'!$D$6:$M$36,10,FALSE),"") -> 2 | M16: =IFERROR(VLOOKUP(C16,'03_TCT MAQUEDA'!$D$6:$O$36,12,FALSE),"") -> 6 | N16: =(L16+M16) -> 8 | X16: =H16+K16+N16+Q16+T16+W16 -> 36 | Y16: =IF(Z16>=3,"Sí","No") -> Sí | Z16: =COUNTA(H16,K16,N16,Q16,T16,W16) -> 3 | AB16: =IFERROR(VLOOKUP(C16,Tabla15[[Piloto]:[Puntos clase]],6, FALSE), " ") -> 2RM
B17: 12 | C17: JOSE MARIA SAN JOSE ROMERO | D17: 1 | E17: 4 | L17: =IFERROR(VLOOKUP(C17,'03_TCT MAQUEDA'!$D$6:$M$36,10,FALSE),"") -> 25 | M17: =IFERROR(VLOOKUP(C17,'03_TCT MAQUEDA'!$D$6:$O$36,12,FALSE),"") -> 10 | N17: =(L17+M17) -> 35 | X17: =H17+K17+N17+Q17+T17+W17 -> 35 | Y17: =IF(Z17>=3,"Sí","No") -> No | Z17: =COUNTA(H17,K17,N17,Q17,T17,W17) -> 1 | AB17: =IFERROR(VLOOKUP(C17,Tabla15[[Piloto]:[Puntos clase]],6, FALSE), " ")
B18: 13 | C18: SANTIAGO GARCIA MARTIN | D18: =IFERROR(VLOOKUP(C18,Tabla15[[Piloto]:[Puntos clase]],7, FALSE), " ") -> 3 | E18: =LEFT(AB18,LEN(AB18)-2) -> 2 | F18: =IFERROR(VLOOKUP(C18,'01_RS ALCARRIA'!$D$6:$M$36,10,FALSE),"") -> 8 | G18: =IFERROR(VLOOKUP(C18,'01_RS ALCARRIA'!$D$6:$O$36,12,FALSE),"") -> 8 | H18: =(F18+G18)*2 -> 32 | I18: 0 | J18: 0 | K18: =(I18+J18) -> 0 | X18: =H18+K18+N18+Q18+T18+W18 -> 32 | Y18: =IF(Z18>=3,"Sí","No") -> No | Z18: =COUNTA(H18,K18,N18,Q18,T18,W18) -> 2 | AB18: =IFERROR(VLOOKUP(C18,Tabla15[[Piloto]:[Puntos clase]],6, FALSE), " ") -> 2RM
B19: 13 | C19: IVAN AGUADO REOYO | D19: 4 | E19: 2 | F19: =IFERROR(VLOOKUP(C19,'01_RS ALCARRIA'!$D$6:$M$36,10,FALSE),"") -> 0 | G19: =IFERROR(VLOOKUP(C19,'01_RS ALCARRIA'!$D$6:$O$36,12,FALSE),"") -> 5 | H19: =(F19+G19)*2 -> 10 | I19: =IFERROR(VLOOKUP(C19,'02_TCT GUADAMUR'!$D$6:$M$36,10,FALSE),"") -> 0 | J19: =IFERROR(VLOOKUP(C19,'02_TCT GUADAMUR'!$D$6:$O$36,12,FALSE),"") -> 6 | K19: =(I19+J19) -> 6 | L19: =IFERROR(VLOOKUP(C19,'03_TCT MAQUEDA'!$D$6:$M$36,10,FALSE),"") -> 6 | M19: =IFERROR(VLOOKUP(C19,'03_TCT MAQUEDA'!$D$6:$O$36,12,FALSE),"") -> 10 | N19: =(L19+M19) -> 16 | X19: =H19+K19+N19+Q19+T19+W19 -> 32 | Y19: =IF(Z19>=3,"Sí","No") -> Sí | Z19: =COUNTA(H19,K19,N19,Q19,T19,W19) -> 3 | AB19: =IFERROR(VLOOKUP(C19,Tabla15[[Piloto]:[Puntos clase]],6, FALSE), " ") -> 2RM
B20: 15 | C20: ANTONIO OTERO MONTERO | D20: 1 | E20: 4 | L20: =IFERROR(VLOOKUP(C20,'03_TCT MAQUEDA'!$D$6:$M$36,10,FALSE),"") -> 20 | M20: =IFERROR(VLOOKUP(C20,'03_TCT MAQUEDA'!$D$6:$O$36,12,FALSE),"") -> 8 | N20: =(L20+M20) -> 28 | X20: =H20+K20+N20+Q20+T20+W20 -> 28 | Y20: =IF(Z20>=3,"Sí","No") -> No | Z20: =COUNTA(H20,K20,N20,Q20,T20,W20) -> 1 | AB20: =IFERROR(VLOOKUP(C20,Tabla15[[Piloto]:[Puntos clase]],6, FALSE), " ")
B21: 16 | C21: JOSE MARIA GARCIA-VIÑO SANCHEZ | D21: =IFERROR(VLOOKUP(C21,Tabla15[[Piloto]:[Puntos clase]],7, FALSE), " ") -> 3 | E21: =LEFT(AB21,LEN(AB21)-2) -> 2 | F21: =IFERROR(VLOOKUP(C21,'01_RS ALCARRIA'!$D$6:$M$36,10,FALSE),"") -> 6 | G21: =IFERROR(VLOOKUP(C21,'01_RS ALCARRIA'!$D$6:$O$36,12,FALSE),"") -> 6 | H21: =(F21+G21)*2 -> 24 | L21: 0 | M21: 0 | N21: =(L21+M21) -> 0 | X21: =H21+K21+N21+Q21+T21+W21 -> 24 | Y21: =IF(Z21>=3,"Sí","No") -> No | Z21: =COUNTA(H21,K21,N21,Q21,T21,W21) -> 2 | AB21: =IFERROR(VLOOKUP(C21,Tabla15[[Piloto]:[Puntos clase]],6, FALSE), " ") -> 2RM
B22: 17 | C22: DAVID DE LA OSA SANJUAN | D22: 3 | E22: 2 | I22: =IFERROR(VLOOKUP(C22,'02_TCT GUADAMUR'!$D$6:$M$36,10,FALSE),"") -> 12 | J22: =IFERROR(VLOOKUP(C22,'02_TCT GUADAMUR'!$D$6:$O$36,12,FALSE),"") -> 10 | K22: =(I22+J22) -> 22 | X22: =H22+K22+N22+Q22+T22+W22 -> 22 | Y22: =IF(Z22>=3,"Sí","No") -> No | Z22: =COUNTA(H22,K22,N22,Q22,T22,W22) -> 1 | AB22: =IFERROR(VLOOKUP(C22,Tabla15[[Piloto]:[Puntos clase]],6, FALSE), " ")
B23: 18 | C23: ANTONIO PEDROSA GORDILLO | D23: =IFERROR(VLOOKUP(C23,Tabla15[[Piloto]:[Puntos clase]],7, FALSE), " ") -> 5 | E23: =LEFT(AB23,LEN(AB23)-2) -> 2 | F23: 0 | G23: 0 | H23: =(F23+G23)*2 -> 0 | I23: =IFERROR(VLOOKUP(C23,'02_TCT GUADAMUR'!$D$6:$M$36,10,FALSE),"") -> 0 | J23: =IFERROR(VLOOKUP(C23,'02_TCT GUADAMUR'!$D$6:$O$36,12,FALSE),"") -> 6 | K23: =(I23+J23) -> 6 | L23: =IFERROR(VLOOKUP(C23,'03_TCT MAQUEDA'!$D$6:$M$36,10,FALSE),"") -> 10 | M23: =IFERROR(VLOOKUP(C23,'03_TCT MAQUEDA'!$D$6:$O$36,12,FALSE),"")/2 -> 5 | N23: =(L23+M23) -> 15 | X23: =H23+K23+N23+Q23+T23+W23 -> 21 | Y23: =IF(Z23>=3,"Sí","No") -> Sí | Z23: =COUNTA(H23,K23,N23,Q23,T23,W23) -> 3 | AB23: =IFERROR(VLOOKUP(C23,Tabla15[[Piloto]:[Puntos clase]],6, FALSE), " ") -> 2RM
B24: 19 | C24: MARIANO ALONSO GENTILE | D24: 4 | E24: =LEFT(AB24,LEN(AB24)-2) -> 2 | F24: =IFERROR(VLOOKUP(C24,'01_RS ALCARRIA'!$D$6:$M$36,10,FALSE),"") -> 0 | G24: =IFERROR(VLOOKUP(C24,'01_RS ALCARRIA'!$D$6:$O$36,12,FALSE),"") -> 6 | H24: =(F24+G24)*2 -> 12 | I24: =IFERROR(VLOOKUP(C24,'02_TCT GUADAMUR'!$D$6:$M$36,10,FALSE),"") -> 0 | J24: =IFERROR(VLOOKUP(C24,'02_TCT GUADAMUR'!$D$6:$O$36,12,FALSE),"") -> 5 | K24: =(I24+J24) -> 5 | X24: =H24+K24+N24+Q24+T24+W24 -> 17 | Y24: =IF(Z24>=3,"Sí","No") -> No | Z24: =COUNTA(H24,K24,N24,Q24,T24,W24) -> 2 | AB24: =IFERROR(VLOOKUP(C24,Tabla15[[Piloto]:[Puntos clase]],6, FALSE), " ") -> 2RM
B25: 20 | C25: PELI | D25: =IFERROR(VLOOKUP(C25,Tabla15[[Piloto]:[Puntos clase]],7, FALSE), " ") -> 3 | E25: =LEFT(AB25,LEN(AB25)-2) -> 2 | F25: =IFERROR(VLOOKUP(C25,'01_RS ALCARRIA'!$D$6:$M$36,10,FALSE),"") -> 0 | G25: =IFERROR(VLOOKUP(C25,'01_RS ALCARRIA'!$D$6:$O$36,12,FALSE),"") -> 0 | H25: =(F25+G25)*2 -> 0 | I25: =IFERROR(VLOOKUP(C25,'02_TCT GUADAMUR'!$D$6:$M$36,10,FALSE),"") -> 0 | J25: =IFERROR(VLOOKUP(C25,'02_TCT GUADAMUR'!$D$6:$O$36,12,FALSE),"") -> 1 | K25: =(I25+J25) -> 1 | L25: =IFERROR(VLOOKUP(C25,'03_TCT MAQUEDA'!$D$6:$M$36,10,FALSE),"") -> 4 | M25: =IFERROR(VLOOKUP(C25,'03_TCT MAQUEDA'!$D$6:$O$36,12,FALSE),"") -> 8 | N25: =(L25+M25) -> 12 | X25: =H25+K25+N25+Q25+T25+W25 -> 13 | Y25: =IF(Z25>=3,"Sí","No") -> Sí | Z25: =COUNTA(H25,K25,N25,Q25,T25,W25) -> 3 | AB25: =IFERROR(VLOOKUP(C25,Tabla15[[Piloto]:[Puntos clase]],6, FALSE), " ") -> 2RM
B26: 21 | C26: RUBEN VELAZQUEZ BERNARDO | D26: =IFERROR(VLOOKUP(C26,Tabla15[[Piloto]:[Puntos clase]],7, FALSE), " ") -> 5 | E26: =LEFT(AB26,LEN(AB26)-2) -> 4 | F26: 0 | G26: 0 | H26: =(F26+G26)*2 -> 0 | I26: =IFERROR(VLOOKUP(C26,'02_TCT GUADAMUR'!$D$6:$M$36,10,FALSE),"") -> 4 | J26: =IFERROR(VLOOKUP(C26,'02_TCT GUADAMUR'!$D$6:$O$36,12,FALSE),"") -> 8 | K26: =(I26+J26) -> 12 | X26: =H26+K26+N26+Q26+T26+W26 -> 12 | Y26: =IF(Z26>=3,"Sí","No") -> No | Z26: =COUNTA(H26,K26,N26,Q26,T26,W26) -> 2 | AB26: =IFERROR(VLOOKUP(C26,Tabla15[[Piloto]:[Puntos clase]],6, FALSE), " ") -> 4RM
B27: 22 | C27: ARMANDO GARCIA-MORENO LOPEZ | D27: 3 | E27: 2 | I27: =IFERROR(VLOOKUP(C27,'02_TCT GUADAMUR'!$D$6:$M$36,10,FALSE),"") -> 5 | J27: =IFERROR(VLOOKUP(C27,'02_TCT GUADAMUR'!$D$6:$O$36,12,FALSE),"") -> 6 | K27: =(I27+J27) -> 11 | L27: 0 | M27: 0 | N27: =(L27+M27) -> 0 | X27: =H27+K27+N27+Q27+T27+W27 -> 11 | Y27: =IF(Z27>=3,"Sí","No") -> No | Z27: =COUNTA(H27,K27,N27,Q27,T27,W27) -> 2 | AB27: =IFERROR(VLOOKUP(C27,Tabla15[[Piloto]:[Puntos clase]],6, FALSE), " ")
B28: 23 | C28: ALVARO MANZANO BONILLA | D28: 4 | E28: 2 | I28: =IFERROR(VLOOKUP(C28,'02_TCT GUADAMUR'!$D$6:$M$36,10,FALSE),"") -> 0 | J28: =IFERROR(VLOOKUP(C28,'02_TCT GUADAMUR'!$D$6:$O$36,12,FALSE),"") -> 3 | K28: =(I28+J28) -> 3 | L28: =IFERROR(VLOOKUP(C28,'03_TCT MAQUEDA'!$D$6:$M$36,10,FALSE),"") -> 0 | M28: =IFERROR(VLOOKUP(C28,'03_TCT MAQUEDA'!$D$6:$O$36,12,FALSE),"") -> 6 | N28: =(L28+M28) -> 6 | X28: =H28+K28+N28+Q28+T28+W28 -> 9 | Y28: =IF(Z28>=3,"Sí","No") -> No | Z28: =COUNTA(H28,K28,N28,Q28,T28,W28) -> 2 | AB28: =IFERROR(VLOOKUP(C28,Tabla15[[Piloto]:[Puntos clase]],6, FALSE), " ")
B29: 24 | C29: FRANCISCO DEL POZO MARTINEZ | D29: =IFERROR(VLOOKUP(C29,Tabla15[[Piloto]:[Puntos clase]],7, FALSE), " ") -> 3 | E29: =LEFT(AB29,LEN(AB29)-2) -> 2 | F29: =IFERROR(VLOOKUP(C29,'01_RS ALCARRIA'!$D$6:$M$36,10,FALSE),"") -> 1 | G29: =IFERROR(VLOOKUP(C29,'01_RS ALCARRIA'!$D$6:$O$36,12,FALSE),"") -> 3 | H29: =(F29+G29)*2 -> 8 | X29: =H29+K29+N29+Q29+T29+W29 -> 8 | Y29: =IF(Z29>=3,"Sí","No") -> No | Z29: =COUNTA(H29,K29,N29,Q29,T29,W29) -> 1 | AB29: =IFERROR(VLOOKUP(C29,Tabla15[[Piloto]:[Puntos clase]],6, FALSE), " ") -> 2RM
B30: 25 | C30: JULIAN GARCIA MUÑOZ | D30: 5 | E30: 2 | L30: =IFERROR(VLOOKUP(C30,'03_TCT MAQUEDA'!$D$6:$M$36,10,FALSE),"") -> 3 | M30: =IFERROR(VLOOKUP(C30,'03_TCT MAQUEDA'!$D$6:$O$36,12,FALSE),"")/2 -> 4 | N30: =(L30+M30) -> 7 | X30: =H30+K30+N30+Q30+T30+W30 -> 7 | Y30: =IF(Z30>=3,"Sí","No") -> No | Z30: =COUNTA(H30,K30,N30,Q30,T30,W30) -> 1 | AB30: =IFERROR(VLOOKUP(C30,Tabla15[[Piloto]:[Puntos clase]],6, FALSE), " ")
B31: 26 | C31: SERGIO VILLALBA TEJEDA | D31: 3 | E31: 2 | F31: 0 | G31: 0 | H31: =(F31+G31)*2 -> 0 | L31: =IFERROR(VLOOKUP(C31,'03_TCT MAQUEDA'!$D$6:$M$36,10,FALSE),"") -> 1 | M31: =IFERROR(VLOOKUP(C31,'03_TCT MAQUEDA'!$D$6:$O$36,12,FALSE),"") -> 5 | N31: =(L31+M31) -> 6 | X31: =H31+K31+N31+Q31+T31+W31 -> 6 | Y31: =IF(Z31>=3,"Sí","No") -> No | Z31: =COUNTA(H31,K31,N31,Q31,T31,W31) -> 2 | AB31: =IFERROR(VLOOKUP(C31,Tabla15[[Piloto]:[Puntos clase]],6, FALSE), " ") -> 2RM
B32: 26 | C32: GERMAN LOPEZ GARCIA | D32: 1 | E32: 4 | I32: 0 | J32: 0 | K32: =(I32+J32) -> 0 | L32: =IFERROR(VLOOKUP(C32,'03_TCT MAQUEDA'!$D$6:$M$36,10,FALSE),"") -> 0 | M32: =IFERROR(VLOOKUP(C32,'03_TCT MAQUEDA'!$D$6:$O$36,12,FALSE),"") -> 6 | N32: =(L32+M32) -> 6 | X32: =H32+K32+N32+Q32+T32+W32 -> 6 | Y32: =IF(Z32>=3,"Sí","No") -> No | Z32: =COUNTA(H32,K32,N32,Q32,T32,W32) -> 2 | AB32: =IFERROR(VLOOKUP(C32,Tabla15[[Piloto]:[Puntos clase]],6, FALSE), " ")
B33: 28 | C33: JOSE MANUEL CERRATO NOGUEIRA | D33: 3 | E33: 2 | F33: =IFERROR(VLOOKUP(C33,'01_RS ALCARRIA'!$D$6:$M$36,10,FALSE),"") -> 0 | G33: =IFERROR(VLOOKUP(C33,'01_RS ALCARRIA'!$D$6:$O$36,12,FALSE),"") -> 0 | H33: =(F33+G33)*2 -> 0 | I33: =IFERROR(VLOOKUP(C33,'02_TCT GUADAMUR'!$D$6:$M$36,10,FALSE),"") -> 2 | J33: =IFERROR(VLOOKUP(C33,'02_TCT GUADAMUR'!$D$6:$O$36,12,FALSE),"") -> 3 | K33: =(I33+J33) -> 5 | X33: =H33+K33+N33+Q33+T33+W33 -> 5 | Y33: =IF(Z33>=3,"Sí","No") -> No | Z33: =COUNTA(H33,K33,N33,Q33,T33,W33) -> 2 | AB33: =IFERROR(VLOOKUP(C33,Tabla15[[Piloto]:[Puntos clase]],6, FALSE), " ") -> 2RM
B34: 28 | C34: MANUEL SORIANO DIAZ | D34: =IFERROR(VLOOKUP(C34,Tabla15[[Piloto]:[Puntos clase]],7, FALSE), " ") -> 2 | E34: =LEFT(AB34,LEN(AB34)-2) -> 2 | F34: 0 | G34: 0 | H34: =(F34+G34)*2 -> 0 | I34: 0 | J34: 0 | K34: =(I34+J34) -> 0 | L34: =IFERROR(VLOOKUP(C34,'03_TCT MAQUEDA'!$D$6:$M$36,10,FALSE),"") -> 0 | M34: =IFERROR(VLOOKUP(C34,'03_TCT MAQUEDA'!$D$6:$O$36,12,FALSE),"") -> 5 | N34: =(L34+M34) -> 5 | X34: =H34+K34+N34+Q34+T34+W34 -> 5 | Y34: =IF(Z34>=3,"Sí","No") -> Sí | Z34: =COUNTA(H34,K34,N34,Q34,T34,W34) -> 3 | AB34: =IFERROR(VLOOKUP(C34,Tabla15[[Piloto]:[Puntos clase]],6, FALSE), " ") -> 2RM
B35: 28 | C35: SERGIO MARTIN SANCHEZ | D35: 2 | E35: 2 | I35: =IFERROR(VLOOKUP(C35,'02_TCT GUADAMUR'!$D$6:$M$36,10,FALSE),"") -> 0 | J35: =IFERROR(VLOOKUP(C35,'02_TCT GUADAMUR'!$D$6:$O$36,12,FALSE),"") -> 5 | K35: =(I35+J35) -> 5 | L35: 0 | M35: 0 | N35: =(L35+M35) -> 0 | X35: =H35+K35+N35+Q35+T35+W35 -> 5 | Y35: =IF(Z35>=3,"Sí","No") -> No | Z35: =COUNTA(H35,K35,N35,Q35,T35,W35) -> 2 | AB35: =IFERROR(VLOOKUP(C35,Tabla15[[Piloto]:[Puntos clase]],6, FALSE), " ")
B36: 28 | C36: MIGUEL ANGEL UREÑA GARCIA | D36: 4 | E36: 2 | I36: 0 | J36: 0 | K36: =(I36+J36) -> 0 | L36: =IFERROR(VLOOKUP(C36,'03_TCT MAQUEDA'!$D$6:$M$36,10,FALSE),"") -> 0 | M36: =IFERROR(VLOOKUP(C36,'03_TCT MAQUEDA'!$D$6:$O$36,12,FALSE),"") -> 5 | N36: =(L36+M36) -> 5 | X36: =H36+K36+N36+Q36+T36+W36 -> 5 | Y36: =IF(Z36>=3,"Sí","No") -> No | Z36: =COUNTA(H36,K36,N36,Q36,T36,W36) -> 2 | AB36: =IFERROR(VLOOKUP(C36,Tabla15[[Piloto]:[Puntos clase]],6, FALSE), " ")
B37: 32 | C37: MARCOS JOSE DEL CID JIMENEZ | D37: =IFERROR(VLOOKUP(C37,Tabla15[[Piloto]:[Puntos clase]],7, FALSE), " ") -> 3 | E37: =LEFT(AB37,LEN(AB37)-2) -> 2 | F37: =IFERROR(VLOOKUP(C37,'01_RS ALCARRIA'!$D$6:$M$36,10,FALSE),"") -> 0 | G37: =IFERROR(VLOOKUP(C37,'01_RS ALCARRIA'!$D$6:$O$36,12,FALSE),"") -> 0 | H37: =(F37+G37)*2 -> 0 | I37: =IFERROR(VLOOKUP(C37,'02_TCT GUADAMUR'!$D$6:$M$36,10,FALSE),"") -> 0 | J37: =IFERROR(VLOOKUP(C37,'02_TCT GUADAMUR'!$D$6:$O$36,12,FALSE),"") -> 0 | K37: =(I37+J37) -> 0 | L37: =IFERROR(VLOOKUP(C37,'03_TCT MAQUEDA'!$D$6:$M$36,10,FALSE),"") -> 0 | M37: =IFERROR(VLOOKUP(C37,'03_TCT MAQUEDA'!$D$6:$O$36,12,FALSE),"") -> 3 | N37: =(L37+M37) -> 3 | X37: =H37+K37+N37+Q37+T37+W37 -> 3 | Y37: =IF(Z37>=3,"Sí","No") -> Sí | Z37: =COUNTA(H37,K37,N37,Q37,T37,W37) -> 3 | AB37: =IFERROR(VLOOKUP(C37,Tabla15[[Piloto]:[Puntos clase]],6, FALSE), " ") -> 2RM
B38: 33 | C38: JULIO MARTIN AGUDO | D38: =IFERROR(VLOOKUP(C38,Tabla15[[Piloto]:[Puntos clase]],7, FALSE), " ") -> 3 | E38: =LEFT(AB38,LEN(AB38)-2) -> 2 | F38: =IFERROR(VLOOKUP(C38,'01_RS ALCARRIA'!$D$6:$M$36,10,FALSE),"") -> 0 | G38: =IFERROR(VLOOKUP(C38,'01_RS ALCARRIA'!$D$6:$O$36,12,FALSE),"") -> 1 | H38: =(F38+G38)*2 -> 2 | I38: =IFERROR(VLOOKUP(C38,'02_TCT GUADAMUR'!$D$6:$M$36,10,FALSE),"") -> 0 | J38: =IFERROR(VLOOKUP(C38,'02_TCT GUADAMUR'!$D$6:$O$36,12,FALSE),"") -> 0 | K38: =(I38+J38) -> 0 | L38: 0 | M38: 0 | N38: =(L38+M38) -> 0 | X38: =H38+K38+N38+Q38+T38+W38 -> 2 | Y38: =IF(Z38>=3,"Sí","No") -> Sí | Z38: =COUNTA(H38,K38,N38,Q38,T38,W38) -> 3 | AB38: =IFERROR(VLOOKUP(C38,Tabla15[[Piloto]:[Puntos clase]],6, FALSE), " ") -> 2RM
B39: 34 | C39: ALEJANDRO VIÑAMBRES ROMERO | D39: =IFERROR(VLOOKUP(C39,Tabla15[[Piloto]:[Puntos clase]],7, FALSE), " ") -> 3 | E39: 2 | F39: =IFERROR(VLOOKUP(C39,'01_RS ALCARRIA'!$D$6:$M$36,10,FALSE),"") -> 0 | G39: =IFERROR(VLOOKUP(C39,'01_RS ALCARRIA'!$D$6:$O$36,12,FALSE),"") -> 0 | H39: =(F39+G39)*2 -> 0 | L39: =IFERROR(VLOOKUP(C39,'03_TCT MAQUEDA'!$D$6:$M$36,10,FALSE),"") -> 0 | M39: =IFERROR(VLOOKUP(C39,'03_TCT MAQUEDA'!$D$6:$O$36,12,FALSE),"") -> 1 | N39: =(L39+M39) -> 1 | X39: =H39+K39+N39+Q39+T39+W39 -> 1 | Y39: =IF(Z39>=3,"Sí","No") -> No | Z39: =COUNTA(H39,K39,N39,Q39,T39,W39) -> 2
B40: - | C40: VICTOR GARRIDO GONZALEZ | D40: =IFERROR(VLOOKUP(C40,Tabla15[[Piloto]:[Puntos clase]],7, FALSE), " ") -> 3 | E40: 2 | F40: =IFERROR(VLOOKUP(C40,'01_RS ALCARRIA'!$D$6:$M$36,10,FALSE),"") -> 0 | G40: =IFERROR(VLOOKUP(C40,'01_RS ALCARRIA'!$D$6:$O$36,12,FALSE),"") -> 0 | H40: =(F40+G40)*2 -> 0 | X40: =H40+K40+N40+Q40+T40+W40 -> 0
...

Sheet POST GUADAMUR PARA WEB
B1: CAMPEONATO MADRILEÑO DE TIERRA 2026 | Y1: Ojo con Arts. 8.6 (Super-Rallye no puntúa ni bloquea), 9.4 (Todos madrileños puntúan y bloquean salvo que no hayan participado (autorizados) en el primer 50%), 9.5 (No madrileños puntúan solo si lo han pedido con art. 11.2.3 PCCCTCM), 12.2.1 (50% de puntos si nº de inscritos, autorizados y con derecho a puntuar y bloquear son 2 o menos) del RD CMT 2026. De las PCCCTCM importa el 11.3.1 (Clasifican si han sido autorizados a tomar salida en 3 pruebas como mínimo del CMA 2026 - 50%) y el 12.1 (Empates)
B2: CLASIFICACIÓN PROVISIONAL GENERAL DE PILOTOS | Y2: SE DESCARTA 1 PRUEBA SI HAY 6 O 7 EN TOTAL POR ART. 13.2 RD CMT 2026 (Si se ha participado/se está autorizado a participar en todas). DSQ no es descartable. En Copa Centro se descarta 1 (Menos DSQ y Todas con mismo coeficiente) y CKM se contabilizan todas y con 50% de puntos si se toma Super-Rallye.
F3: RS ALCARRIA | I3: TCT GUADAMUR | L3: TCT MAQUEDA | O3: RALLYE CAM | R3: RS NAVALCARNERO | U3: TCT NUEVO BAZTÁN
B4: Pos | C4: PILOTO | D4: Clase | E4: RM | F4: 14 FEBRERO | I4: 9 MAYO | L4: 12 SEPTIEMBRE | O4: 10 OCTUBRE | R4: 7 NOVIEMBRE | U4: 28 NOVIEMBRE | X4: TOTAL | Y4: ¿CLASIFICA? | Z4: PARTICIPACIÓN
F5: sct | G5: cl | H5: total | I5: sct | J5: cl | K5: total | L5: sct | M5: cl | N5: total | O5: sct | P5: cl | Q5: total | R5: sct | S5: cl | T5: total | U5: sct | V5: cl | W5: total
B6: 1 | C6: MANUEL GOMEZ-MANZANILLA JAVEGA | D6: =IFERROR(VLOOKUP(C6,Tabla15[[Piloto]:[Puntos clase]],7, FALSE), " ") -> 2 | E6: =LEFT(AB6,LEN(AB6)-2) -> 2 | F6: =IFERROR(VLOOKUP(C6,'01_RS ALCARRIA'!$D$6:$M$36,10,FALSE),"") -> 25 | G6: =IFERROR(VLOOKUP(C6,'01_RS ALCARRIA'!$D$6:$O$36,12,FALSE),"") -> 10 | H6: =(F6+G6)*2 -> 70 | I6: =IFERROR(VLOOKUP(C6,'02_TCT GUADAMUR'!$D$6:$M$36,10,FALSE),"") -> 17 | J6: =IFERROR(VLOOKUP(C6,'02_TCT GUADAMUR'!$D$6:$O$36,12,FALSE),"") -> 6 | K6: =(I6+J6) -> 23 | X6: =H6+K6+N6+Q6+T6+W6 -> 93 | Y6: =IF(Z6>=3,"Sí","No") -> No | Z6: =COUNTA(H6,K6,N6,Q6,T6,W6) -> 2 | AB6: =IFERROR(VLOOKUP(C6,Tabla15[[Piloto]:[Puntos clase]],6, FALSE), " ") -> 2RM
B7: 2 | C7: MANUEL GOMEZ-MANZANILLA ARRABAL | D7: =IFERROR(VLOOKUP(C7,Tabla15[[Piloto]:[Puntos clase]],7, FALSE), " ") -> 2 | E7: =LEFT(AB7,LEN(AB7)-2) -> 2 | F7: =IFERROR(VLOOKUP(C7,'01_RS ALCARRIA'!$D$6:$M$36,10,FALSE),"") -> 20 | G7: =IFERROR(VLOOKUP(C7,'01_RS ALCARRIA'!$D$6:$O$36,12,FALSE),"") -> 8 | H7: =(F7+G7)*2 -> 56 | I7: =IFERROR(VLOOKUP(C7,'02_TCT GUADAMUR'!$D$6:$M$36,10,FALSE),"") -> 25 | J7: =IFERROR(VLOOKUP(C7,'02_TCT GUADAMUR'!$D$6:$O$36,12,FALSE),"") -> 10 | K7: =(I7+J7) -> 35 | X7: =H7+K7+N7+Q7+T7+W7 -> 91 | Y7: =IF(Z7>=3,"Sí","No") -> No | Z7: =COUNTA(H7,K7,N7,Q7,T7,W7) -> 2 | AB7: =IFERROR(VLOOKUP(C7,Tabla15[[Piloto]:[Puntos clase]],6, FALSE), " ") -> 2RM
B8: 3 | C8: CRISTOFER CALERO CARRANZA | D8: =IFERROR(VLOOKUP(C8,Tabla15[[Piloto]:[Puntos clase]],7, FALSE), " ") -> 3 | E8: =LEFT(AB8,LEN(AB8)-2) -> 2 | F8: =IFERROR(VLOOKUP(C8,'01_RS ALCARRIA'!$D$6:$M$36,10,FALSE),"") -> 10 | G8: =IFERROR(VLOOKUP(C8,'01_RS ALCARRIA'!$D$6:$O$36,12,FALSE),"") -> 10 | H8: =(F8+G8)*2 -> 40 | I8: =IFERROR(VLOOKUP(C8,'02_TCT GUADAMUR'!$D$6:$M$36,10,FALSE),"") -> 10 | J8: =IFERROR(VLOOKUP(C8,'02_TCT GUADAMUR'!$D$6:$O$36,12,FALSE),"") -> 8 | K8: =(I8+J8) -> 18 | X8: =H8+K8+N8+Q8+T8+W8 -> 58 | Y8: =IF(Z8>=3,"Sí","No") -> No | Z8: =COUNTA(H8,K8,N8,Q8,T8,W8) -> 2 | AB8: =IFERROR(VLOOKUP(C8,Tabla15[[Piloto]:[Puntos clase]],6, FALSE), " ") -> 2RM
B9: 4 | C9: JAVIER ENCINAS ALARZA | D9: =IFERROR(VLOOKUP(C9,Tabla15[[Piloto]:[Puntos clase]],7, FALSE), " ") -> 1 | E9: =LEFT(AB9,LEN(AB9)-2) -> 4 | F9: =IFERROR(VLOOKUP(C9,'01_RS ALCARRIA'!$D$6:$M$36,10,FALSE),"") -> 12 | G9: =IFERROR(VLOOKUP(C9,'01_RS ALCARRIA'!$D$6:$O$36,12,FALSE),"")/2 -> 4 | H9: =(F9+G9)*2 -> 32 | I9: =IFERROR(VLOOKUP(C9,'02_TCT GUADAMUR'!$D$6:$M$36,10,FALSE),"") -> 15 | J9: =IFERROR(VLOOKUP(C9,'02_TCT GUADAMUR'!$D$6:$O$36,12,FALSE),"") -> 10 | K9: =(I9+J9) -> 25 | X9: =H9+K9+N9+Q9+T9+W9 -> 57 | Y9: =IF(Z9>=3,"Sí","No") -> No | Z9: =COUNTA(H9,K9,N9,Q9,T9,W9) -> 2 | AB9: =IFERROR(VLOOKUP(C9,Tabla15[[Piloto]:[Puntos clase]],6, FALSE), " ") -> 4RM
B10: 5 | C10: ALBERTO LUIS PEREZ | D10: =IFERROR(VLOOKUP(C10,Tabla15[[Piloto]:[Puntos clase]],7, FALSE), " ") -> 5 | E10: =LEFT(AB10,LEN(AB10)-2) -> 2 | F10: =IFERROR(VLOOKUP(C10,'01_RS ALCARRIA'!$D$6:$M$36,10,FALSE),"") -> 4 | G10: =IFERROR(VLOOKUP(C10,'01_RS ALCARRIA'!$D$6:$O$36,12,FALSE),"") -> 10 | H10: =(F10+G10)*2 -> 28 | I10: =IFERROR(VLOOKUP(C10,'02_TCT GUADAMUR'!$D$6:$M$36,10,FALSE),"") -> 8 | J10: =IFERROR(VLOOKUP(C10,'02_TCT GUADAMUR'!$D$6:$O$36,12,FALSE),"") -> 10 | K10: =(I10+J10) -> 18 | X10: =H10+K10+N10+Q10+T10+W10 -> 46 | Y10: =IF(Z10>=3,"Sí","No") -> No | Z10: =COUNTA(H10,K10,N10,Q10,T10,W10) -> 2 | AB10: =IFERROR(VLOOKUP(C10,Tabla15[[Piloto]:[Puntos clase]],6, FALSE), " ") -> 2RM
B11: 6 | C11: DIEGO CRUZ MARTINEZ (-) | D11: =IFERROR(VLOOKUP(C11,Tabla15[[Piloto]:[Puntos clase]],7, FALSE), " ") -> 1 | E11: =LEFT(AB11,LEN(AB11)-2) -> 4 | F11: =IFERROR(VLOOKUP(C11,'01_RS ALCARRIA'!$D$6:$M$36,10,FALSE),"") -> 17 | G11: =IFERROR(VLOOKUP(C11,'01_RS ALCARRIA'!$D$6:$O$36,12,FALSE),"")/2 -> 5 | H11: =(F11+G11)*2 -> 44 | X11: =H11+K11+N11+Q11+T11+W11 -> 44 | Y11: =IF(Z11>=3,"Sí","No") -> No | Z11: =COUNTA(H11,K11,N11,Q11,T11,W11) -> 1 | AB11: =IFERROR(VLOOKUP(C11,Tabla15[[Piloto]:[Puntos clase]],6, FALSE), " ") -> 4RM
B12: 7 | C12: RUBEN GONZALEZ PEREZ | D12: 2 | E12: 2 | F12: =IFERROR(VLOOKUP(C12,'01_RS ALCARRIA'!$D$6:$M$36,10,FALSE),"") -> 15 | G12: =IFERROR(VLOOKUP(C12,'01_RS ALCARRIA'!$D$6:$O$36,12,FALSE),"") -> 6 | H12: =(F12+G12)*2 -> 42 | X12: =H12+K12+N12+Q12+T12+W12 -> 42 | Y12: =IF(Z12>=3,"Sí","No") -> No | Z12: =COUNTA(H12,K12,N12,Q12,T12,W12) -> 1 | AB12: =IFERROR(VLOOKUP(C12,Tabla15[[Piloto]:[Puntos clase]],6, FALSE), " ") -> 2RM
B13: 7 | C13: RAUL CARRASCO SEGOVIA | D13: =IFERROR(VLOOKUP(C13,Tabla15[[Piloto]:[Puntos clase]],7, FALSE), " ") -> 4 | E13: =LEFT(AB13,LEN(AB13)-2) -> 2 | F13: =IFERROR(VLOOKUP(C13,'01_RS ALCARRIA'!$D$6:$M$36,10,FALSE),"") -> 3 | G13: =IFERROR(VLOOKUP(C13,'01_RS ALCARRIA'!$D$6:$O$36,12,FALSE),"") -> 10 | H13: =(F13+G13)*2 -> 26 | I13: =IFERROR(VLOOKUP(C13,'02_TCT GUADAMUR'!$D$6:$M$36,10,FALSE),"") -> 6 | J13: =IFERROR(VLOOKUP(C13,'02_TCT GUADAMUR'!$D$6:$O$36,12,FALSE),"") -> 10 | K13: =(I13+J13) -> 16 | X13: =H13+K13+N13+Q13+T13+W13 -> 42 | Y13: =IF(Z13>=3,"Sí","No") -> No | Z13: =COUNTA(H13,K13,N13,Q13,T13,W13) -> 2 | AB13: =IFERROR(VLOOKUP(C13,Tabla15[[Piloto]:[Puntos clase]],6, FALSE), " ") -> 2RM
B14: 9 | C14: SANTIAGO GARCIA MARTIN | D14: =IFERROR(VLOOKUP(C14,Tabla15[[Piloto]:[Puntos clase]],7, FALSE), " ") -> 3 | E14: =LEFT(AB14,LEN(AB14)-2) -> 2 | F14: =IFERROR(VLOOKUP(C14,'01_RS ALCARRIA'!$D$6:$M$36,10,FALSE),"") -> 8 | G14: =IFERROR(VLOOKUP(C14,'01_RS ALCARRIA'!$D$6:$O$36,12,FALSE),"") -> 8 | H14: =(F14+G14)*2 -> 32 | I14: 0 | J14: 0 | K14: =(I14+J14) -> 0 | X14: =H14+K14+N14+Q14+T14+W14 -> 32 | Y14: =IF(Z14>=3,"Sí","No") -> No | Z14: =COUNTA(H14,K14,N14,Q14,T14,W14) -> 2 | AB14: =IFERROR(VLOOKUP(C14,Tabla15[[Piloto]:[Puntos clase]],6, FALSE), " ") -> 2RM
B15: 10 | C15: ALBERTO DORSCH BLANCO | D15: =IFERROR(VLOOKUP(C15,Tabla15[[Piloto]:[Puntos clase]],7, FALSE), " ") -> 4 | E15: =LEFT(AB15,LEN(AB15)-2) -> 2 | F15: =IFERROR(VLOOKUP(C15,'01_RS ALCARRIA'!$D$6:$M$36,10,FALSE),"") -> 2 | G15: =IFERROR(VLOOKUP(C15,'01_RS ALCARRIA'!$D$6:$O$36,12,FALSE),"") -> 8 | H15: =(F15+G15)*2 -> 20 | I15: =IFERROR(VLOOKUP(C15,'02_TCT GUADAMUR'!$D$6:$M$36,10,FALSE),"") -> 1 | J15: =IFERROR(VLOOKUP(C15,'02_TCT GUADAMUR'!$D$6:$O$36,12,FALSE),"") -> 8 | K15: =(I15+J15) -> 9 | X15: =H15+K15+N15+Q15+T15+W15 -> 29 | Y15: =IF(Z15>=3,"Sí","No") -> No | Z15: =COUNTA(H15,K15,N15,Q15,T15,W15) -> 2 | AB15: =IFERROR(VLOOKUP(C15,Tabla15[[Piloto]:[Puntos clase]],6, FALSE), " ") -> 2RM
B16: 11 | C16: CARLOS VELAZQUEZ RODRIGUEZ | D16: =IFERROR(VLOOKUP(C16,Tabla15[[Piloto]:[Puntos clase]],7, FALSE), " ") -> 3 | E16: =LEFT(AB16,LEN(AB16)-2) -> 2 | F16: =IFERROR(VLOOKUP(C16,'01_RS ALCARRIA'!$D$6:$M$36,10,FALSE),"") -> 5 | G16: =IFERROR(VLOOKUP(C16,'01_RS ALCARRIA'!$D$6:$O$36,12,FALSE),"") -> 5 | H16: =(F16+G16)*2 -> 20 | I16: =IFERROR(VLOOKUP(C16,'02_TCT GUADAMUR'!$D$6:$M$36,10,FALSE),"") -> 3 | J16: =IFERROR(VLOOKUP(C16,'02_TCT GUADAMUR'!$D$6:$O$36,12,FALSE),"") -> 5 | K16: =(I16+J16) -> 8 | X16: =H16+K16+N16+Q16+T16+W16 -> 28 | Y16: =IF(Z16>=3,"Sí","No") -> No | Z16: =COUNTA(H16,K16,N16,Q16,T16,W16) -> 2 | AB16: =IFERROR(VLOOKUP(C16,Tabla15[[Piloto]:[Puntos clase]],6, FALSE), " ") -> 2RM
B17: 11 | C17: ANDRES LOPEZ ARCHILLA | D17: 2 | E17: 2 | I17: =IFERROR(VLOOKUP(C17,'02_TCT GUADAMUR'!$D$6:$M$36,10,FALSE),"") -> 20 | J17: =IFERROR(VLOOKUP(C17,'02_TCT GUADAMUR'!$D$6:$O$36,12,FALSE),"") -> 8 | K17: =(I17+J17) -> 28 | X17: =H17+K17+N17+Q17+T17+W17 -> 28 | Y17: =IF(Z17>=3,"Sí","No") -> No | Z17: =COUNTA(H17,K17,N17,Q17,T17,W17) -> 1 | AB17: =IFERROR(VLOOKUP(C17,Tabla15[[Piloto]:[Puntos clase]],6, FALSE), " ")
B18: 13 | C18: JOSE MARIA GARCIA-VIÑO SANCHEZ | D18: =IFERROR(VLOOKUP(C18,Tabla15[[Piloto]:[Puntos clase]],7, FALSE), " ") -> 3 | E18: =LEFT(AB18,LEN(AB18)-2) -> 2 | F18: =IFERROR(VLOOKUP(C18,'01_RS ALCARRIA'!$D$6:$M$36,10,FALSE),"") -> 6 | G18: =IFERROR(VLOOKUP(C18,'01_RS ALCARRIA'!$D$6:$O$36,12,FALSE),"") -> 6 | H18: =(F18+G18)*2 -> 24 | X18: =H18+K18+N18+Q18+T18+W18 -> 24 | Y18: =IF(Z18>=3,"Sí","No") -> No | Z18: =COUNTA(H18,K18,N18,Q18,T18,W18) -> 1 | AB18: =IFERROR(VLOOKUP(C18,Tabla15[[Piloto]:[Puntos clase]],6, FALSE), " ") -> 2RM
B19: 14 | C19: DAVID DE LA OSA SANJUAN | D19: 3 | E19: 2 | I19: =IFERROR(VLOOKUP(C19,'02_TCT GUADAMUR'!$D$6:$M$36,10,FALSE),"") -> 12 | J19: =IFERROR(VLOOKUP(C19,'02_TCT GUADAMUR'!$D$6:$O$36,12,FALSE),"") -> 10 | K19: =(I19+J19) -> 22 | X19: =H19+K19+N19+Q19+T19+W19 -> 22 | Y19: =IF(Z19>=3,"Sí","No") -> No | Z19: =COUNTA(H19,K19,N19,Q19,T19,W19) -> 1 | AB19: =IFERROR(VLOOKUP(C19,Tabla15[[Piloto]:[Puntos clase]],6, FALSE), " ")
B20: 15 | C20: MARIANO ALONSO GENTILE | D20: 4 | E20: =LEFT(AB20,LEN(AB20)-2) -> 2 | F20: =IFERROR(VLOOKUP(C20,'01_RS ALCARRIA'!$D$6:$M$36,10,FALSE),"") -> 0 | G20: =IFERROR(VLOOKUP(C20,'01_RS ALCARRIA'!$D$6:$O$36,12,FALSE),"") -> 6 | H20: =(F20+G20)*2 -> 12 | I20: =IFERROR(VLOOKUP(C20,'02_TCT GUADAMUR'!$D$6:$M$36,10,FALSE),"") -> 0 | J20: =IFERROR(VLOOKUP(C20,'02_TCT GUADAMUR'!$D$6:$O$36,12,FALSE),"") -> 5 | K20: =(I20+J20) -> 5 | X20: =H20+K20+N20+Q20+T20+W20 -> 17 | Y20: =IF(Z20>=3,"Sí","No") -> No | Z20: =COUNTA(H20,K20,N20,Q20,T20,W20) -> 2 | AB20: =IFERROR(VLOOKUP(C20,Tabla15[[Piloto]:[Puntos clase]],6, FALSE), " ") -> 2RM
B21: 16 | C21: IVAN AGUADO REOYO | D21: 4 | E21: 2 | F21: =IFERROR(VLOOKUP(C21,'01_RS ALCARRIA'!$D$6:$M$36,10,FALSE),"") -> 0 | G21: =IFERROR(VLOOKUP(C21,'01_RS ALCARRIA'!$D$6:$O$36,12,FALSE),"") -> 5 | H21: =(F21+G21)*2 -> 10 | I21: =IFERROR(VLOOKUP(C21,'02_TCT GUADAMUR'!$D$6:$M$36,10,FALSE),"") -> 0 | J21: =IFERROR(VLOOKUP(C21,'02_TCT GUADAMUR'!$D$6:$O$36,12,FALSE),"") -> 6 | K21: =(I21+J21) -> 6 | X21: =H21+K21+N21+Q21+T21+W21 -> 16 | Y21: =IF(Z21>=3,"Sí","No") -> No | Z21: =COUNTA(H21,K21,N21,Q21,T21,W21) -> 2 | AB21: =IFERROR(VLOOKUP(C21,Tabla15[[Piloto]:[Puntos clase]],6, FALSE), " ") -> 2RM
B22: 17 | C22: RUBEN VELAZQUEZ BERNARDO | D22: =IFERROR(VLOOKUP(C22,Tabla15[[Piloto]:[Puntos clase]],7, FALSE), " ") -> 5 | E22: =LEFT(AB22,LEN(AB22)-2) -> 4 | F22: 0 | G22: 0 | H22: =(F22+G22) -> 0 | I22: =IFERROR(VLOOKUP(C22,'02_TCT GUADAMUR'!$D$6:$M$36,10,FALSE),"") -> 4 | J22: =IFERROR(VLOOKUP(C22,'02_TCT GUADAMUR'!$D$6:$O$36,12,FALSE),"") -> 8 | K22: =(I22+J22) -> 12 | X22: =H22+K22+N22+Q22+T22+W22 -> 12 | Y22: =IF(Z22>=3,"Sí","No") -> No | Z22: =COUNTA(H22,K22,N22,Q22,T22,W22) -> 2 | AB22: =IFERROR(VLOOKUP(C22,Tabla15[[Piloto]:[Puntos clase]],6, FALSE), " ") -> 4RM
B23: 18 | C23: ARMANDO GARCIA-MORENO LOPEZ | D23: 3 | E23: 2 | I23: =IFERROR(VLOOKUP(C23,'02_TCT GUADAMUR'!$D$6:$M$36,10,FALSE),"") -> 5 | J23: =IFERROR(VLOOKUP(C23,'02_TCT GUADAMUR'!$D$6:$O$36,12,FALSE),"") -> 6 | K23: =(I23+J23) -> 11 | X23: =H23+K23+N23+Q23+T23+W23 -> 11 | Y23: =IF(Z23>=3,"Sí","No") -> No | Z23: =COUNTA(H23,K23,N23,Q23,T23,W23) -> 1 | AB23: =IFERROR(VLOOKUP(C23,Tabla15[[Piloto]:[Puntos clase]],6, FALSE), " ")
B24: 19 | C24: FRANCISCO DEL POZO MARTINEZ | D24: =IFERROR(VLOOKUP(C24,Tabla15[[Piloto]:[Puntos clase]],7, FALSE), " ") -> 3 | E24: =LEFT(AB24,LEN(AB24)-2) -> 2 | F24: =IFERROR(VLOOKUP(C24,'01_RS ALCARRIA'!$D$6:$M$36,10,FALSE),"") -> 1 | G24: =IFERROR(VLOOKUP(C24,'01_RS ALCARRIA'!$D$6:$O$36,12,FALSE),"") -> 3 | H24: =(F24+G24)*2 -> 8 | X24: =H24+K24+N24+Q24+T24+W24 -> 8 | Y24: =IF(Z24>=3,"Sí","No") -> No | Z24: =COUNTA(H24,K24,N24,Q24,T24,W24) -> 1 | AB24: =IFERROR(VLOOKUP(C24,Tabla15[[Piloto]:[Puntos clase]],6, FALSE), " ") -> 2RM
B25: 20 | C25: ANTONIO PEDROSA GORDILLO | D25: =IFERROR(VLOOKUP(C25,Tabla15[[Piloto]:[Puntos clase]],7, FALSE), " ") -> 5 | E25: =LEFT(AB25,LEN(AB25)-2) -> 2 | F25: 0 | G25: 0 | H25: =(F25+G25) -> 0 | I25: =IFERROR(VLOOKUP(C25,'02_TCT GUADAMUR'!$D$6:$M$36,10,FALSE),"") -> 0 | J25: =IFERROR(VLOOKUP(C25,'02_TCT GUADAMUR'!$D$6:$O$36,12,FALSE),"") -> 6 | K25: =(I25+J25) -> 6 | X25: =H25+K25+N25+Q25+T25+W25 -> 6 | Y25: =IF(Z25>=3,"Sí","No") -> No | Z25: =COUNTA(H25,K25,N25,Q25,T25,W25) -> 2 | AB25: =IFERROR(VLOOKUP(C25,Tabla15[[Piloto]:[Puntos clase]],6, FALSE), " ") -> 2RM
B26: 21 | C26: JOSE MANUEL CERRATO NOGUEIRA | D26: 3 | E26: 2 | F26: =IFERROR(VLOOKUP(C26,'01_RS ALCARRIA'!$D$6:$M$36,10,FALSE),"") -> 0 | G26: =IFERROR(VLOOKUP(C26,'01_RS ALCARRIA'!$D$6:$O$36,12,FALSE),"") -> 0 | H26: =(F26+G26)*2 -> 0 | I26: =IFERROR(VLOOKUP(C26,'02_TCT GUADAMUR'!$D$6:$M$36,10,FALSE),"") -> 2 | J26: =IFERROR(VLOOKUP(C26,'02_TCT GUADAMUR'!$D$6:$O$36,12,FALSE),"") -> 3 | K26: =(I26+J26) -> 5 | X26: =H26+K26+N26+Q26+T26+W26 -> 5 | Y26: =IF(Z26>=3,"Sí","No") -> No | Z26: =COUNTA(H26,K26,N26,Q26,T26,W26) -> 2 | AB26: =IFERROR(VLOOKUP(C26,Tabla15[[Piloto]:[Puntos clase]],6, FALSE), " ") -> 2RM
B27: 21 | C27: SERGIO MARTIN SANCHEZ | D27: 2 | E27: 2 | I27: =IFERROR(VLOOKUP(C27,'02_TCT GUADAMUR'!$D$6:$M$36,10,FALSE),"") -> 0 | J27: =IFERROR(VLOOKUP(C27,'02_TCT GUADAMUR'!$D$6:$O$36,12,FALSE),"") -> 5 | K27: =(I27+J27) -> 5 | X27: =H27+K27+N27+Q27+T27+W27 -> 5 | Y27: =IF(Z27>=3,"Sí","No") -> No | Z27: =COUNTA(H27,K27,N27,Q27,T27,W27) -> 1 | AB27: =IFERROR(VLOOKUP(C27,Tabla15[[Piloto]:[Puntos clase]],6, FALSE), " ")
B28: 23 | C28: ALVARO MANZANO BONILLA | D28: 4 | E28: 2 | I28: =IFERROR(VLOOKUP(C28,'02_TCT GUADAMUR'!$D$6:$M$36,10,FALSE),"") -> 0 | J28: =IFERROR(VLOOKUP(C28,'02_TCT GUADAMUR'!$D$6:$O$36,12,FALSE),"") -> 3 | K28: =(I28+J28) -> 3 | X28: =H28+K28+N28+Q28+T28+W28 -> 3 | Y28: =IF(Z28>=3,"Sí","No") -> No | Z28: =COUNTA(H28,K28,N28,Q28,T28,W28) -> 1 | AB28: =IFERROR(VLOOKUP(C28,Tabla15[[Piloto]:[Puntos clase]],6, FALSE), " ")
B29: 24 | C29: JULIO MARTIN AGUDO | D29: =IFERROR(VLOOKUP(C29,Tabla15[[Piloto]:[Puntos clase]],7, FALSE), " ") -> 3 | E29: =LEFT(AB29,LEN(AB29)-2) -> 2 | F29: =IFERROR(VLOOKUP(C29,'01_RS ALCARRIA'!$D$6:$M$36,10,FALSE),"") -> 0 | G29: =IFERROR(VLOOKUP(C29,'01_RS ALCARRIA'!$D$6:$O$36,12,FALSE),"") -> 1 | H29: =(F29+G29)*2 -> 2 | I29: =IFERROR(VLOOKUP(C29,'02_TCT GUADAMUR'!$D$6:$M$36,10,FALSE),"") -> 0 | J29: =IFERROR(VLOOKUP(C29,'02_TCT GUADAMUR'!$D$6:$O$36,12,FALSE),"") -> 0 | K29: =(I29+J29) -> 0 | X29: =H29+K29+N29+Q29+T29+W29 -> 2 | Y29: =IF(Z29>=3,"Sí","No") -> No | Z29: =COUNTA(H29,K29,N29,Q29,T29,W29) -> 2 | AB29: =IFERROR(VLOOKUP(C29,Tabla15[[Piloto]:[Puntos clase]],6, FALSE), " ") -> 2RM
B30: 25 | C30: PELI | D30: =IFERROR(VLOOKUP(C30,Tabla15[[Piloto]:[Puntos clase]],7, FALSE), " ") -> 3 | E30: =LEFT(AB30,LEN(AB30)-2) -> 2 | F30: =IFERROR(VLOOKUP(C30,'01_RS ALCARRIA'!$D$6:$M$36,10,FALSE),"") -> 0 | G30: =IFERROR(VLOOKUP(C30,'01_RS ALCARRIA'!$D$6:$O$36,12,FALSE),"") -> 0 | H30: =(F30+G30)*2 -> 0 | I30: =IFERROR(VLOOKUP(C30,'02_TCT GUADAMUR'!$D$6:$M$36,10,FALSE),"") -> 0 | J30: =IFERROR(VLOOKUP(C30,'02_TCT GUADAMUR'!$D$6:$O$36,12,FALSE),"") -> 1 | K30: =(I30+J30) -> 1 | X30: =H30+K30+N30+Q30+T30+W30 -> 1 | Y30: =IF(Z30>=3,"Sí","No") -> No | Z30: =COUNTA(H30,K30,N30,Q30,T30,W30) -> 2 | AB30: =IFERROR(VLOOKUP(C30,Tabla15[[Piloto]:[Puntos clase]],6, FALSE), " ") -> 2RM
B31: - | C31: MARCOS JOSE DEL CID JIMENEZ | D31: =IFERROR(VLOOKUP(C31,Tabla15[[Piloto]:[Puntos clase]],7, FALSE), " ") -> 3 | E31: =LEFT(AB31,LEN(AB31)-2) -> 2 | F31: =IFERROR(VLOOKUP(C31,'01_RS ALCARRIA'!$D$6:$M$36,10,FALSE),"") -> 0 | G31: =IFERROR(VLOOKUP(C31,'01_RS ALCARRIA'!$D$6:$O$36,12,FALSE),"") -> 0 | H31: =(F31+G31)*2 -> 0 | I31: =IFERROR(VLOOKUP(C31,'02_TCT GUADAMUR'!$D$6:$M$36,10,FALSE),"") -> 0 | J31: =IFERROR(VLOOKUP(C31,'02_TCT GUADAMUR'!$D$6:$O$36,12,FALSE),"") -> 0 | K31: =(I31+J31) -> 0 | X31: =H31+K31+N31+Q31+T31+W31 -> 0 | Y31: =IF(Z31>=3,"Sí","No") -> No | Z31: =COUNTA(H31,K31,N31,Q31,T31,W31) -> 2 | AB31: =IFERROR(VLOOKUP(C31,Tabla15[[Piloto]:[Puntos clase]],6, FALSE), " ") -> 2RM
B32: - | C32: ALEJANDRO VIÑAMBRES ROMERO | D32: =IFERROR(VLOOKUP(C32,Tabla15[[Piloto]:[Puntos clase]],7, FALSE), " ") -> 3 | E32: =LEFT(AB32,LEN(AB32)-2) -> 2 | F32: =IFERROR(VLOOKUP(C32,'01_RS ALCARRIA'!$D$6:$M$36,10,FALSE),"") -> 0 | G32: =IFERROR(VLOOKUP(C32,'01_RS ALCARRIA'!$D$6:$O$36,12,FALSE),"") -> 0 | H32: =(F32+G32)*2 -> 0 | X32: =H32+K32+N32+Q32+T32+W32 -> 0 | Y32: =IF(Z32>=3,"Sí","No") -> No | Z32: =COUNTA(H32,K32,N32,Q32,T32,W32) -> 1 | AB32: =IFERROR(VLOOKUP(C32,Tabla15[[Piloto]:[Puntos clase]],6, FALSE), " ") -> 2RM
B33: - | C33: VICTOR GARRIDO GONZALEZ | D33: =IFERROR(VLOOKUP(C33,Tabla15[[Piloto]:[Puntos clase]],7, FALSE), " ") -> 3 | E33: =LEFT(AB33,LEN(AB33)-2) -> 2 | F33: =IFERROR(VLOOKUP(C33,'01_RS ALCARRIA'!$D$6:$M$36,10,FALSE),"") -> 0 | G33: =IFERROR(VLOOKUP(C33,'01_RS ALCARRIA'!$D$6:$O$36,12,FALSE),"") -> 0 | H33: =(F33+G33)*2 -> 0 | X33: =H33+K33+N33+Q33+T33+W33 -> 0 | Y33: =IF(Z33>=3,"Sí","No") -> No | Z33: =COUNTA(H33,K33,N33,Q33,T33,W33) -> 1 | AB33: =IFERROR(VLOOKUP(C33,Tabla15[[Piloto]:[Puntos clase]],6, FALSE), " ") -> 2RM
B34: - | C34: MANUEL SORIANO DIAZ | D34: =IFERROR(VLOOKUP(C34,Tabla15[[Piloto]:[Puntos clase]],7, FALSE), " ") -> 2 | E34: =LEFT(AB34,LEN(AB34)-2) -> 2 | F34: 0 | G34: 0 | H34: =(F34+G34) -> 0 | I34: 0 | J34: 0 | K34: =(I34+J34) -> 0 | X34: =H34+K34+N34+Q34+T34+W34 -> 0 | Y34: =IF(Z34>=3,"Sí","No") -> No | Z34: =COUNTA(H34,K34,N34,Q34,T34,W34) -> 2 | AB34: =IFERROR(VLOOKUP(C34,Tabla15[[Piloto]:[Puntos clase]],6, FALSE), " ") -> 2RM
B35: - | C35: SERGIO VILLALBA TEJEDA | D35: 3 | E35: 2 | F35: 0 | G35: 0 | H35: =(F35+G35) -> 0 | X35: =H35+K35+N35+Q35+T35+W35 -> 0 | Y35: =IF(Z35>=3,"Sí","No") -> No | Z35: =COUNTA(H35,K35,N35,Q35,T35,W35) -> 1 | AB35: =IFERROR(VLOOKUP(C35,Tabla15[[Piloto]:[Puntos clase]],6, FALSE), " ") -> 2RM
B36: - | C36: IVAN ALONSO MARIN | D36: =IFERROR(VLOOKUP(C36,Tabla15[[Piloto]:[Puntos clase]],7, FALSE), " ") -> 5 | E36: 2 | F36: 0 | G36: 0 | H36: =(F36+G36) -> 0 | X36: =H36+K36+N36+Q36+T36+W36 -> 0 | Y36: =IF(Z36>=3,"Sí","No") -> No | Z36: =COUNTA(H36,K36,N36,Q36,T36,W36) -> 1 | AB36: =IFERROR(VLOOKUP(C36,Tabla15[[Piloto]:[Puntos clase]],6, FALSE), " ") -> 2RM
B37: - | C37: BELTRAN MARTINEZ REGUERA | D37: =IFERROR(VLOOKUP(C37,Tabla15[[Piloto]:[Puntos clase]],7, FALSE), " ") -> 4 | E37: 2 | F37: 0 | G37: 0 | H37: =(F37+G37) -> 0 | X37: =H37+K37+N37+Q37+T37+W37 -> 0 | Y37: =IF(Z37>=3,"Sí","No") -> No | Z37: =COUNTA(H37,K37,N37,Q37,T37,W37) -> 1 | AB37: =IFERROR(VLOOKUP(C37,Tabla15[[Piloto]:[Puntos clase]],6, FALSE), " ") -> 2RM
B38: - | C38: JUAN CARLOS AGUADO CUELLAR | D38: 1 | E38: 4 | I38: 0 | J38: 0 | K38: =(I38+J38) -> 0 | X38: =H38+K38+N38+Q38+T38+W38 -> 0 | Y38: =IF(Z38>=3,"Sí","No") -> No | Z38: =COUNTA(H38,K38,N38,Q38,T38,W38) -> 1 | AB38: =IFERROR(VLOOKUP(C38,Tabla15[[Piloto]:[Puntos clase]],6, FALSE), " ")
B39: - | C39: GERMAN LOPEZ GARCIA | D39: 1 | E39: 4 | I39: 0 | J39: 0 | K39: =(I39+J39) -> 0 | X39: =H39+K39+N39+Q39+T39+W39 -> 0 | Y39: =IF(Z39>=3,"Sí","No") -> No | Z39: =COUNTA(H39,K39,N39,Q39,T39,W39) -> 1
B40: - | C40: PEDRO LOPEZ MARTIN | D40: 3 | E40: 2 | I40: 0 | J40: 0 | K40: =(I40+J40) -> 0 | X40: =H40+K40+N40+Q40+T40+W40 -> 0
...

Sheet POST ALCARRIA PARA WEB
B1: CAMPEONATO MADRILEÑO DE TIERRA 2026 | Y1: Ojo con Arts. 8.6 (Super-Rallye no puntúa ni bloquea), 9.4 (Todos madrileños puntúan y bloquean salvo que no hayan participado (autorizados) en el primer 50%), 9.5 (No madrileños puntúan solo si lo han pedido con art. 11.2.3 PCCCTCM), 12.2.1 (50% de puntos si nº de inscritos, autorizados y con derecho a puntuar y bloquear son 2 o menos) del RD CMT 2026. De las PCCCTCM importa el 11.3.1 (Clasifican si han sido autorizados a tomar salida en 3 pruebas como mínimo del CMA 2026 - 50%) y el 12.1 (Empates)
B2: CLASIFICACIÓN PROVISIONAL GENERAL DE PILOTOS | Y2: SE DESCARTA 1 PRUEBA SI HAY 6 O 7 EN TOTAL POR ART. 13.2 RD CMT 2026 (Si se ha participado/se está autorizado a participar en todas). DSQ no es descartable. En Copa Centro se descarta 1 (Menos DSQ y Todas con mismo coeficiente) y CKM se contabilizan todas y con 50% de puntos si se toma Super-Rallye.
F3: RS ALCARRIA | I3: TCT GUADAMUR | L3: TCT MAQUEDA | O3: RALLYE CAM | R3: RS NAVALCARNERO | U3: TCT NUEVO BAZTÁN
B4: Pos | C4: PILOTO | D4: Clase | E4: RM | F4: 14 FEBRERO | I4: 9 MAYO | L4: 12 SEPTIEMBRE | O4: 10 OCTUBRE | R4: 7 NOVIEMBRE | U4: 28 NOVIEMBRE | X4: TOTAL | Y4: ¿CLASIFICA? | Z4: PARTICIPACIÓN
F5: sct | G5: cl | H5: total | I5: sct | J5: cl | K5: total | L5: sct | M5: cl | N5: total | O5: sct | P5: cl | Q5: total | R5: sct | S5: cl | T5: total | U5: sct | V5: cl | W5: total
B6: 1 | C6: MANUEL GOMEZ-MANZANILLA JAVEGA | D6: =IFERROR(VLOOKUP(C6,Tabla15[[Piloto]:[Puntos clase]],7, FALSE), " ") -> 2 | E6: =LEFT(AB6,LEN(AB6)-2) -> 2 | F6: =IFERROR(VLOOKUP(C6,'01_RS ALCARRIA'!$D$6:$M$36,10,FALSE),"") -> 25 | G6: =IFERROR(VLOOKUP(C6,'01_RS ALCARRIA'!$D$6:$O$36,12,FALSE),"") -> 10 | H6: =(F6+G6)*2 -> 70 | X6: =H6+K6+N6+Q6+T6+W6 -> 70 | Y6: =IF(Z6>=3,"Sí","No") -> No | Z6: =COUNTA(H6,K6,N6,Q6,T6,W6) -> 1 | AB6: =IFERROR(VLOOKUP(C6,Tabla15[[Piloto]:[Puntos clase]],6, FALSE), " ") -> 2RM
B7: 2 | C7: MANUEL GOMEZ-MANZANILLA ARRABAL | D7: =IFERROR(VLOOKUP(C7,Tabla15[[Piloto]:[Puntos clase]],7, FALSE), " ") -> 2 | E7: =LEFT(AB7,LEN(AB7)-2) -> 2 | F7: =IFERROR(VLOOKUP(C7,'01_RS ALCARRIA'!$D$6:$M$36,10,FALSE),"") -> 20 | G7: =IFERROR(VLOOKUP(C7,'01_RS ALCARRIA'!$D$6:$O$36,12,FALSE),"") -> 8 | H7: =(F7+G7)*2 -> 56 | X7: =H7+K7+N7+Q7+T7+W7 -> 56 | Y7: =IF(Z7>=3,"Sí","No") -> No | Z7: =COUNTA(H7,K7,N7,Q7,T7,W7) -> 1 | AB7: =IFERROR(VLOOKUP(C7,Tabla15[[Piloto]:[Puntos clase]],6, FALSE), " ") -> 2RM
B8: 3 | C8: DIEGO CRUZ MARTINEZ (-) | D8: =IFERROR(VLOOKUP(C8,Tabla15[[Piloto]:[Puntos clase]],7, FALSE), " ") -> 1 | E8: =LEFT(AB8,LEN(AB8)-2) -> 4 | F8: =IFERROR(VLOOKUP(C8,'01_RS ALCARRIA'!$D$6:$M$36,10,FALSE),"") -> 17 | G8: =IFERROR(VLOOKUP(C8,'01_RS ALCARRIA'!$D$6:$O$36,12,FALSE),"")/2 -> 5 | H8: =(F8+G8)*2 -> 44 | X8: =H8+K8+N8+Q8+T8+W8 -> 44 | Y8: =IF(Z8>=3,"Sí","No") -> No | Z8: =COUNTA(H8,K8,N8,Q8,T8,W8) -> 1 | AB8: =IFERROR(VLOOKUP(C8,Tabla15[[Piloto]:[Puntos clase]],6, FALSE), " ") -> 4RM
B9: 4 | C9: RUBEN GONZALEZ PEREZ | D9: 2 | E9: 2 | F9: =IFERROR(VLOOKUP(C9,'01_RS ALCARRIA'!$D$6:$M$36,10,FALSE),"") -> 15 | G9: =IFERROR(VLOOKUP(C9,'01_RS ALCARRIA'!$D$6:$O$36,12,FALSE),"") -> 6 | H9: =(F9+G9)*2 -> 42 | X9: =H9+K9+N9+Q9+T9+W9 -> 42 | Y9: =IF(Z9>=3,"Sí","No") -> No | Z9: =COUNTA(H9,K9,N9,Q9,T9,W9) -> 1 | AB9: =IFERROR(VLOOKUP(C9,Tabla15[[Piloto]:[Puntos clase]],6, FALSE), " ") -> 2RM
B10: 5 | C10: CRISTOFER CALERO CARRANZA | D10: =IFERROR(VLOOKUP(C10,Tabla15[[Piloto]:[Puntos clase]],7, FALSE), " ") -> 3 | E10: =LEFT(AB10,LEN(AB10)-2) -> 2 | F10: =IFERROR(VLOOKUP(C10,'01_RS ALCARRIA'!$D$6:$M$36,10,FALSE),"") -> 10 | G10: =IFERROR(VLOOKUP(C10,'01_RS ALCARRIA'!$D$6:$O$36,12,FALSE),"") -> 10 | H10: =(F10+G10)*2 -> 40 | X10: =H10+K10+N10+Q10+T10+W10 -> 40 | Y10: =IF(Z10>=3,"Sí","No") -> No | Z10: =COUNTA(H10,K10,N10,Q10,T10,W10) -> 1 | AB10: =IFERROR(VLOOKUP(C10,Tabla15[[Piloto]:[Puntos clase]],6, FALSE), " ") -> 2RM
B11: 6 | C11: JAVIER ENCINAS ALARZA | D11: =IFERROR(VLOOKUP(C11,Tabla15[[Piloto]:[Puntos clase]],7, FALSE), " ") -> 1 | E11: =LEFT(AB11,LEN(AB11)-2) -> 4 | F11: =IFERROR(VLOOKUP(C11,'01_RS ALCARRIA'!$D$6:$M$36,10,FALSE),"") -> 12 | G11: =IFERROR(VLOOKUP(C11,'01_RS ALCARRIA'!$D$6:$O$36,12,FALSE),"")/2 -> 4 | H11: =(F11+G11)*2 -> 32 | X11: =H11+K11+N11+Q11+T11+W11 -> 32 | Y11: =IF(Z11>=3,"Sí","No") -> No | Z11: =COUNTA(H11,K11,N11,Q11,T11,W11) -> 1 | AB11: =IFERROR(VLOOKUP(C11,Tabla15[[Piloto]:[Puntos clase]],6, FALSE), " ") -> 4RM
B12: 6 | C12: SANTIAGO GARCIA MARTIN | D12: =IFERROR(VLOOKUP(C12,Tabla15[[Piloto]:[Puntos clase]],7, FALSE), " ") -> 3 | E12: =LEFT(AB12,LEN(AB12)-2) -> 2 | F12: =IFERROR(VLOOKUP(C12,'01_RS ALCARRIA'!$D$6:$M$36,10,FALSE),"") -> 8 | G12: =IFERROR(VLOOKUP(C12,'01_RS ALCARRIA'!$D$6:$O$36,12,FALSE),"") -> 8 | H12: =(F12+G12)*2 -> 32 | X12: =H12+K12+N12+Q12+T12+W12 -> 32 | Y12: =IF(Z12>=3,"Sí","No") -> No | Z12: =COUNTA(H12,K12,N12,Q12,T12,W12) -> 1 | AB12: =IFERROR(VLOOKUP(C12,Tabla15[[Piloto]:[Puntos clase]],6, FALSE), " ") -> 2RM
B13: 8 | C13: ALBERTO LUIS PEREZ | D13: =IFERROR(VLOOKUP(C13,Tabla15[[Piloto]:[Puntos clase]],7, FALSE), " ") -> 5 | E13: =LEFT(AB13,LEN(AB13)-2) -> 2 | F13: =IFERROR(VLOOKUP(C13,'01_RS ALCARRIA'!$D$6:$M$36,10,FALSE),"") -> 4 | G13: =IFERROR(VLOOKUP(C13,'01_RS ALCARRIA'!$D$6:$O$36,12,FALSE),"") -> 10 | H13: =(F13+G13)*2 -> 28 | X13: =H13+K13+N13+Q13+T13+W13 -> 28 | Y13: =IF(Z13>=3,"Sí","No") -> No | Z13: =COUNTA(H13,K13,N13,Q13,T13,W13) -> 1 | AB13: =IFERROR(VLOOKUP(C13,Tabla15[[Piloto]:[Puntos clase]],6, FALSE), " ") -> 2RM
