Workbook
Name Print_Area: CLASIFICACIÓN!$B$1:$X$250
Name Print_Area: FINAL!$B$1:$U$165
Name Print_Area: 'POST ALCARRIA PARA WEB'!$B$1:$X$181
Name Print_Area: 'POST GUADAMUR PARA WEB'!$B$1:$X$219
Name Print_Area: 'POST MAQUEDA PARA WEB'!$B$1:$X$249

Sheet PREMIADOS
B3: CAMPEONATO MADRILEÑO DE TIERRA 2026 (CMT) | C3: PREMIO | D3: PREMIADOS | E3: Correo
B4: CAMPEONATO MADRILEÑO DE PILOTOS DE TIERRA | C4: CAMPEÓN
C5: SUBCAMPEÓN
C6: TROFEO 3º
B7: CAMPEONATO MADRILEÑO DE COPILOTOS DE TIERRA | C7: CAMPEÓN
C8: SUBCAMPEÓN
C9: TROFEO 3º
B10: CAMPEONATO MADRILEÑO DE TIERRA DE ESCUDERÍAS | C10: CAMPEÓN
B11: TROFEO MADRILEÑO DE PILOTOS 2RM | C11: VENCEDOR
B12: TROFEO MADRILEÑO DE COPILOTOS 2RM | C12: VENCEDOR
B13: COPA MADRILEÑA DE PILOTOS VEHÍCULOS SSV | C13: VENCEDOR
C14: SUBCAMPEÓN
C15: TROFEO 3º
B16: COPA MADRILEÑA DE COPILOTOS VEHÍCULOS SSV | C16: VENCEDOR
C17: SUBCAMPEÓN
C18: TROFEO 3º
B19: COPA MADRILEÑA DE PILOTOS VEHÍCULOS TT | C19: VENCEDOR
C20: SUBCAMPEÓN
C21: TROFEO 3º
B22: COPA MADRILEÑA DE COPILOTOS VEHÍCULOS TT | C22: VENCEDOR
C23: SUBCAMPEÓN
C24: TROFEO 3º
B25: COPA MADRILEÑA DE PILOTOS DE CAMIONES TT | C25: VENCEDOR
C26: SUBCAMPEÓN
C27: TROFEO 3º
B28: COPA MADRILEÑA DE COPILOTOS DE CAMIONES TT | C28: VENCEDOR
C29: SUBCAMPEÓN
C30: TROFEO 3º
B31: COPA MADRILEÑA DE TRIPULANTES DE CAMIONES TT | C31: VENCEDOR
C32: SUBCAMPEÓN
C33: TROFEO 3º
B34: TROFEO JUNIOR DE PILOTOS DE TIERRA | C34: VENCEDOR
B35: TROFEO JUNIOR DE COPILOTOS DE TIERRA | C35: VENCEDOR
B36: TROFEO MADRILEÑO DE TIERRA POR CLASES - CLASE 1 - PILOTOS | C36: PRIMER CLASIFICADO
B37: TROFEO MADRILEÑO DE TIERRA POR CLASES - CLASE 1 - COPILOTOS | C37: PRIMER CLASIFICADO
B38: TROFEO MADRILEÑO DE TIERRA POR CLASES - CLASE 2 - PILOTOS | C38: PRIMER CLASIFICADO
B39: TROFEO MADRILEÑO DE TIERRA POR CLASES - CLASE 2 - COPILOTOS | C39: PRIMER CLASIFICADO
B40: TROFEO MADRILEÑO DE TIERRA POR CLASES - CLASE 3 - PILOTOS | C40: PRIMER CLASIFICADO
B41: TROFEO MADRILEÑO DE TIERRA POR CLASES - CLASE 3 - COPILOTOS | C41: PRIMER CLASIFICADO
B42: TROFEO MADRILEÑO DE TIERRA POR CLASES - CLASE 4 - PILOTOS | C42: PRIMER CLASIFICADO
B43: TROFEO MADRILEÑO DE TIERRA POR CLASES - CLASE 4 - COPILOTOS | C43: PRIMER CLASIFICADO
B44: TROFEO MADRILEÑO DE PILOTOS DE VEHÍCULOS HISTÓRICOS SOBRE TIERRA | C44: VENCEDOR
B45: TROFEO MADRILEÑO DE COPILOTOS DE VEHÍCULOS HISTÓRICOS SOBRE TIERRA | C45: VENCEDOR
... B48: COPA CENTRO - PILOTOS | C48: VENCEDOR
C49: SUBCAMPEÓN
C50: TROFEO 3º
B51: COPA CENTRO - COPILOTOS | C51: VENCEDOR
C52: SUBCAMPEÓN
C53: TROFEO 3º
A54: Por confirmar | B54: COPA KOBE MOTOR MADRID - PILOTOS | C54: VENCEDOR
A55: Por confirmar | C55: SUBCAMPEÓN
A56: Por confirmar | C56: TROFEO 3º
A57: Por confirmar | B57: COPA KOBE MOTOR MADRID - COPILOTOS | C57: VENCEDOR
A58: Por confirmar | C58: SUBCAMPEÓN
A59: Por confirmar | C59: TROFEO 3º

Sheet FINAL
B1: CAMPEONATO MADRILEÑO DE TIERRA 2025
B2: CLASIFICACIÓN FINAL GENERAL DE PILOTOS
F3: RS ALCARRIA | I3: RS GUADAMUR | L3: R CM-EL MOLAR | O3: RS NAVALCARNERO | R3: TCT N. BAZTÁN
B4: Pos | C4: PILOTO | D4: Clase | E4: RM | F4: 15 FEBRERO | I4: 5 ABRIL | L4: 11 OCTUBRE | O4: 8 NOVIEMBRE | R4: 29 NOVIEMBRE | U4: TOTAL | V4: ¿CLASIFICA? | W4: PARTICIPACIÓN
F5: sct | G5: cl | H5: total | I5: sct | J5: cl | K5: total | L5: sct | M5: cl | N5: total | O5: sct | P5: cl | Q5: total | R5: sct | S5: cl | T5: total
B6: 1 | C6: ISAAC VERA ALBERRUCHE | D6: * | E6: 4 | F6: 17 | G6: 9 | H6: 52 | I6: 20 | J6: 12 | K6: 64 | L6: 20 | M6: 12 | N6: 96 | O6: 17 | P6: 9 | Q6: 52 | R6: 8 | S6: 12 | T6: 20 | U6: 284 | V6: =IF(W6>=3,"Sí","No") -> Sí | W6: =COUNTA(H6,K6,N6,Q6,T6) -> 5 | Y6: =IFERROR(VLOOKUP(C6,Tabla15[[Piloto]:[Puntos clase]],6, FALSE), " ")
B7: 2 | C7: MANUEL GÓMEZ-MANZANILLA JAVEGA | D7: 2 | E7: 2 | F7: 12 | G7: 12 | H7: 48 | I7: 14 | J7: 12 | K7: 52 | L7: 10 | M7: 12 | N7: 66 | O7: 8 | P7: 9 | Q7: 34 | R7: 14 | S7: 12 | T7: 26 | U7: 226 | V7: =IF(W7>=3,"Sí","No") -> Sí | W7: =COUNTA(H7,K7,N7,Q7,T7) -> 5 | Y7: =IFERROR(VLOOKUP(C7,Tabla15[[Piloto]:[Puntos clase]],6, FALSE), " ")
B8: 3 | C8: MIGUEL SÁNCHEZ DIEZMA | D8: 1 | E8: 4 | F8: 20 | G8: 12 | H8: 64 | I8: 17 | J8: 9 | K8: 52 | L8: 17 | M8: 9 | N8: 78 | O8: 0 | P8: 0 | Q8: 0 | R8: 17 | S8: 9 | T8: 26 | U8: 220 | V8: =IF(W8>=3,"Sí","No") -> Sí | W8: =COUNTA(H8,K8,N8,Q8,T8) -> 5 | Y8: =IFERROR(VLOOKUP(C8,Tabla15[[Piloto]:[Puntos clase]],6, FALSE), " ")
B9: 4 | C9: NICOLÁS OTTO BOEHRINGER | D9: 1 | E9: 4 | L9: 14 | M9: 7 | N9: 63 | O9: 20 | P9: 12 | Q9: 64 | R9: 20 | S9: 12 | T9: 32 | U9: 159 | V9: =IF(W9>=3,"Sí","No") -> Sí | W9: =COUNTA(H9,K9,N9,Q9,T9) -> 3 | Y9: =IFERROR(VLOOKUP(C9,Tabla15[[Piloto]:[Puntos clase]],6, FALSE), " ")
B10: 5 | C10: MANUEL GÓMEZ-MANZANILLA ARRABAL | D10: 2 | E10: 2 | F10: 0 | G10: 0 | H10: 0 | I10: 12 | J10: 9 | K10: 42 | L10: 8 | M10: 9 | N10: 51 | O10: 10 | P10: 12 | Q10: 44 | R10: 12 | S10: 9 | T10: 21 | U10: 158 | V10: =IF(W10>=3,"Sí","No") -> Sí | W10: =COUNTA(H10,K10,N10,Q10,T10) -> 5 | Y10: =IFERROR(VLOOKUP(C10,Tabla15[[Piloto]:[Puntos clase]],6, FALSE), " ")
B11: 6 | C11: CRISTOFER CALERO CARRANZA | D11: 3 | E11: 2 | F11: 6 | G11: 12 | H11: 36 | I11: 10 | J11: 12 | K11: 44 | L11: 0 | M11: 3 | N11: 9 | O11: 4 | P11: 12 | Q11: 32 | R11: 6 | S11: 9 | T11: 15 | U11: 136 | V11: =IF(W11>=3,"Sí","No") -> Sí | W11: =COUNTA(H11,K11,N11,Q11,T11) -> 5 | Y11: =IFERROR(VLOOKUP(C11,Tabla15[[Piloto]:[Puntos clase]],6, FALSE), " ") -> 2RM
B12: 7 | C12: DAVID DE LA OSA SANJUAN | D12: * | E12: 2 | F12: 5 | G12: 12 | H12: 34 | I12: 8 | J12: 9 | K12: 34 | L12: 6 | M12: 12 | N12: 54 | O12: 0 | P12: 0 | Q12: 0 | R12: 5 | S12: 7 | T12: 12 | U12: 134 | V12: =IF(W12>=3,"Sí","No") -> Sí | W12: =COUNTA(H12,K12,N12,Q12,T12) -> 5 | Y12: =IFERROR(VLOOKUP(C12,Tabla15[[Piloto]:[Puntos clase]],6, FALSE), " ")
B13: 8 | C13: RUBÉN VELÁZQUEZ BERNARDO | D13: 5 | E13: 4 | F13: 3 | G13: 9 | H13: 24 | I13: 0 | J13: 9 | K13: 18 | L13: 4 | M13: 12 | N13: 48 | O13: 1 | P13: 12 | Q13: 26 | U13: 116 | V13: =IF(W13>=3,"Sí","No") -> Sí | W13: =COUNTA(H13,K13,N13,Q13,T13) -> 4 | Y13: =IFERROR(VLOOKUP(C13,Tabla15[[Piloto]:[Puntos clase]],6, FALSE), " ")
B14: 9 | C14: VÍCTOR JOSÉ MONTES DE SANTOS | D14: 5 | E14: 2 | F14: 0 | G14: 5 | H14: 10 | I14: 4 | J14: 12 | K14: 32 | L14: 3 | M14: 9 | N14: 36 | O14: 0 | P14: 7 | Q14: 14 | U14: 92 | V14: =IF(W14>=3,"Sí","No") -> Sí | W14: =COUNTA(H14,K14,N14,Q14,T14) -> 4 | Y14: =IFERROR(VLOOKUP(C14,Tabla15[[Piloto]:[Puntos clase]],6, FALSE), " ")
B15: 10 | C15: ÁLVARO GIL CARRETERO | D15: 3 | E15: 2 | F15: 0 | G15: 7 | H15: 14 | I15: 6 | J15: 7 | K15: 26 | L15: 5 | M15: 9 | N15: 42 | U15: 82 | V15: =IF(W15>=3,"Sí","No") -> Sí | W15: =COUNTA(H15,K15,N15,Q15,T15) -> 3 | Y15: =IFERROR(VLOOKUP(C15,Tabla15[[Piloto]:[Puntos clase]],6, FALSE), " ")
B16: 11 | C16: ANDRÉS LÓPEZ ARCHILLA | D16: 2 | E16: 2 | F16: 10 | G16: 9 | H16: 38 | I16: 0 | J16: 0 | K16: 0 | O16: 6 | P16: 7 | Q16: 26 | R16: 10 | S16: 7 | T16: 17 | U16: 81 | V16: =IF(W16>=3,"Sí","No") -> Sí | W16: =COUNTA(H16,K16,N16,Q16,T16) -> 4 | Y16: =IFERROR(VLOOKUP(C16,Tabla15[[Piloto]:[Puntos clase]],6, FALSE), " ")
B17: 12 | C17: ALBERTO LUIS PÉREZ | D17: 5 | E17: 2 | F17: 8 | G17: 12 | H17: 40 | I17: 0 | J17: 0 | K17: 0 | L17: 0 | M17: 0 | N17: 0 | O17: 0 | P17: 9 | Q17: 18 | R17: 3 | S17: 12 | T17: 15 | U17: 73 | V17: =IF(W17>=3,"Sí","No") -> Sí | W17: =COUNTA(H17,K17,N17,Q17,T17) -> 5 | Y17: =IFERROR(VLOOKUP(C17,Tabla15[[Piloto]:[Puntos clase]],6, FALSE), " ")
B18: 13 | C18: JULIO MARTÍN AGUDO | D18: * | E18: 2 | F18: 2 | G18: 7 | H18: 18 | I18: 3 | J18: 5 | K18: 16 | L18: 1 | M18: 5 | N18: 18 | R18: 2 | S18: 3 | T18: 5 | U18: 57 | V18: =IF(W18>=3,"Sí","No") -> Sí | W18: =COUNTA(H18,K18,N18,Q18,T18) -> 4 | Y18: =IFERROR(VLOOKUP(C18,Tabla15[[Piloto]:[Puntos clase]],6, FALSE), " ")
B19: 14 | C19: ÁNGEL ALONSO MARÍN | D19: * | E19: 2 | F19: 1 | G19: 7 | H19: 16 | I19: 0 | J19: 7 | K19: 14 | L19: 0 | M19: 7 | N19: 21 | U19: 51 | V19: =IF(W19>=3,"Sí","No") -> Sí | W19: =COUNTA(H19,K19,N19,Q19,T19) -> 3 | Y19: =IFERROR(VLOOKUP(C19,Tabla15[[Piloto]:[Puntos clase]],6, FALSE), " ")
B20: 16 | C20: RAUL CARRASCO SEGOVIA | D20: 4 | E20: 2 | F20: 0 | G20: 0 | H20: 0 | I20: 5 | J20: 6 | K20: 22 | O20: 3 | P20: 6 | Q20: 18 | R20: 1 | S20: 6 | T20: 7 | U20: 47 | V20: =IF(W20>=3,"Sí","No") -> Sí | W20: =COUNTA(H20,K20,N20,Q20,T20) -> 4 | Y20: =IFERROR(VLOOKUP(C20,Tabla15[[Piloto]:[Puntos clase]],6, FALSE), " ") -> 2RM
B21: 17 | C21: JUAN CARLOS AGUADO CUELLAR | D21: 1 | E21: 4 | F21: 0 | G21: 0 | H21: 0 | I21: 0 | J21: 0 | K21: 0 | L21: 0 | M21: 0 | N21: 0 | O21: 14 | P21: 7 | Q21: 42 | R21: 0 | S21: 0 | T21: 0 | U21: 42 | V21: =IF(W21>=3,"Sí","No") -> Sí | W21: =COUNTA(H21,K21,N21,Q21,T21) -> 5 | Y21: =IFERROR(VLOOKUP(C21,Tabla15[[Piloto]:[Puntos clase]],6, FALSE), " ")
B22: 19 | C22: MANUEL ROMÁN MANCEBO SUÁREZ | D22: 4 | E22: 2 | F22: 0 | G22: 9 | H22: 18 | I22: 2 | J22: 4.5 | K22: 13 | O22: 0 | P22: 4.5 | Q22: 9 | U22: 40 | V22: =IF(W22>=3,"Sí","No") -> Sí | W22: =COUNTA(H22,K22,N22,Q22,T22) -> 3 | Y22: =IFERROR(VLOOKUP(C22,Tabla15[[Piloto]:[Puntos clase]],6, FALSE), " ")
B23: 20 | C23: ÓSCAR ENCINA LINUESA | D23: * | E23: 2 | F23: 0 | G23: 5 | H23: 10 | L23: 0 | M23: 7 | N23: 21 | O23: 0 | P23: 3 | Q23: 6 | U23: 37 | V23: =IF(W23>=3,"Sí","No") -> Sí | W23: =COUNTA(H23,K23,N23,Q23,T23) -> 3 | Y23: =IFERROR(VLOOKUP(C23,Tabla15[[Piloto]:[Puntos clase]],6, FALSE), " ")
B24: 22 | C24: JOSÉ MARÍA SAN JOSÉ ROMERO | D24: 1 | E24: 4 | F24: 0 | G24: 0 | H24: 0 | L24: 0 | M24: 0 | N24: 0 | O24: 12 | P24: 5 | Q24: 34 | U24: 34 | V24: =IF(W24>=3,"Sí","No") -> Sí | W24: =COUNTA(H24,K24,N24,Q24,T24) -> 3 | Y24: =IFERROR(VLOOKUP(C24,Tabla15[[Piloto]:[Puntos clase]],6, FALSE), " ")
B25: 23 | C25: CARLOS VELÁZQUEZ RODRÍGUEZ | D25: 3 | E25: 2 | F25: 0 | G25: 1 | H25: 2 | I25: 1 | J25: 3 | K25: 8 | L25: 0 | M25: 0 | N25: 0 | O25: 2 | P25: 9 | Q25: 22 | R25: 0 | S25: 1 | T25: 1 | U25: 33 | V25: =IF(W25>=3,"Sí","No") -> Sí | W25: =COUNTA(H25,K25,N25,Q25,T25) -> 5 | Y25: =IFERROR(VLOOKUP(C25,Tabla15[[Piloto]:[Puntos clase]],6, FALSE), " ")
B26: 27 | C26: JOSÉ MARÍA CANO JIMÉNEZ | D26: * | E26: 2 | F26: 0 | G26: 3 | H26: 6 | I26: 0 | J26: 1 | K26: 2 | R26: 0 | S26: 7 | T26: 7 | U26: 15 | V26: =IF(W26>=3,"Sí","No") -> Sí | W26: =COUNTA(H26,K26,N26,Q26,T26) -> 3 | Y26: =IFERROR(VLOOKUP(C26,Tabla15[[Piloto]:[Puntos clase]],6, FALSE), " ")
E28: Se reparten el 50 % de los puntos de clase de acuerdo al art. 12.2.1 del RD CMT 2025
B30: No optan a las clasificaciones finales según Art. 11.3.1. PCCCTCM los siguientes pilotos:
F31: RS ALCARRIA | I31: RS GUADAMUR | L31: R CM-EL MOLAR | O31: RS NAVALCARNERO | R31: TCT N. BAZTÁN
B32: Pos | C32: PILOTO | D32: Clase | E32: RM | F32: 15 FEBRERO | I32: 5 ABRIL | L32: 11 OCTUBRE | O32: 8 NOVIEMBRE | R32: 29 NOVIEMBRE | U32: TOTAL
F33: sct | G33: cl | H33: total | I33: sct | J33: cl | K33: total | L33: sct | M33: cl | N33: total | O33: sct | P33: cl | Q33: total | R33: sct | S33: cl | T33: total
C34: ÓSCAR BUENO DE LA ROSA | D34: 1 | E34: 4 | L34: 12 | M34: 5 | N34: 51 | U34: 51
C35: ANTONIO OTERO MONTERO | D35: 1 | E35: 4 | F35: 14 | G35: 7 | H35: 42 | U35: 42
C36: SANTIAGO GARCÍA MARTÍN | D36: 3 | E36: 2 | L36: 2 | M36: 7 | N36: 27 | R36: 4 | S36: 5 | T36: 9 | U36: 36
C37: JOSÉ MARÍA GARCÍA SOLER | D37: 3 | E37: 2 | F37: 4 | G37: 9 | H37: 26 | N37: 0 | U37: 26
C38: JOSÉ MARÍA GARCÍA-VIÑÓ SÁNCHEZ | D38: 5 | E38: 2 | L38: 0 | M38: 5 | N38: 15 | O38: 0 | P38: 5 | Q38: 10 | U38: 25
C39: JAVIER ENCINAS ALARZA | D39: 1 | E39: 4 | F39: 0 | G39: 0 | H39: 0 | O39: 5 | P39: 3 | Q39: 16 | U39: 16
C40: ALEJANDRO VIÑAMBRES ROMERO | D40: 3 | E40: 2 | F40: 0 | G40: 0 | H40: 0 | O40: 0 | P40: 7 | Q40: 14 | U40: 14
C41: MANUEL SORIANO DÍAZ | D41: 2 | E41: 2 | F41: 0 | G41: 5 | H41: 10 | U41: 10
C42: IVÁN ALONSO MARÍN | D42: 5 | E42: 2 | L42: 0 | M42: 0 | N42: 0 | R42: 0 | S42: 9 | T42: 9 | U42: 9
C43: ANTONIO CONTRERAS CONDE | D43: 3 | E43: 2 | F43: 0 | G43: 0 | H43: 0 | U43: 0
C44: ELBA CORREA LUIS (-) | D44: 3 | E44: 2 | F44: 0 | G44: 0 | H44: 0 | U44: 0
C45: GERMÁN LÓPEZ GARCÍA | D45: 1 | E45: 4 | L45: 0 | M45: 0 | N45: 0 | O45: 0 | P45: 0 | Q45: 0 | U45: 0
C47: Piloto no madrileño que puntúa (art. 11.2.3. PCCCTM) | D47: NOM. (-)
B52: TROFEO MADRILEÑO DE TIERRA 2025
B53: CLASIFICACIÓN FINAL DE PILOTOS POR CLASES
F54: RS ALCARRIA | I54: RS GUADAMUR | L54: R CM-EL MOLAR | O54: RS NAVALCARNERO | R54: TCT N. BAZTÁN
B55: Pos | C55: PILOTO | D55: Clase | E55: RM | F55: 15 FEBRERO | I55: 5 ABRIL | L55: 11 OCTUBRE | O55: 8 NOVIEMBRE | R55: 29 NOVIEMBRE | U55: TOTAL | V55: ¿CLASIFICA? | W55: PARTICIPACIÓN
F56: sct | G56: cl | H56: total | I56: sct | J56: cl | K56: total | L56: sct | M56: cl | N56: total | O56: sct | P56: cl | Q56: total | R56: sct | S56: cl | T56: total
B57: 1 | C57: ISAAC VERA ALBERRUCHE | D57: 1 | E57: 4 | F57: 17 | G57: 9 | H57: 52 | I57: 20 | J57: 12 | K57: 64 | L57: 20 | M57: 12 | N57: 96 | O57: 17 | P57: 9 | Q57: 52 | U57: 264 | V57: =IF(W57>=3,"Sí","No") -> Sí | W57: =COUNTA(H57,K57,N57,Q57,T57) -> 4 | Y57: =IFERROR(VLOOKUP(C57,Tabla15[[Piloto]:[Puntos clase]],6, FALSE), " ")
B58: 1 | C58: MANUEL GÓMEZ-MANZANILLA JAVEGA | D58: 2 | E58: 2 | F58: 12 | G58: 12 | H58: 48 | I58: 14 | J58: 12 | K58: 52 | L58: 10 | M58: 12 | N58: 66 | O58: 8 | P58: 9 | Q58: 34 | R58: 14 | S58: 12 | T58: 26 | U58: 226 | V58: =IF(W58>=3,"Sí","No") -> Sí | W58: =COUNTA(H58,K58,N58,Q58,T58) -> 5 | Y58: =IFERROR(VLOOKUP(C58,Tabla15[[Piloto]:[Puntos clase]],6, FALSE), " ")
B59: 2 | C59: MIGUEL SÁNCHEZ DIEZMA | D59: 1 | E59: 4 | F59: 20 | G59: 12 | H59: 64 | I59: 17 | J59: 9 | K59: 52 | L59: 17 | M59: 9 | N59: 78 | O59: 0 | P59: 0 | Q59: 0 | R59: 17 | S59: 9 | T59: 26 | U59: 220 | V59: =IF(W59>=3,"Sí","No") -> Sí | W59: =COUNTA(H59,K59,N59,Q59,T59) -> 5 | Y59: =IFERROR(VLOOKUP(C59,Tabla15[[Piloto]:[Puntos clase]],6, FALSE), " ")
B60: 3 | C60: NICOLÁS OTTO BOEHRINGER | D60: 1 | E60: 4 | L60: 14 | M60: 7 | N60: 63 | O60: 20 | P60: 12 | Q60: 64 | R60: 20 | S60: 12 | T60: 32 | U60: 159 | V60: =IF(W60>=3,"Sí","No") -> Sí | W60: =COUNTA(H60,K60,N60,Q60,T60) -> 3 | Y60: =IFERROR(VLOOKUP(C60,Tabla15[[Piloto]:[Puntos clase]],6, FALSE), " ")
B61: 2 | C61: MANUEL GÓMEZ-MANZANILLA ARRABAL | D61: 2 | E61: 2 | F61: 0 | G61: 0 | H61: 0 | I61: 12 | J61: 9 | K61: 42 | L61: 8 | M61: 9 | N61: 51 | O61: 10 | P61: 12 | Q61: 44 | R61: 12 | S61: 9 | T61: 21 | U61: 158 | V61: =IF(W61>=3,"Sí","No") -> Sí | W61: =COUNTA(H61,K61,N61,Q61,T61) -> 5 | Y61: =IFERROR(VLOOKUP(C61,Tabla15[[Piloto]:[Puntos clase]],6, FALSE), " ")
B62: 1 | C62: CRISTOFER CALERO CARRANZA | D62: 3 | E62: 2 | F62: 6 | G62: 12 | H62: 36 | I62: 10 | J62: 12 | K62: 44 | L62: 0 | M62: 3 | N62: 9 | O62: 4 | P62: 12 | Q62: 32 | R62: 6 | S62: 9 | T62: 15 | U62: 136 | V62: =IF(W62>=3,"Sí","No") -> Sí | W62: =COUNTA(H62,K62,N62,Q62,T62) -> 5 | Y62: =IFERROR(VLOOKUP(C62,Tabla15[[Piloto]:[Puntos clase]],6, FALSE), " ") -> 2RM
B63: 1 | C63: RUBÉN VELÁZQUEZ BERNARDO | D63: 5 | E63: 4 | F63: 3 | G63: 9 | H63: 24 | I63: 0 | J63: 9 | K63: 18 | L63: 4 | M63: 12 | N63: 48 | O63: 1 | P63: 12 | Q63: 26 | U63: 116 | V63: =IF(W63>=3,"Sí","No") -> Sí | W63: =COUNTA(H63,K63,N63,Q63,T63) -> 4 | Y63: =IFERROR(VLOOKUP(C63,Tabla15[[Piloto]:[Puntos clase]],6, FALSE), " ")
B64: 2 | C64: DAVID DE LA OSA SANJUAN | D64: 3 | E64: 2 | I64: 8 | J64: 9 | K64: 34 | L64: 6 | M64: 12 | N64: 54 | O64: 0 | P64: 0 | Q64: 0 | R64: 5 | S64: 7 | T64: 12 | U64: 100 | V64: =IF(W64>=3,"Sí","No") -> Sí | W64: =COUNTA(H64,K64,N64,Q64,T64) -> 4 | Y64: =IFERROR(VLOOKUP(C64,Tabla15[[Piloto]:[Puntos clase]],6, FALSE), " ")
B65: 2 | C65: VÍCTOR JOSÉ MONTES DE SANTOS | D65: 5 | E65: 2 | F65: 0 | G65: 5 | H65: 10 | I65: 4 | J65: 12 | K65: 32 | L65: 3 | M65: 9 | N65: 36 | O65: 0 | P65: 7 | Q65: 14 | U65: 92 | V65: =IF(W65>=3,"Sí","No") -> Sí | W65: =COUNTA(H65,K65,N65,Q65,T65) -> 4 | Y65: =IFERROR(VLOOKUP(C65,Tabla15[[Piloto]:[Puntos clase]],6, FALSE), " ")
B66: 3 | C66: ÁLVARO GIL CARRETERO | D66: 3 | E66: 2 | F66: 0 | G66: 7 | H66: 14 | I66: 6 | J66: 7 | K66: 26 | L66: 5 | M66: 9 | N66: 42 | U66: 82 | V66: =IF(W66>=3,"Sí","No") -> Sí | W66: =COUNTA(H66,K66,N66,Q66,T66) -> 3 | Y66: =IFERROR(VLOOKUP(C66,Tabla15[[Piloto]:[Puntos clase]],6, FALSE), " ")
B67: 3 | C67: ANDRÉS LÓPEZ ARCHILLA | D67: 2 | E67: 2 | F67: 10 | G67: 9 | H67: 38 | I67: 0 | J67: 0 | K67: 0 | O67: 6 | P67: 7 | Q67: 26 | R67: 10 | S67: 7 | T67: 17 | U67: 81 | V67: =IF(W67>=3,"Sí","No") -> Sí | W67: =COUNTA(H67,K67,N67,Q67,T67) -> 4 | Y67: =IFERROR(VLOOKUP(C67,Tabla15[[Piloto]:[Puntos clase]],6, FALSE), " ")
B68: 3 | C68: ALBERTO LUIS PÉREZ | D68: 5 | E68: 2 | F68: 8 | G68: 12 | H68: 40 | I68: 0 | J68: 0 | K68: 0 | L68: 0 | M68: 0 | N68: 0 | O68: 0 | P68: 9 | Q68: 18 | R68: 3 | S68: 12 | T68: 15 | U68: 73 | V68: =IF(W68>=3,"Sí","No") -> Sí | W68: =COUNTA(H68,K68,N68,Q68,T68) -> 5 | Y68: =IFERROR(VLOOKUP(C68,Tabla15[[Piloto]:[Puntos clase]],6, FALSE), " ")
B69: 4 | C69: JULIO MARTÍN AGUDO | D69: 2 | E69: 2 | F69: 2 | G69: 7 | H69: 18 | I69: 3 | J69: 5 | K69: 16 | L69: 1 | M69: 5 | N69: 18 | U69: 52 | V69: =IF(W69>=3,"Sí","No") -> Sí | W69: =COUNTA(H69,K69,N69,Q69,T69) -> 3 | Y69: =IFERROR(VLOOKUP(C69,Tabla15[[Piloto]:[Puntos clase]],6, FALSE), " ")
B70: 1 | C70: RAUL CARRASCO SEGOVIA | D70: 4 | E70: 2 | F70: 0 | G70: 0 | H70: 0 | I70: 5 | J70: 6 | K70: 22 | O70: 3 | P70: 6 | Q70: 18 | R70: 1 | S70: 6 | T70: 7 | U70: 47 | V70: =IF(W70>=3,"Sí","No") -> Sí | W70: =COUNTA(H70,K70,N70,Q70,T70) -> 4 | Y70: =IFERROR(VLOOKUP(C70,Tabla15[[Piloto]:[Puntos clase]],6, FALSE), " ") -> 2RM
B71: 4 | C71: JUAN CARLOS AGUADO CUELLAR | D71: 1 | E71: 4 | F71: 0 | G71: 0 | H71: 0 | I71: 0 | J71: 0 | K71: 0 | L71: 0 | M71: 0 | N71: 0 | O71: 14 | P71: 7 | Q71: 42 | R71: 0 | S71: 0 | T71: 0 | U71: 42 | V71: =IF(W71>=3,"Sí","No") -> Sí | W71: =COUNTA(H71,K71,N71,Q71,T71) -> 5 | Y71: =IFERROR(VLOOKUP(C71,Tabla15[[Piloto]:[Puntos clase]],6, FALSE), " ")
B72: 2 | C72: MANUEL ROMÁN MANCEBO SUÁREZ | D72: 4 | E72: 2 | F72: 0 | G72: 9 | H72: 18 | I72: 2 | J72: 4.5 | K72: 13 | O72: 0 | P72: 4.5 | Q72: 9 | U72: 40 | V72: =IF(W72>=3,"Sí","No") -> Sí | W72: =COUNTA(H72,K72,N72,Q72,T72) -> 3 | Y72: =IFERROR(VLOOKUP(C72,Tabla15[[Piloto]:[Puntos clase]],6, FALSE), " ")
B73: 5 | C73: JOSÉ MARÍA SAN JOSÉ ROMERO | D73: 1 | E73: 4 | F73: 0 | G73: 0 | H73: 0 | L73: 0 | M73: 0 | N73: 0 | O73: 12 | P73: 5 | Q73: 34 | U73: 34 | V73: =IF(W73>=3,"Sí","No") -> Sí | W73: =COUNTA(H73,K73,N73,Q73,T73) -> 3 | Y73: =IFERROR(VLOOKUP(C73,Tabla15[[Piloto]:[Puntos clase]],6, FALSE), " ")
B74: 4 | C74: CARLOS VELÁZQUEZ RODRÍGUEZ | D74: 3 | E74: 2 | F74: 0 | G74: 1 | H74: 2 | I74: 1 | J74: 3 | K74: 8 | L74: 0 | M74: 0 | N74: 0 | O74: 2 | P74: 9 | Q74: 22 | R74: 0 | S74: 1 | T74: 1 | U74: 33 | V74: =IF(W74>=3,"Sí","No") -> Sí | W74: =COUNTA(H74,K74,N74,Q74,T74) -> 5 | Y74: =IFERROR(VLOOKUP(C74,Tabla15[[Piloto]:[Puntos clase]],6, FALSE), " ")
D76: P | E76: Primero de clase
D78: 2 | E78: Primero 2RM
E80: Se reparten el 50 % de los puntos de clase de acuerdo al art. 12.2.1 del RD CMT 2025
B83: No optan a las clasificaciones finales según Art. 11.3.1. PCCCTCM los siguientes pilotos:
F84: RS ALCARRIA | I84: RS GUADAMUR | L84: R CM-EL MOLAR | O84: RS NAVALCARNERO | R84: TCT N. BAZTÁN
B85: Pos | C85: PILOTO | D85: Clase | E85: RM | F85: 15 FEBRERO | I85: 5 ABRIL | L85: 11 OCTUBRE | O85: 8 NOVIEMBRE | R85: 29 NOVIEMBRE | U85: TOTAL
F86: sct | G86: cl | H86: total | I86: sct | J86: cl | K86: total | L86: sct | M86: cl | N86: total | O86: sct | P86: cl | Q86: total | R86: sct | S86: cl | T86: total
C87: ÓSCAR BUENO DE LA ROSA | D87: 1 | E87: 4 | L87: 12 | M87: 5 | N87: 51 | U87: 51
C88: ANTONIO OTERO MONTERO | D88: 1 | E88: 4 | F88: 14 | G88: 7 | H88: 42 | U88: 42
C89: SANTIAGO GARCÍA MARTÍN | D89: 3 | E89: 2 | L89: 2 | M89: 7 | N89: 27 | R89: 4 | S89: 5 | T89: 9 | U89: 36
C90: DAVID DE LA OSA SANJUAN | D90: 4 | E90: 2 | F90: 5 | G90: 12 | H90: 34 | U90: 34
C91: ÁNGEL ALONSO MARÍN | D91: 5 | E91: 2 | F91: 1 | G91: 7 | H91: 16 | I91: 0 | J91: 7 | K91: 14 | U91: 30
C92: ÓSCAR ENCINA LINUESA | D92: 5 | E92: 2 | L92: 0 | M92: 7 | N92: 21 | O92: 0 | P92: 3 | Q92: 6 | U92: 27
C93: JOSÉ MARÍA GARCÍA SOLER | D93: 3 | E93: 2 | F93: 4 | G93: 9 | H93: 26 | L93: 0 | M93: 0 | N93: 0 | U93: 26
C94: JOSÉ MARÍA GARCÍA-VIÑÓ SÁNCHEZ | D94: 5 | E94: 2 | L94: 0 | M94: 5 | N94: 15 | O94: 0 | P94: 5 | Q94: 10 | U94: 25
C95: ÁNGEL ALONSO MARÍN | D95: 2 | E95: 2 | L95: 0 | M95: 7 | N95: 21 | U95: 21
C96: ISAAC VERA ALBERRUCHE | D96: 3 | E96: 2 | R96: 8 | S96: 12 | T96: 20 | U96: 20
C97: JAVIER ENCINAS ALARZA | D97: 1 | E97: 4 | F97: 0 | G97: 0 | H97: 0 | O97: 5 | P97: 3 | Q97: 16 | U97: 16
C98: ALEJANDRO VIÑAMBRES ROMERO | D98: 3 | E98: 2 | F98: 0 | G98: 0 | H98: 0 | O98: 0 | P98: 7 | Q98: 14 | U98: 14
C99: ÓSCAR ENCINA LINUESA | D99: 3 | E99: 2 | F99: 0 | G99: 5 | H99: 10 | U99: 10
C100: MANUEL SORIANO DÍAZ | D100: 2 | E100: 2 | F100: 0 | G100: 5 | H100: 10 | O100: 0 | P100: 0 | Q100: 0 | U100: 10
C101: IVÁN ALONSO MARÍN | D101: 5 | E101: 2 | L101: 0 | M101: 0 | N101: 0 | R101: 0 | S101: 9 | T101: 9 | U101: 9
C102: JOSÉ MARÍA CANO JIMÉNEZ | D102: 3 | E102: 2 | F102: 0 | G102: 3 | H102: 6 | I102: 0 | J102: 1 | K102: 2 | U102: 8
C103: JOSÉ MARÍA CANO JIMÉNEZ | D103: 5 | R103: 0 | S103: 7 | T103: 7 | U103: 7
C104: JULIO MARTÍN AGUDO | D104: 3 | E104: 2 | O104: 0 | P104: 0 | Q104: 0 | R104: 2 | S104: 3 | T104: 5 | U104: 5
C105: ANTONIO CONTRERAS CONDE | D105: 3 | E105: 2 | F105: 0 | G105: 0 | H105: 0 | U105: 0
C106: ELBA CORREA LUIS (-) | D106: 3 | E106: 2 | F106: 0 | G106: 0 | H106: 0 | U106: 0
C107: GERMÁN LÓPEZ GARCÍA | D107: 1 | E107: 4 | L107: 0 | M107: 0 | N107: 0 | O107: 0 | P107: 0 | Q107: 0 | U107: 0
C109: Piloto no madrileño que puntúa (art. 11.2.3. PCCCTM) | D109: NOM. (-)
B111: CAMPEONATO MADRILEÑO DE TIERRA 2025
B112: CLASIFICACIÓN FINAL GENERAL DE COPILOTOS
F113: RS ALCARRIA | I113: RS GUADAMUR | L113: R CM-EL MOLAR | O113: RS NAVALCARNERO | R113: TCT N. BAZTÁN
B114: Pos | C114: COPILOTO | D114: Clase | E114: RM | F114: 15 FEBRERO | I114: 5 ABRIL | L114: 11 OCTUBRE | O114: 8 NOVIEMBRE | R114: 29 NOVIEMBRE | U114: TOTAL | V114: ¿CLASIFICA? | W114: PARTICIPACIÓN
...

Sheet POST MAQUEDA PARA WEB
B1: CAMPEONATO MADRILEÑO DE TIERRA 2026 | Y1: Ojo con Arts. 8.6 (Super-Rallye no puntúa ni bloquea), 9.4 (Todos madrileños puntúan y bloquean salvo que no hayan participado (autorizados) en el primer 50%), 9.5 (No madrileños puntúan solo si lo han pedido con art. 11.2.3 PCCCTCM), 12.2.1 (50% de puntos si nº de inscritos, autorizados y con derecho a puntuar y bloquear son 2 o menos) del RD CMT 2026. De las PCCCTCM importa el 11.3.1 (Clasifican si han sido autorizados a tomar salida en 3 pruebas como mínimo del CMA 2026 - 50%) y el 12.1 (Empates)
B2: CLASIFICACIÓN PROVISIONAL GENERAL DE PILOTOS | Y2: SE DESCARTA 1 PRUEBA SI HAY 6 O 7 EN TOTAL POR ART. 13.2 RD CMT 2026 (Si se ha participado/se está autorizado a participar en todas). DSQ no es descartable. En Copa Centro se descarta 1 (Menos DSQ y Todas con mismo coeficiente) y CKM se contabilizan todas y con 50% de puntos si se toma Super-Rallye.
F3: RS ALCARRIA | I3: TCT GUADAMUR | L3: TCT MAQUEDA | O3: RALLYE CAM | R3: RS NAVALCARNERO | U3: TCT NUEVO BAZTÁN
B4: Pos | C4: PILOTO | D4: Clase | E4: RM | F4: 14 FEBRERO | I4: 9 MAYO | L4: 12 SEPTIEMBRE | O4: 10 OCTUBRE | R4: 7 NOVIEMBRE | U4: 28 NOVIEMBRE | X4: TOTAL | Y4: ¿CLASIFICA? | Z4: PARTICIPACIÓN
F5: sct | G5: cl | H5: total | I5: sct | J5: cl | K5: total | L5: sct | M5: cl | N5: total | O5: sct | P5: cl | Q5: total | R5: sct | S5: cl | T5: total | U5: sct | V5: cl | W5: total
B6: 1 | C6: MANUEL GOMEZ-MANZANILLA JAVEGA | D6: =IFERROR(VLOOKUP(C6,Tabla15[[Piloto]:[Puntos clase]],7, FALSE), " ") -> 2 | E6: =LEFT(AB6,LEN(AB6)-2) -> 2 | F6: =IFERROR(VLOOKUP(C6,'01_RS ALCARRIA'!$D$6:$M$36,10,FALSE),"") -> 25 | G6: =IFERROR(VLOOKUP(C6,'01_RS ALCARRIA'!$D$6:$O$36,12,FALSE),"") -> 10 | H6: =(F6+G6)*2 -> 70 | I6: =IFERROR(VLOOKUP(C6,'02_TCT GUADAMUR'!$D$6:$M$36,10,FALSE),"") -> 17 | J6: =IFERROR(VLOOKUP(C6,'02_TCT GUADAMUR'!$D$6:$O$36,12,FALSE),"") -> 6 | K6: =(I6+J6) -> 23 | L6: =IFERROR(VLOOKUP(C6,'03_TCT MAQUEDA'!$D$6:$M$36,10,FALSE),"") -> 17 | M6: =IFERROR(VLOOKUP(C6,'03_TCT MAQUEDA'!$D$6:$O$36,12,FALSE),"") -> 10 | N6: =(L6+M6) -> 27 | X6: =H6+K6+N6+Q6+T6+W6 -> 120 | Y6: =IF(Z6>=3,"Sí","No") -> Sí | Z6: =COUNTA(H6,K6,N6,Q6,T6,W6) -> 3 | AB6: =IFERROR(VLOOKUP(C6,Tabla15[[Piloto]:[Puntos clase]],6, FALSE), " ") -> 2RM
B7: 2 | C7: MANUEL GOMEZ-MANZANILLA ARRABAL | D7: =IFERROR(VLOOKUP(C7,Tabla15[[Piloto]:[Puntos clase]],7, FALSE), " ") -> 2 | E7: =LEFT(AB7,LEN(AB7)-2) -> 2 | F7: =IFERROR(VLOOKUP(C7,'01_RS ALCARRIA'!$D$6:$M$36,10,FALSE),"") -> 20 | G7: =IFERROR(VLOOKUP(C7,'01_RS ALCARRIA'!$D$6:$O$36,12,FALSE),"") -> 8 | H7: =(F7+G7)*2 -> 56 | I7: =IFERROR(VLOOKUP(C7,'02_TCT GUADAMUR'!$D$6:$M$36,10,FALSE),"") -> 25 | J7: =IFERROR(VLOOKUP(C7,'02_TCT GUADAMUR'!$D$6:$O$36,12,FALSE),"") -> 10 | K7: =(I7+J7) -> 35 | L7: =IFERROR(VLOOKUP(C7,'03_TCT MAQUEDA'!$D$6:$M$36,10,FALSE),"") -> 15 | M7: =IFERROR(VLOOKUP(C7,'03_TCT MAQUEDA'!$D$6:$O$36,12,FALSE),"") -> 8 | N7: =(L7+M7) -> 23 | X7: =H7+K7+N7+Q7+T7+W7 -> 114 | Y7: =IF(Z7>=3,"Sí","No") -> Sí | Z7: =COUNTA(H7,K7,N7,Q7,T7,W7) -> 3 | AB7: =IFERROR(VLOOKUP(C7,Tabla15[[Piloto]:[Puntos clase]],6, FALSE), " ") -> 2RM
B8: 3 | C8: CRISTOFER CALERO CARRANZA | D8: =IFERROR(VLOOKUP(C8,Tabla15[[Piloto]:[Puntos clase]],7, FALSE), " ") -> 3 | E8: =LEFT(AB8,LEN(AB8)-2) -> 2 | F8: =IFERROR(VLOOKUP(C8,'01_RS ALCARRIA'!$D$6:$M$36,10,FALSE),"") -> 10 | G8: =IFERROR(VLOOKUP(C8,'01_RS ALCARRIA'!$D$6:$O$36,12,FALSE),"") -> 10 | H8: =(F8+G8)*2 -> 40 | I8: =IFERROR(VLOOKUP(C8,'02_TCT GUADAMUR'!$D$6:$M$36,10,FALSE),"") -> 10 | J8: =IFERROR(VLOOKUP(C8,'02_TCT GUADAMUR'!$D$6:$O$36,12,FALSE),"") -> 8 | K8: =(I8+J8) -> 18 | L8: =IFERROR(VLOOKUP(C8,'03_TCT MAQUEDA'!$D$6:$M$36,10,FALSE),"") -> 8 | M8: =IFERROR(VLOOKUP(C8,'03_TCT MAQUEDA'!$D$6:$O$36,12,FALSE),"") -> 10 | N8: =(L8+M8) -> 18 | X8: =H8+K8+N8+Q8+T8+W8 -> 76 | Y8: =IF(Z8>=3,"Sí","No") -> Sí | Z8: =COUNTA(H8,K8,N8,Q8,T8,W8) -> 3 | AB8: =IFERROR(VLOOKUP(C8,Tabla15[[Piloto]:[Puntos clase]],6, FALSE), " ") -> 2RM
B9: 4 | C9: JAVIER ENCINAS ALARZA | D9: =IFERROR(VLOOKUP(C9,Tabla15[[Piloto]:[Puntos clase]],7, FALSE), " ") -> 1 | E9: =LEFT(AB9,LEN(AB9)-2) -> 4 | F9: =IFERROR(VLOOKUP(C9,'01_RS ALCARRIA'!$D$6:$M$36,10,FALSE),"") -> 12 | G9: =IFERROR(VLOOKUP(C9,'01_RS ALCARRIA'!$D$6:$O$36,12,FALSE),"")/2 -> 4 | H9: =(F9+G9)*2 -> 32 | I9: =IFERROR(VLOOKUP(C9,'02_TCT GUADAMUR'!$D$6:$M$36,10,FALSE),"") -> 15 | J9: =IFERROR(VLOOKUP(C9,'02_TCT GUADAMUR'!$D$6:$O$36,12,FALSE),"") -> 10 | K9: =(I9+J9) -> 25 | L9: 0 | M9: 0 | N9: =(L9+M9) -> 0 | X9: =H9+K9+N9+Q9+T9+W9 -> 57 | Y9: =IF(Z9>=3,"Sí","No") -> Sí | Z9: =COUNTA(H9,K9,N9,Q9,T9,W9) -> 3 | AB9: =IFERROR(VLOOKUP(C9,Tabla15[[Piloto]:[Puntos clase]],6, FALSE), " ") -> 4RM
B10: 5 | C10: ALBERTO LUIS PEREZ | D10: =IFERROR(VLOOKUP(C10,Tabla15[[Piloto]:[Puntos clase]],7, FALSE), " ") -> 5 | E10: =LEFT(AB10,LEN(AB10)-2) -> 2 | F10: =IFERROR(VLOOKUP(C10,'01_RS ALCARRIA'!$D$6:$M$36,10,FALSE),"") -> 4 | G10: =IFERROR(VLOOKUP(C10,'01_RS ALCARRIA'!$D$6:$O$36,12,FALSE),"") -> 10 | H10: =(F10+G10)*2 -> 28 | I10: =IFERROR(VLOOKUP(C10,'02_TCT GUADAMUR'!$D$6:$M$36,10,FALSE),"") -> 8 | J10: =IFERROR(VLOOKUP(C10,'02_TCT GUADAMUR'!$D$6:$O$36,12,FALSE),"") -> 10 | K10: =(I10+J10) -> 18 | X10: =H10+K10+N10+Q10+T10+W10 -> 46 | Y10: =IF(Z10>=3,"Sí","No") -> No | Z10: =COUNTA(H10,K10,N10,Q10,T10,W10) -> 2 | AB10: =IFERROR(VLOOKUP(C10,Tabla15[[Piloto]:[Puntos clase]],6, FALSE), " ") -> 2RM
B11: 5 | C11: ANDRES LOPEZ ARCHILLA | D11: 2 | E11: 2 | I11: =IFERROR(VLOOKUP(C11,'02_TCT GUADAMUR'!$D$6:$M$36,10,FALSE),"") -> 20 | J11: =IFERROR(VLOOKUP(C11,'02_TCT GUADAMUR'!$D$6:$O$36,12,FALSE),"") -> 8 | K11: =(I11+J11) -> 28 | L11: =IFERROR(VLOOKUP(C11,'03_TCT MAQUEDA'!$D$6:$M$36,10,FALSE),"") -> 12 | M11: =IFERROR(VLOOKUP(C11,'03_TCT MAQUEDA'!$D$6:$O$36,12,FALSE),"") -> 6 | N11: =(L11+M11) -> 18 | X11: =H11+K11+N11+Q11+T11+W11 -> 46 | Y11: =IF(Z11>=3,"Sí","No") -> No | Z11: =COUNTA(H11,K11,N11,Q11,T11,W11) -> 2 | AB11: =IFERROR(VLOOKUP(C11,Tabla15[[Piloto]:[Puntos clase]],6, FALSE), " ")
B12: 7 | C12: DIEGO CRUZ MARTINEZ (-) | D12: =IFERROR(VLOOKUP(C12,Tabla15[[Piloto]:[Puntos clase]],7, FALSE), " ") -> 1 | E12: =LEFT(AB12,LEN(AB12)-2) -> 4 | F12: =IFERROR(VLOOKUP(C12,'01_RS ALCARRIA'!$D$6:$M$36,10,FALSE),"") -> 17 | G12: =IFERROR(VLOOKUP(C12,'01_RS ALCARRIA'!$D$6:$O$36,12,FALSE),"")/2 -> 5 | H12: =(F12+G12)*2 -> 44 | X12: =H12+K12+N12+Q12+T12+W12 -> 44 | Y12: =IF(Z12>=3,"Sí","No") -> No | Z12: =COUNTA(H12,K12,N12,Q12,T12,W12) -> 1 | AB12: =IFERROR(VLOOKUP(C12,Tabla15[[Piloto]:[Puntos clase]],6, FALSE), " ") -> 4RM
B13: 8 | C13: RUBEN GONZALEZ PEREZ | D13: 2 | E13: 2 | F13: =IFERROR(VLOOKUP(C13,'01_RS ALCARRIA'!$D$6:$M$36,10,FALSE),"") -> 15 | G13: =IFERROR(VLOOKUP(C13,'01_RS ALCARRIA'!$D$6:$O$36,12,FALSE),"") -> 6 | H13: =(F13+G13)*2 -> 42 | X13: =H13+K13+N13+Q13+T13+W13 -> 42 | Y13: =IF(Z13>=3,"Sí","No") -> No | Z13: =COUNTA(H13,K13,N13,Q13,T13,W13) -> 1 | AB13: =IFERROR(VLOOKUP(C13,Tabla15[[Piloto]:[Puntos clase]],6, FALSE), " ") -> 2RM
B14: 8 | C14: RAUL CARRASCO SEGOVIA | D14: =IFERROR(VLOOKUP(C14,Tabla15[[Piloto]:[Puntos clase]],7, FALSE), " ") -> 4 | E14: =LEFT(AB14,LEN(AB14)-2) -> 2 | F14: =IFERROR(VLOOKUP(C14,'01_RS ALCARRIA'!$D$6:$M$36,10,FALSE),"") -> 3 | G14: =IFERROR(VLOOKUP(C14,'01_RS ALCARRIA'!$D$6:$O$36,12,FALSE),"") -> 10 | H14: =(F14+G14)*2 -> 26 | I14: =IFERROR(VLOOKUP(C14,'02_TCT GUADAMUR'!$D$6:$M$36,10,FALSE),"") -> 6 | J14: =IFERROR(VLOOKUP(C14,'02_TCT GUADAMUR'!$D$6:$O$36,12,FALSE),"") -> 10 | K14: =(I14+J14) -> 16 | X14: =H14+K14+N14+Q14+T14+W14 -> 42 | Y14: =IF(Z14>=3,"Sí","No") -> No | Z14: =COUNTA(H14,K14,N14,Q14,T14,W14) -> 2 | AB14: =IFERROR(VLOOKUP(C14,Tabla15[[Piloto]:[Puntos clase]],6, FALSE), " ") -> 2RM
B15: 8 | C15: ALBERTO DORSCH BLANCO | D15: =IFERROR(VLOOKUP(C15,Tabla15[[Piloto]:[Puntos clase]],7, FALSE), " ") -> 4 | E15: =LEFT(AB15,LEN(AB15)-2) -> 2 | F15: =IFERROR(VLOOKUP(C15,'01_RS ALCARRIA'!$D$6:$M$36,10,FALSE),"") -> 2 | G15: =IFERROR(VLOOKUP(C15,'01_RS ALCARRIA'!$D$6:$O$36,12,FALSE),"") -> 8 | H15: =(F15+G15)*2 -> 20 | I15: =IFERROR(VLOOKUP(C15,'02_TCT GUADAMUR'!$D$6:$M$36,10,FALSE),"") -> 1 | J15: =IFERROR(VLOOKUP(C15,'02_TCT GUADAMUR'!$D$6:$O$36,12,FALSE),"") -> 8 | K15: =(I15+J15) -> 9 | L15: =IFERROR(VLOOKUP(C15,'03_TCT MAQUEDA'!$D$6:$M$36,10,FALSE),"") -> 5 | M15: =IFERROR(VLOOKUP(C15,'03_TCT MAQUEDA'!$D$6:$O$36,12,FALSE),"") -> 8 | N15: =(L15+M15) -> 13 | X15: =H15+K15+N15+Q15+T15+W15 -> 42 | Y15: =IF(Z15>=3,"Sí","No") -> Sí | Z15: =COUNTA(H15,K15,N15,Q15,T15,W15) -> 3 | AB15: =IFERROR(VLOOKUP(C15,Tabla15[[Piloto]:[Puntos clase]],6, FALSE), " ") -> 2RM
B16: 11 | C16: CARLOS VELAZQUEZ RODRIGUEZ | D16: =IFERROR(VLOOKUP(C16,Tabla15[[Piloto]:[Puntos clase]],7, FALSE), " ") -> 3 | E16: =LEFT(AB16,LEN(AB16)-2) -> 2 | F16: =IFERROR(VLOOKUP(C16,'01_RS ALCARRIA'!$D$6:$M$36,10,FALSE),"") -> 5 | G16: =IFERROR(VLOOKUP(C16,'01_RS ALCARRIA'!$D$6:$O$36,12,FALSE),"") -> 5 | H16: =(F16+G16)*2 -> 20 | I16: =IFERROR(VLOOKUP(C16,'02_TCT GUADAMUR'!$D$6:$M$36,10,FALSE),"") -> 3 | J16: =IFERROR(VLOOKUP(C16,'02_TCT GUADAMUR'!$D$6:$O$36,12,FALSE),"") -> 5 | K16: =(I16+J16) -> 8 | L16: =IFERROR(VLOOKUP(C16,'03_TCT MAQUEDA'!$D$6:$M$36,10,FALSE),"") -> 2 | M16: =IFERROR(VLOOKUP(C16,'03_TCT MAQUEDA'!$D$6:$O$36,12,FALSE),"") -> 6 | N16: =(L16+M16) -> 8 | X16: =H16+K16+N16+Q16+T16+W16 -> 36 | Y16: =IF(Z16>=3,"Sí","No") -> Sí | Z16: =COUNTA(H16,K16,N16,Q16,T16,W16) -> 3 | AB16: =IFERROR(VLOOKUP(C16,Tabla15[[Piloto]:[Puntos clase]],6, FALSE), " ") -> 2RM
B17: 12 | C17: JOSE MARIA SAN JOSE ROMERO | D17: 1 | E17: 4 | L17: =IFERROR(VLOOKUP(C17,'03_TCT MAQUEDA'!$D$6:$M$36,10,FALSE),"") -> 25 | M17: =IFERROR(VLOOKUP(C17,'03_TCT MAQUEDA'!$D$6:$O$36,12,FALSE),"") -> 10 | N17: =(L17+M17) -> 35 | X17: =H17+K17+N17+Q17+T17+W17 -> 35 | Y17: =IF(Z17>=3,"Sí","No") -> No | Z17: =COUNTA(H17,K17,N17,Q17,T17,W17) -> 1 | AB17: =IFERROR(VLOOKUP(C17,Tabla15[[Piloto]:[Puntos clase]],6, FALSE), " ")
B18: 13 | C18: SANTIAGO GARCIA MARTIN | D18: =IFERROR(VLOOKUP(C18,Tabla15[[Piloto]:[Puntos clase]],7, FALSE), " ") -> 3 | E18: =LEFT(AB18,LEN(AB18)-2) -> 2 | F18: =IFERROR(VLOOKUP(C18,'01_RS ALCARRIA'!$D$6:$M$36,10,FALSE),"") -> 8 | G18: =IFERROR(VLOOKUP(C18,'01_RS ALCARRIA'!$D$6:$O$36,12,FALSE),"") -> 8 | H18: =(F18+G18)*2 -> 32 | I18: 0 | J18: 0 | K18: =(I18+J18) -> 0 | X18: =H18+K18+N18+Q18+T18+W18 -> 32 | Y18: =IF(Z18>=3,"Sí","No") -> No | Z18: =COUNTA(H18,K18,N18,Q18,T18,W18) -> 2 | AB18: =IFERROR(VLOOKUP(C18,Tabla15[[Piloto]:[Puntos clase]],6, FALSE), " ") -> 2RM
B19: 13 | C19: IVAN AGUADO REOYO | D19: 4 | E19: 2 | F19: =IFERROR(VLOOKUP(C19,'01_RS ALCARRIA'!$D$6:$M$36,10,FALSE),"") -> 0 | G19: =IFERROR(VLOOKUP(C19,'01_RS ALCARRIA'!$D$6:$O$36,12,FALSE),"") -> 5 | H19: =(F19+G19)*2 -> 10 | I19: =IFERROR(VLOOKUP(C19,'02_TCT GUADAMUR'!$D$6:$M$36,10,FALSE),"") -> 0 | J19: =IFERROR(VLOOKUP(C19,'02_TCT GUADAMUR'!$D$6:$O$36,12,FALSE),"") -> 6 | K19: =(I19+J19) -> 6 | L19: =IFERROR(VLOOKUP(C19,'03_TCT MAQUEDA'!$D$6:$M$36,10,FALSE),"") -> 6 | M19: =IFERROR(VLOOKUP(C19,'03_TCT MAQUEDA'!$D$6:$O$36,12,FALSE),"") -> 10 | N19: =(L19+M19) -> 16 | X19: =H19+K19+N19+Q19+T19+W19 -> 32 | Y19: =IF(Z19>=3,"Sí","No") -> Sí | Z19: =COUNTA(H19,K19,N19,Q19,T19,W19) -> 3 | AB19: =IFERROR(VLOOKUP(C19,Tabla15[[Piloto]:[Puntos clase]],6, FALSE), " ") -> 2RM
B20: 15 | C20: ANTONIO OTERO MONTERO | D20: 1 | E20: 4 | L20: =IFERROR(VLOOKUP(C20,'03_TCT MAQUEDA'!$D$6:$M$36,10,FALSE),"") -> 20 | M20: =IFERROR(VLOOKUP(C20,'03_TCT MAQUEDA'!$D$6:$O$36,12,FALSE),"") -> 8 | N20: =(L20+M20) -> 28 | X20: =H20+K20+N20+Q20+T20+W20 -> 28 | Y20: =IF(Z20>=3,"Sí","No") -> No | Z20: =COUNTA(H20,K20,N20,Q20,T20,W20) -> 1 | AB20: =IFERROR(VLOOKUP(C20,Tabla15[[Piloto]:[Puntos clase]],6, FALSE), " ")
B21: 16 | C21: JOSE MARIA GARCIA-VIÑO SANCHEZ | D21: =IFERROR(VLOOKUP(C21,Tabla15[[Piloto]:[Puntos clase]],7, FALSE), " ") -> 3 | E21: =LEFT(AB21,LEN(AB21)-2) -> 2 | F21: =IFERROR(VLOOKUP(C21,'01_RS ALCARRIA'!$D$6:$M$36,10,FALSE),"") -> 6 | G21: =IFERROR(VLOOKUP(C21,'01_RS ALCARRIA'!$D$6:$O$36,12,FALSE),"") -> 6 | H21: =(F21+G21)*2 -> 24 | L21: 0 | M21: 0 | N21: =(L21+M21) -> 0 | X21: =H21+K21+N21+Q21+T21+W21 -> 24 | Y21: =IF(Z21>=3,"Sí","No") -> No | Z21: =COUNTA(H21,K21,N21,Q21,T21,W21) -> 2 | AB21: =IFERROR(VLOOKUP(C21,Tabla15[[Piloto]:[Puntos clase]],6, FALSE), " ") -> 2RM
B22: 17 | C22: DAVID DE LA OSA SANJUAN | D22: 3 | E22: 2 | I22: =IFERROR(VLOOKUP(C22,'02_TCT GUADAMUR'!$D$6:$M$36,10,FALSE),"") -> 12 | J22: =IFERROR(VLOOKUP(C22,'02_TCT GUADAMUR'!$D$6:$O$36,12,FALSE),"") -> 10 | K22: =(I22+J22) -> 22 | X22: =H22+K22+N22+Q22+T22+W22 -> 22 | Y22: =IF(Z22>=3,"Sí","No") -> No | Z22: =COUNTA(H22,K22,N22,Q22,T22,W22) -> 1 | AB22: =IFERROR(VLOOKUP(C22,Tabla15[[Piloto]:[Puntos clase]],6, FALSE), " ")
B23: 18 | C23: ANTONIO PEDROSA GORDILLO | D23: =IFERROR(VLOOKUP(C23,Tabla15[[Piloto]:[Puntos clase]],7, FALSE), " ") -> 5 | E23: =LEFT(AB23,LEN(AB23)-2) -> 2 | F23: 0 | G23: 0 | H23: =(F23+G23)*2 -> 0 | I23: =IFERROR(VLOOKUP(C23,'02_TCT GUADAMUR'!$D$6:$M$36,10,FALSE),"") -> 0 | J23: =IFERROR(VLOOKUP(C23,'02_TCT GUADAMUR'!$D$6:$O$36,12,FALSE),"") -> 6 | K23: =(I23+J23) -> 6 | L23: =IFERROR(VLOOKUP(C23,'03_TCT MAQUEDA'!$D$6:$M$36,10,FALSE),"") -> 10 | M23: =IFERROR(VLOOKUP(C23,'03_TCT MAQUEDA'!$D$6:$O$36,12,FALSE),"")/2 -> 5 | N23: =(L23+M23) -> 15 | X23: =H23+K23+N23+Q23+T23+W23 -> 21 | Y23: =IF(Z23>=3,"Sí","No") -> Sí | Z23: =COUNTA(H23,K23,N23,Q23,T23,W23) -> 3 | AB23: =IFERROR(VLOOKUP(C23,Tabla15[[Piloto]:[Puntos clase]],6, FALSE), " ") -> 2RM
B24: 19 | C24: MARIANO ALONSO GENTILE | D24: 4 | E24: =LEFT(AB24,LEN(AB24)-2) -> 2 | F24: =IFERROR(VLOOKUP(C24,'01_RS ALCARRIA'!$D$6:$M$36,10,FALSE),"") -> 0 | G24: =IFERROR(VLOOKUP(C24,'01_RS ALCARRIA'!$D$6:$O$36,12,FALSE),"") -> 6 | H24: =(F24+G24)*2 -> 12 | I24: =IFERROR(VLOOKUP(C24,'02_TCT GUADAMUR'!$D$6:$M$36,10,FALSE),"") -> 0 | J24: =IFERROR(VLOOKUP(C24,'02_TCT GUADAMUR'!$D$6:$O$36,12,FALSE),"") -> 5 | K24: =(I24+J24) -> 5 | X24: =H24+K24+N24+Q24+T24+W24 -> 17 | Y24: =IF(Z24>=3,"Sí","No") -> No | Z24: =COUNTA(H24,K24,N24,Q24,T24,W24) -> 2 | AB24: =IFERROR(VLOOKUP(C24,Tabla15[[Piloto]:[Puntos clase]],6, FALSE), " ") -> 2RM
B25: 20 | C25: PELI | D25: =IFERROR(VLOOKUP(C25,Tabla15[[Piloto]:[Puntos clase]],7, FALSE), " ") -> 3 | E25: =LEFT(AB25,LEN(AB25)-2) -> 2 | F25: =IFERROR(VLOOKUP(C25,'01_RS ALCARRIA'!$D$6:$M$36,10,FALSE),"") -> 0 | G25: =IFERROR(VLOOKUP(C25,'01_RS ALCARRIA'!$D$6:$O$36,12,FALSE),"") -> 0 | H25: =(F25+G25)*2 -> 0 | I25: =IFERROR(VLOOKUP(C25,'02_TCT GUADAMUR'!$D$6:$M$36,10,FALSE),"") -> 0 | J25: =IFERROR(VLOOKUP(C25,'02_TCT GUADAMUR'!$D$6:$O$36,12,FALSE),"") -> 1 | K25: =(I25+J25) -> 1 | L25: =IFERROR(VLOOKUP(C25,'03_TCT MAQUEDA'!$D$6:$M$36,10,FALSE),"") -> 4 | M25: =IFERROR(VLOOKUP(C25,'03_TCT MAQUEDA'!$D$6:$O$36,12,FALSE),"") -> 8 | N25: =(L25+M25) -> 12 | X25: =H25+K25+N25+Q25+T25+W25 -> 13 | Y25: =IF(Z25>=3,"Sí","No") -> Sí | Z25: =COUNTA(H25,K25,N25,Q25,T25,W25) -> 3 | AB25: =IFERROR(VLOOKUP(C25,Tabla15[[Piloto]:[Puntos clase]],6, FALSE), " ") -> 2RM
B26: 21 | C26: RUBEN VELAZQUEZ BERNARDO | D26: =IFERROR(VLOOKUP(C26,Tabla15[[Piloto]:[Puntos clase]],7, FALSE), " ") -> 5 | E26: =LEFT(AB26,LEN(AB26)-2) -> 4 | F26: 0 | G26: 0 | H26: =(F26+G26)*2 -> 0 | I26: =IFERROR(VLOOKUP(C26,'02_TCT GUADAMUR'!$D$6:$M$36,10,FALSE),"") -> 4 | J26: =IFERROR(VLOOKUP(C26,'02_TCT GUADAMUR'!$D$6:$O$36,12,FALSE),"") -> 8 | K26: =(I26+J26) -> 12 | X26: =H26+K26+N26+Q26+T26+W26 -> 12 | Y26: =IF(Z26>=3,"Sí","No") -> No | Z26: =COUNTA(H26,K26,N26,Q26,T26,W26) -> 2 | AB26: =IFERROR(VLOOKUP(C26,Tabla15[[Piloto]:[Puntos clase]],6, FALSE), " ") -> 4RM
B27: 22 | C27: ARMANDO GARCIA-MORENO LOPEZ | D27: 3 | E27: 2 | I27: =IFERROR(VLOOKUP(C27,'02_TCT GUADAMUR'!$D$6:$M$36,10,FALSE),"") -> 5 | J27: =IFERROR(VLOOKUP(C27,'02_TCT GUADAMUR'!$D$6:$O$36,12,FALSE),"") -> 6 | K27: =(I27+J27) -> 11 | L27: 0 | M27: 0 | N27: =(L27+M27) -> 0 | X27: =H27+K27+N27+Q27+T27+W27 -> 11 | Y27: =IF(Z27>=3,"Sí","No") -> No | Z27: =COUNTA(H27,K27,N27,Q27,T27,W27) -> 2 | AB27: =IFERROR(VLOOKUP(C27,Tabla15[[Piloto]:[Puntos clase]],6, FALSE), " ")
B28: 23 | C28: ALVARO MANZANO BONILLA | D28: 4 | E28: 2 | I28: =IFERROR(VLOOKUP(C28,'02_TCT GUADAMUR'!$D$6:$M$36,10,FALSE),"") -> 0 | J28: =IFERROR(VLOOKUP(C28,'02_TCT GUADAMUR'!$D$6:$O$36,12,FALSE),"") -> 3 | K28: =(I28+J28) -> 3 | L28: =IFERROR(VLOOKUP(C28,'03_TCT MAQUEDA'!$D$6:$M$36,10,FALSE),"") -> 0 | M28: =IFERROR(VLOOKUP(C28,'03_TCT MAQUEDA'!$D$6:$O$36,12,FALSE),"") -> 6 | N28: =(L28+M28) -> 6 | X28: =H28+K28+N28+Q28+T28+W28 -> 9 | Y28: =IF(Z28>=3,"Sí","No") -> No | Z28: =COUNTA(H28,K28,N28,Q28,T28,W28) -> 2 | AB28: =IFERROR(VLOOKUP(C28,Tabla15[[Piloto]:[Puntos clase]],6, FALSE), " ")
B29: 24 | C29: FRANCISCO DEL POZO MARTINEZ | D29: =IFERROR(VLOOKUP(C29,Tabla15[[Piloto]:[Puntos clase]],7, FALSE), " ") -> 3 | E29: =LEFT(AB29,LEN(AB29)-2) -> 2 | F29: =IFERROR(VLOOKUP(C29,'01_RS ALCARRIA'!$D$6:$M$36,10,FALSE),"") -> 1 | G29: =IFERROR(VLOOKUP(C29,'01_RS ALCARRIA'!$D$6:$O$36,12,FALSE),"") -> 3 | H29: =(F29+G29)*2 -> 8 | X29: =H29+K29+N29+Q29+T29+W29 -> 8 | Y29: =IF(Z29>=3,"Sí","No") -> No | Z29: =COUNTA(H29,K29,N29,Q29,T29,W29) -> 1 | AB29: =IFERROR(VLOOKUP(C29,Tabla15[[Piloto]:[Puntos clase]],6, FALSE), " ") -> 2RM
B30: 25 | C30: JULIAN GARCIA MUÑOZ | D30: 5 | E30: 2 | L30: =IFERROR(VLOOKUP(C30,'03_TCT MAQUEDA'!$D$6:$M$36,10,FALSE),"") -> 3 | M30: =IFERROR(VLOOKUP(C30,'03_TCT MAQUEDA'!$D$6:$O$36,12,FALSE),"")/2 -> 4 | N30: =(L30+M30) -> 7 | X30: =H30+K30+N30+Q30+T30+W30 -> 7 | Y30: =IF(Z30>=3,"Sí","No") -> No | Z30: =COUNTA(H30,K30,N30,Q30,T30,W30) -> 1 | AB30: =IFERROR(VLOOKUP(C30,Tabla15[[Piloto]:[Puntos clase]],6, FALSE), " ")
B31: 26 | C31: SERGIO VILLALBA TEJEDA | D31: 3 | E31: 2 | F31: 0 | G31: 0 | H31: =(F31+G31)*2 -> 0 | L31: =IFERROR(VLOOKUP(C31,'03_TCT MAQUEDA'!$D$6:$M$36,10,FALSE),"") -> 1 | M31: =IFERROR(VLOOKUP(C31,'03_TCT MAQUEDA'!$D$6:$O$36,12,FALSE),"") -> 5 | N31: =(L31+M31) -> 6 | X31: =H31+K31+N31+Q31+T31+W31 -> 6 | Y31: =IF(Z31>=3,"Sí","No") -> No | Z31: =COUNTA(H31,K31,N31,Q31,T31,W31) -> 2 | AB31: =IFERROR(VLOOKUP(C31,Tabla15[[Piloto]:[Puntos clase]],6, FALSE), " ") -> 2RM
B32: 26 | C32: GERMAN LOPEZ GARCIA | D32: 1 | E32: 4 | I32: 0 | J32: 0 | K32: =(I32+J32) -> 0 | L32: =IFERROR(VLOOKUP(C32,'03_TCT MAQUEDA'!$D$6:$M$36,10,FALSE),"") -> 0 | M32: =IFERROR(VLOOKUP(C32,'03_TCT MAQUEDA'!$D$6:$O$36,12,FALSE),"") -> 6 | N32: =(L32+M32) -> 6 | X32: =H32+K32+N32+Q32+T32+W32 -> 6 | Y32: =IF(Z32>=3,"Sí","No") -> No | Z32: =COUNTA(H32,K32,N32,Q32,T32,W32) -> 2 | AB32: =IFERROR(VLOOKUP(C32,Tabla15[[Piloto]:[Puntos clase]],6, FALSE), " ")
B33: 28 | C33: JOSE MANUEL CERRATO NOGUEIRA | D33: 3 | E33: 2 | F33: =IFERROR(VLOOKUP(C33,'01_RS ALCARRIA'!$D$6:$M$36,10,FALSE),"") -> 0 | G33: =IFERROR(VLOOKUP(C33,'01_RS ALCARRIA'!$D$6:$O$36,12,FALSE),"") -> 0 | H33: =(F33+G33)*2 -> 0 | I33: =IFERROR(VLOOKUP(C33,'02_TCT GUADAMUR'!$D$6:$M$36,10,FALSE),"") -> 2 | J33: =IFERROR(VLOOKUP(C33,'02_TCT GUADAMUR'!$D$6:$O$36,12,FALSE),"") -> 3 | K33: =(I33+J33) -> 5 | X33: =H33+K33+N33+Q33+T33+W33 -> 5 | Y33: =IF(Z33>=3,"Sí","No") -> No | Z33: =COUNTA(H33,K33,N33,Q33,T33,W33) -> 2 | AB33: =IFERROR(VLOOKUP(C33,Tabla15[[Piloto]:[Puntos clase]],6, FALSE), " ") -> 2RM
B34: 28 | C34: MANUEL SORIANO DIAZ | D34: =IFERROR(VLOOKUP(C34,Tabla15[[Piloto]:[Puntos clase]],7, FALSE), " ") -> 2 | E34: =LEFT(AB34,LEN(AB34)-2) -> 2 | F34: 0 | G34: 0 | H34: =(F34+G34)*2 -> 0 | I34: 0 | J34: 0 | K34: =(I34+J34) -> 0 | L34: =IFERROR(VLOOKUP(C34,'03_TCT MAQUEDA'!$D$6:$M$36,10,FALSE),"") -> 0 | M34: =IFERROR(VLOOKUP(C34,'03_TCT MAQUEDA'!$D$6:$O$36,12,FALSE),"") -> 5 | N34: =(L34+M34) -> 5 | X34: =H34+K34+N34+Q34+T34+W34 -> 5 | Y34: =IF(Z34>=3,"Sí","No") -> Sí | Z34: =COUNTA(H34,K34,N34,Q34,T34,W34) -> 3 | AB34: =IFERROR(VLOOKUP(C34,Tabla15[[Piloto]:[Puntos clase]],6, FALSE), " ") -> 2RM
B35: 28 | C35: SERGIO MARTIN SANCHEZ | D35: 2 | E35: 2 | I35: =IFERROR(VLOOKUP(C35,'02_TCT GUADAMUR'!$D$6:$M$36,10,FALSE),"") -> 0 | J35: =IFERROR(VLOOKUP(C35,'02_TCT GUADAMUR'!$D$6:$O$36,12,FALSE),"") -> 5 | K35: =(I35+J35) -> 5 | L35: 0 | M35: 0 | N35: =(L35+M35) -> 0 | X35: =H35+K35+N35+Q35+T35+W35 -> 5 | Y35: =IF(Z35>=3,"Sí","No") -> No | Z35: =COUNTA(H35,K35,N35,Q35,T35,W35) -> 2 | AB35: =IFERROR(VLOOKUP(C35,Tabla15[[Piloto]:[Puntos clase]],6, FALSE), " ")
B36: 28 | C36: MIGUEL ANGEL UREÑA GARCIA | D36: 4 | E36: 2 | I36: 0 | J36: 0 | K36: =(I36+J36) -> 0 | L36: =IFERROR(VLOOKUP(C36,'03_TCT MAQUEDA'!$D$6:$M$36,10,FALSE),"") -> 0 | M36: =IFERROR(VLOOKUP(C36,'03_TCT MAQUEDA'!$D$6:$O$36,12,FALSE),"") -> 5 | N36: =(L36+M36) -> 5 | X36: =H36+K36+N36+Q36+T36+W36 -> 5 | Y36: =IF(Z36>=3,"Sí","No") -> No | Z36: =COUNTA(H36,K36,N36,Q36,T36,W36) -> 2 | AB36: =IFERROR(VLOOKUP(C36,Tabla15[[Piloto]:[Puntos clase]],6, FALSE), " ")
B37: 32 | C37: MARCOS JOSE DEL CID JIMENEZ | D37: =IFERROR(VLOOKUP(C37,Tabla15[[Piloto]:[Puntos clase]],7, FALSE), " ") -> 3 | E37: =LEFT(AB37,LEN(AB37)-2) -> 2 | F37: =IFERROR(VLOOKUP(C37,'01_RS ALCARRIA'!$D$6:$M$36,10,FALSE),"") -> 0 | G37: =IFERROR(VLOOKUP(C37,'01_RS ALCARRIA'!$D$6:$O$36,12,FALSE),"") -> 0 | H37: =(F37+G37)*2 -> 0 | I37: =IFERROR(VLOOKUP(C37,'02_TCT GUADAMUR'!$D$6:$M$36,10,FALSE),"") -> 0 | J37: =IFERROR(VLOOKUP(C37,'02_TCT GUADAMUR'!$D$6:$O$36,12,FALSE),"") -> 0 | K37: =(I37+J37) -> 0 | L37: =IFERROR(VLOOKUP(C37,'03_TCT MAQUEDA'!$D$6:$M$36,10,FALSE),"") -> 0 | M37: =IFERROR(VLOOKUP(C37,'03_TCT MAQUEDA'!$D$6:$O$36,12,FALSE),"") -> 3 | N37: =(L37+M37) -> 3 | X37: =H37+K37+N37+Q37+T37+W37 -> 3 | Y37: =IF(Z37>=3,"Sí","No") -> Sí | Z37: =COUNTA(H37,K37,N37,Q37,T37,W37) -> 3 | AB37: =IFERROR(VLOOKUP(C37,Tabla15[[Piloto]:[Puntos clase]],6, FALSE), " ") -> 2RM
B38: 33 | C38: JULIO MARTIN AGUDO | D38: =IFERROR(VLOOKUP(C38,Tabla15[[Piloto]:[Puntos clase]],7, FALSE), " ") -> 3 | E38: =LEFT(AB38,LEN(AB38)-2) -> 2 | F38: =IFERROR(VLOOKUP(C38,'01_RS ALCARRIA'!$D$6:$M$36,10,FALSE),"") -> 0 | G38: =IFERROR(VLOOKUP(C38,'01_RS ALCARRIA'!$D$6:$O$36,12,FALSE),"") -> 1 | H38: =(F38+G38)*2 -> 2 | I38: =IFERROR(VLOOKUP(C38,'02_TCT GUADAMUR'!$D$6:$M$36,10,FALSE),"") -> 0 | J38: =IFERROR(VLOOKUP(C38,'02_TCT GUADAMUR'!$D$6:$O$36,12,FALSE),"") -> 0 | K38: =(I38+J38) -> 0 | L38: 0 | M38: 0 | N38: =(L38+M38) -> 0 | X38: =H38+K38+N38+Q38+T38+W38 -> 2 | Y38: =IF(Z38>=3,"Sí","No") -> Sí | Z38: =COUNTA(H38,K38,N38,Q38,T38,W38) -> 3 | AB38: =IFERROR(VLOOKUP(C38,Tabla15[[Piloto]:[Puntos clase]],6, FALSE), " ") -> 2RM
B39: 34 | C39: ALEJANDRO VIÑAMBRES ROMERO | D39: =IFERROR(VLOOKUP(C39,Tabla15[[Piloto]:[Puntos clase]],7, FALSE), " ") -> 3 | E39: 2 | F39: =IFERROR(VLOOKUP(C39,'01_RS ALCARRIA'!$D$6:$M$36,10,FALSE),"") -> 0 | G39: =IFERROR(VLOOKUP(C39,'01_RS ALCARRIA'!$D$6:$O$36,12,FALSE),"") -> 0 | H39: =(F39+G39)*2 -> 0 | L39: =IFERROR(VLOOKUP(C39,'03_TCT MAQUEDA'!$D$6:$M$36,10,FALSE),"") -> 0 | M39: =IFERROR(VLOOKUP(C39,'03_TCT MAQUEDA'!$D$6:$O$36,12,FALSE),"") -> 1 | N39: =(L39+M39) -> 1 | X39: =H39+K39+N39+Q39+T39+W39 -> 1 | Y39: =IF(Z39>=3,"Sí","No") -> No | Z39: =COUNTA(H39,K39,N39,Q39,T39,W39) -> 2
B40: - | C40: VICTOR GARRIDO GONZALEZ | D40: =IFERROR(VLOOKUP(C40,Tabla15[[Piloto]:[Puntos clase]],7, FALSE), " ") -> 3 | E40: 2 | F40: =IFERROR(VLOOKUP(C40,'01_RS ALCARRIA'!$D$6:$M$36,10,FALSE),"") -> 0 | G40: =IFERROR(VLOOKUP(C40,'01_RS ALCARRIA'!$D$6:$O$36,12,FALSE),"") -> 0 | H40: =(F40+G40)*2 -> 0 | X40: =H40+K40+N40+Q40+T40+W40 -> 0
B41: - | C41: IVAN ALONSO MARIN | D41: =IFERROR(VLOOKUP(C41,Tabla15[[Piloto]:[Puntos clase]],7, FALSE), " ") -> 5 | E41: 2 | F41: 0 | G41: 0 | H41: =(F41+G41)*2 -> 0 | X41: =H41+K41+N41+Q41+T41+W41 -> 0
B42: - | C42: BELTRAN MARTINEZ REGUERA | D42: =IFERROR(VLOOKUP(C42,Tabla15[[Piloto]:[Puntos clase]],7, FALSE), " ") -> 4 | E42: 2 | F42: 0 | G42: 0 | H42: =(F42+G42)*2 -> 0 | X42: =H42+K42+N42+Q42+T42+W42 -> 0
B43: - | C43: JUAN CARLOS AGUADO CUELLAR | D43: * | E43: * | I43: 0 | J43: 0 | K43: =(I43+J43) -> 0 | L43: 0 | M43: 0 | N43: =(L43+M43) -> 0 | X43: =H43+K43+N43+Q43+T43+W43 -> 0
B44: - | C44: PEDRO LOPEZ MARTIN | D44: 3 | E44: 2 | I44: 0 | J44: 0 | K44: =(I44+J44) -> 0 | L44: 0 | M44: 0 | N44: =(L44+M44) -> 0 | X44: =H44+K44+N44+Q44+T44+W44 -> 0
B45: - | C45: RAFAEL PEDROSA BUENO | D45: 3 | E45: 2 | L45: 0 | M45: 0 | N45: =(L45+M45) -> 0 | X45: =H45+K45+N45+Q45+T45+W45 -> 0
B46: - | C46: JOSE MARIA CANO JIMENEZ | D46: 3 | E46: 2 | L46: 0 | M46: 0 | N46: =(L46+M46) -> 0 | X46: =H46+K46+N46+Q46+T46+W46 -> 0
E49: Se reparten el 50 % de los puntos de clase (Art. 12.2.1 del RD CMT 2026)
D51: NOM (-) | E51: Piloto sin licencia adscrita a la FMA que puntúa (art. 11.2.3. PCCCTM)
B53: CAMPEONATO MADRILEÑO DE TIERRA 2026
B54: CLASIFICACIÓN PROVISIONAL POR CLASES DE PILOTOS
F55: RS ALCARRIA | I55: TCT GUADAMUR | L55: TCT MAQUEDA | O55: RALLYE CAM | R55: RS NAVALCARNERO | U55: TCT NUEVO BAZTÁN
B56: Pos | C56: PILOTO | D56: Clase | E56: RM | F56: 14 FEBRERO | I56: 9 MAYO | L56: 12 SEPTIEMBRE | O56: 10 OCTUBRE | R56: 7 NOVIEMBRE | U56: 28 NOVIEMBRE | X56: TOTAL | Y56: ¿CLASIFICA? | Z56: PARTICIPACIÓN
F57: sct | G57: cl | H57: total | I57: sct | J57: cl | K57: total | L57: sct | M57: cl | N57: total | O57: sct | P57: cl | Q57: total | R57: sct | S57: cl | T57: total | U57: sct | V57: cl | W57: total
B58: 1 | C58: MANUEL GOMEZ-MANZANILLA JAVEGA | D58: =IFERROR(VLOOKUP(C58,Tabla15[[Piloto]:[Puntos clase]],7, FALSE), " ") -> 2 | E58: =LEFT(AB58,LEN(AB58)-2) -> 2 | F58: =IFERROR(VLOOKUP(C58,'01_RS ALCARRIA'!$D$6:$M$36,10,FALSE),"") -> 25 | G58: =IFERROR(VLOOKUP(C58,'01_RS ALCARRIA'!$D$6:$O$36,12,FALSE),"") -> 10 | H58: =(F58+G58)*2 -> 70 | I58: =IFERROR(VLOOKUP(C58,'02_TCT GUADAMUR'!$D$6:$M$36,10,FALSE),"") -> 17 | J58: =IFERROR(VLOOKUP(C58,'02_TCT GUADAMUR'!$D$6:$O$36,12,FALSE),"") -> 6 | K58: =(I58+J58) -> 23 | L58: =IFERROR(VLOOKUP(C58,'03_TCT MAQUEDA'!$D$6:$M$36,10,FALSE),"") -> 17 | M58: =IFERROR(VLOOKUP(C58,'03_TCT MAQUEDA'!$D$6:$O$36,12,FALSE),"") -> 10 | N58: =(L58+M58) -> 27 | X58: =H58+K58+N58+Q58+T58+W58 -> 120 | Y58: =IF(Z58>=3,"Sí","No") -> Sí | Z58: =COUNTA(H58,K58,N58,Q58,T58,W58) -> 3 | AB58: =IFERROR(VLOOKUP(C58,Tabla15[[Piloto]:[Puntos clase]],6, FALSE), " ") -> 2RM
B59: 2 | C59: MANUEL GOMEZ-MANZANILLA ARRABAL | D59: =IFERROR(VLOOKUP(C59,Tabla15[[Piloto]:[Puntos clase]],7, FALSE), " ") -> 2 | E59: =LEFT(AB59,LEN(AB59)-2) -> 2 | F59: =IFERROR(VLOOKUP(C59,'01_RS ALCARRIA'!$D$6:$M$36,10,FALSE),"") -> 20 | G59: =IFERROR(VLOOKUP(C59,'01_RS ALCARRIA'!$D$6:$O$36,12,FALSE),"") -> 8 | H59: =(F59+G59)*2 -> 56 | I59: =IFERROR(VLOOKUP(C59,'02_TCT GUADAMUR'!$D$6:$M$36,10,FALSE),"") -> 25 | J59: =IFERROR(VLOOKUP(C59,'02_TCT GUADAMUR'!$D$6:$O$36,12,FALSE),"") -> 10 | K59: =(I59+J59) -> 35 | L59: =IFERROR(VLOOKUP(C59,'03_TCT MAQUEDA'!$D$6:$M$36,10,FALSE),"") -> 15 | M59: =IFERROR(VLOOKUP(C59,'03_TCT MAQUEDA'!$D$6:$O$36,12,FALSE),"") -> 8 | N59: =(L59+M59) -> 23 | X59: =H59+K59+N59+Q59+T59+W59 -> 114 | Y59: =IF(Z59>=3,"Sí","No") -> Sí | Z59: =COUNTA(H59,K59,N59,Q59,T59,W59) -> 3 | AB59: =IFERROR(VLOOKUP(C59,Tabla15[[Piloto]:[Puntos clase]],6, FALSE), " ") -> 2RM
B60: 1 | C60: CRISTOFER CALERO CARRANZA | D60: =IFERROR(VLOOKUP(C60,Tabla15[[Piloto]:[Puntos clase]],7, FALSE), " ") -> 3 | E60: =LEFT(AB60,LEN(AB60)-2) -> 2 | F60: =IFERROR(VLOOKUP(C60,'01_RS ALCARRIA'!$D$6:$M$36,10,FALSE),"") -> 10 | G60: =IFERROR(VLOOKUP(C60,'01_RS ALCARRIA'!$D$6:$O$36,12,FALSE),"") -> 10 | H60: =(F60+G60)*2 -> 40 | I60: =IFERROR(VLOOKUP(C60,'02_TCT GUADAMUR'!$D$6:$M$36,10,FALSE),"") -> 10 | J60: =IFERROR(VLOOKUP(C60,'02_TCT GUADAMUR'!$D$6:$O$36,12,FALSE),"") -> 8 | K60: =(I60+J60) -> 18 | L60: =IFERROR(VLOOKUP(C60,'03_TCT MAQUEDA'!$D$6:$M$36,10,FALSE),"") -> 8 | M60: =IFERROR(VLOOKUP(C60,'03_TCT MAQUEDA'!$D$6:$O$36,12,FALSE),"") -> 10 | N60: =(L60+M60) -> 18 | X60: =H60+K60+N60+Q60+T60+W60 -> 76 | Y60: =IF(Z60>=3,"Sí","No") -> Sí | Z60: =COUNTA(H60,K60,N60,Q60,T60,W60) -> 3 | AB60: =IFERROR(VLOOKUP(C60,Tabla15[[Piloto]:[Puntos clase]],6, FALSE), " ") -> 2RM
B61: 1 | C61: JAVIER ENCINAS ALARZA | D61: =IFERROR(VLOOKUP(C61,Tabla15[[Piloto]:[Puntos clase]],7, FALSE), " ") -> 1 | E61: =LEFT(AB61,LEN(AB61)-2) -> 4 | F61: =IFERROR(VLOOKUP(C61,'01_RS ALCARRIA'!$D$6:$M$36,10,FALSE),"") -> 12 | G61: =IFERROR(VLOOKUP(C61,'01_RS ALCARRIA'!$D$6:$O$36,12,FALSE),"")/2 -> 4 | H61: =(F61+G61)*2 -> 32 | I61: =IFERROR(VLOOKUP(C61,'02_TCT GUADAMUR'!$D$6:$M$36,10,FALSE),"") -> 15 | J61: =IFERROR(VLOOKUP(C61,'02_TCT GUADAMUR'!$D$6:$O$36,12,FALSE),"") -> 10 | K61: =(I61+J61) -> 25 | L61: 0 | M61: 0 | N61: =(L61+M61) -> 0 | X61: =H61+K61+N61+Q61+T61+W61 -> 57 | Y61: =IF(Z61>=3,"Sí","No") -> Sí | Z61: =COUNTA(H61,K61,N61,Q61,T61,W61) -> 3 | AB61: =IFERROR(VLOOKUP(C61,Tabla15[[Piloto]:[Puntos clase]],6, FALSE), " ") -> 4RM
B62: 1 | C62: ALBERTO LUIS PEREZ | D62: =IFERROR(VLOOKUP(C62,Tabla15[[Piloto]:[Puntos clase]],7, FALSE), " ") -> 5 | E62: =LEFT(AB62,LEN(AB62)-2) -> 2 | F62: =IFERROR(VLOOKUP(C62,'01_RS ALCARRIA'!$D$6:$M$36,10,FALSE),"") -> 4 | G62: =IFERROR(VLOOKUP(C62,'01_RS ALCARRIA'!$D$6:$O$36,12,FALSE),"") -> 10 | H62: =(F62+G62)*2 -> 28 | I62: =IFERROR(VLOOKUP(C62,'02_TCT GUADAMUR'!$D$6:$M$36,10,FALSE),"") -> 8 | J62: =IFERROR(VLOOKUP(C62,'02_TCT GUADAMUR'!$D$6:$O$36,12,FALSE),"") -> 10 | K62: =(I62+J62) -> 18 | X62: =H62+K62+N62+Q62+T62+W62 -> 46 | Y62: =IF(Z62>=3,"Sí","No") -> No | Z62: =COUNTA(H62,K62,N62,Q62,T62,W62) -> 2 | AB62: =IFERROR(VLOOKUP(C62,Tabla15[[Piloto]:[Puntos clase]],6, FALSE), " ") -> 2RM
B63: 3 | C63: ANDRES LOPEZ ARCHILLA | D63: 2 | E63: 2 | I63: =IFERROR(VLOOKUP(C63,'02_TCT GUADAMUR'!$D$6:$M$36,10,FALSE),"") -> 20 | J63: =IFERROR(VLOOKUP(C63,'02_TCT GUADAMUR'!$D$6:$O$36,12,FALSE),"") -> 8 | K63: =(I63+J63) -> 28 | L63: =IFERROR(VLOOKUP(C63,'03_TCT MAQUEDA'!$D$6:$M$36,10,FALSE),"") -> 12 | M63: =IFERROR(VLOOKUP(C63,'03_TCT MAQUEDA'!$D$6:$O$36,12,FALSE),"") -> 6 | N63: =(L63+M63) -> 18 | X63: =H63+K63+N63+Q63+T63+W63 -> 46 | Y63: =IF(Z63>=3,"Sí","No") -> No | Z63: =COUNTA(H63,K63,N63,Q63,T63,W63) -> 2 | AB63: =IFERROR(VLOOKUP(C63,Tabla15[[Piloto]:[Puntos clase]],6, FALSE), " ")
B64: 2 | C64: DIEGO CRUZ MARTINEZ (-) | D64: =IFERROR(VLOOKUP(C64,Tabla15[[Piloto]:[Puntos clase]],7, FALSE), " ") -> 1 | E64: =LEFT(AB64,LEN(AB64)-2) -> 4 | F64: =IFERROR(VLOOKUP(C64,'01_RS ALCARRIA'!$D$6:$M$36,10,FALSE),"") -> 17 | G64: =IFERROR(VLOOKUP(C64,'01_RS ALCARRIA'!$D$6:$O$36,12,FALSE),"")/2 -> 5 | H64: =(F64+G64)*2 -> 44 | X64: =H64+K64+N64+Q64+T64+W64 -> 44 | Y64: =IF(Z64>=3,"Sí","No") -> No | Z64: =COUNTA(H64,K64,N64,Q64,T64,W64) -> 1 | AB64: =IFERROR(VLOOKUP(C64,Tabla15[[Piloto]:[Puntos clase]],6, FALSE), " ") -> 4RM
B65: 4 | C65: RUBEN GONZALEZ PEREZ | D65: 2 | E65: 2 | F65: =IFERROR(VLOOKUP(C65,'01_RS ALCARRIA'!$D$6:$M$36,10,FALSE),"") -> 15 | G65: =IFERROR(VLOOKUP(C65,'01_RS ALCARRIA'!$D$6:$O$36,12,FALSE),"") -> 6 | H65: =(F65+G65)*2 -> 42 | X65: =H65+K65+N65+Q65+T65+W65 -> 42 | Y65: =IF(Z65>=3,"Sí","No") -> No | Z65: =COUNTA(H65,K65,N65,Q65,T65,W65) -> 1 | AB65: =IFERROR(VLOOKUP(C65,Tabla15[[Piloto]:[Puntos clase]],6, FALSE), " ") -> 2RM
B66: 1 | C66: RAUL CARRASCO SEGOVIA | D66: =IFERROR(VLOOKUP(C66,Tabla15[[Piloto]:[Puntos clase]],7, FALSE), " ") -> 4 | E66: =LEFT(AB66,LEN(AB66)-2) -> 2 | F66: =IFERROR(VLOOKUP(C66,'01_RS ALCARRIA'!$D$6:$M$36,10,FALSE),"") -> 3 | G66: =IFERROR(VLOOKUP(C66,'01_RS ALCARRIA'!$D$6:$O$36,12,FALSE),"") -> 10 | H66: =(F66+G66)*2 -> 26 | I66: =IFERROR(VLOOKUP(C66,'02_TCT GUADAMUR'!$D$6:$M$36,10,FALSE),"") -> 6 | J66: =IFERROR(VLOOKUP(C66,'02_TCT GUADAMUR'!$D$6:$O$36,12,FALSE),"") -> 10 | K66: =(I66+J66) -> 16 | X66: =H66+K66+N66+Q66+T66+W66 -> 42 | Y66: =IF(Z66>=3,"Sí","No") -> No | Z66: =COUNTA(H66,K66,N66,Q66,T66,W66) -> 2 | AB66: =IFERROR(VLOOKUP(C66,Tabla15[[Piloto]:[Puntos clase]],6, FALSE), " ") -> 2RM
B67: 2 | C67: ALBERTO DORSCH BLANCO | D67: =IFERROR(VLOOKUP(C67,Tabla15[[Piloto]:[Puntos clase]],7, FALSE), " ") -> 4 | E67: =LEFT(AB67,LEN(AB67)-2) -> 2 | F67: =IFERROR(VLOOKUP(C67,'01_RS ALCARRIA'!$D$6:$M$36,10,FALSE),"") -> 2 | G67: =IFERROR(VLOOKUP(C67,'01_RS ALCARRIA'!$D$6:$O$36,12,FALSE),"") -> 8 | H67: =(F67+G67)*2 -> 20 | I67: =IFERROR(VLOOKUP(C67,'02_TCT GUADAMUR'!$D$6:$M$36,10,FALSE),"") -> 1 | J67: =IFERROR(VLOOKUP(C67,'02_TCT GUADAMUR'!$D$6:$O$36,12,FALSE),"") -> 8 | K67: =(I67+J67) -> 9 | L67: =IFERROR(VLOOKUP(C67,'03_TCT MAQUEDA'!$D$6:$M$36,10,FALSE),"") -> 5 | M67: =IFERROR(VLOOKUP(C67,'03_TCT MAQUEDA'!$D$6:$O$36,12,FALSE),"") -> 8 | N67: =(L67+M67) -> 13 | X67: =H67+K67+N67+Q67+T67+W67 -> 42 | Y67: =IF(Z67>=3,"Sí","No") -> Sí | Z67: =COUNTA(H67,K67,N67,Q67,T67,W67) -> 3 | AB67: =IFERROR(VLOOKUP(C67,Tabla15[[Piloto]:[Puntos clase]],6, FALSE), " ") -> 2RM
B68: 2 | C68: CARLOS VELAZQUEZ RODRIGUEZ | D68: =IFERROR(VLOOKUP(C68,Tabla15[[Piloto]:[Puntos clase]],7, FALSE), " ") -> 3 | E68: =LEFT(AB68,LEN(AB68)-2) -> 2 | F68: =IFERROR(VLOOKUP(C68,'01_RS ALCARRIA'!$D$6:$M$36,10,FALSE),"") -> 5 | G68: =IFERROR(VLOOKUP(C68,'01_RS ALCARRIA'!$D$6:$O$36,12,FALSE),"") -> 5 | H68: =(F68+G68)*2 -> 20 | I68: =IFERROR(VLOOKUP(C68,'02_TCT GUADAMUR'!$D$6:$M$36,10,FALSE),"") -> 3 | J68: =IFERROR(VLOOKUP(C68,'02_TCT GUADAMUR'!$D$6:$O$36,12,FALSE),"") -> 5 | K68: =(I68+J68) -> 8 | L68: =IFERROR(VLOOKUP(C68,'03_TCT MAQUEDA'!$D$6:$M$36,10,FALSE),"") -> 2 | M68: =IFERROR(VLOOKUP(C68,'03_TCT MAQUEDA'!$D$6:$O$36,12,FALSE),"") -> 6 | N68: =(L68+M68) -> 8 | X68: =H68+K68+N68+Q68+T68+W68 -> 36 | Y68: =IF(Z68>=3,"Sí","No") -> Sí | Z68: =COUNTA(H68,K68,N68,Q68,T68,W68) -> 3 | AB68: =IFERROR(VLOOKUP(C68,Tabla15[[Piloto]:[Puntos clase]],6, FALSE), " ") -> 2RM
B69: 3 | C69: JOSE MARIA SAN JOSE ROMERO | D69: 1 | E69: 4 | L69: =IFERROR(VLOOKUP(C69,'03_TCT MAQUEDA'!$D$6:$M$36,10,FALSE),"") -> 25 | M69: =IFERROR(VLOOKUP(C69,'03_TCT MAQUEDA'!$D$6:$O$36,12,FALSE),"") -> 10 | N69: =(L69+M69) -> 35 | X69: =H69+K69+N69+Q69+T69+W69 -> 35 | Y69: =IF(Z69>=3,"Sí","No") -> No | Z69: =COUNTA(H69,K69,N69,Q69,T69,W69) -> 1 | AB69: =IFERROR(VLOOKUP(C69,Tabla15[[Piloto]:[Puntos clase]],6, FALSE), " ")
B70: 3 | C70: SANTIAGO GARCIA MARTIN | D70: =IFERROR(VLOOKUP(C70,Tabla15[[Piloto]:[Puntos clase]],7, FALSE), " ") -> 3 | E70: =LEFT(AB70,LEN(AB70)-2) -> 2 | F70: =IFERROR(VLOOKUP(C70,'01_RS ALCARRIA'!$D$6:$M$36,10,FALSE),"") -> 8 | G70: =IFERROR(VLOOKUP(C70,'01_RS ALCARRIA'!$D$6:$O$36,12,FALSE),"") -> 8 | H70: =(F70+G70)*2 -> 32 | I70: 0 | J70: 0 | K70: =(I70+J70) -> 0 | X70: =H70+K70+N70+Q70+T70+W70 -> 32 | Y70: =IF(Z70>=3,"Sí","No") -> No | Z70: =COUNTA(H70,K70,N70,Q70,T70,W70) -> 2 | AB70: =IFERROR(VLOOKUP(C70,Tabla15[[Piloto]:[Puntos clase]],6, FALSE), " ") -> 2RM
B71: 3 | C71: IVAN AGUADO REOYO | D71: 4 | E71: 2 | F71: =IFERROR(VLOOKUP(C71,'01_RS ALCARRIA'!$D$6:$M$36,10,FALSE),"") -> 0 | G71: =IFERROR(VLOOKUP(C71,'01_RS ALCARRIA'!$D$6:$O$36,12,FALSE),"") -> 5 | H71: =(F71+G71)*2 -> 10 | I71: =IFERROR(VLOOKUP(C71,'02_TCT GUADAMUR'!$D$6:$M$36,10,FALSE),"") -> 0 | J71: =IFERROR(VLOOKUP(C71,'02_TCT GUADAMUR'!$D$6:$O$36,12,FALSE),"") -> 6 | K71: =(I71+J71) -> 6 | L71: =IFERROR(VLOOKUP(C71,'03_TCT MAQUEDA'!$D$6:$M$36,10,FALSE),"") -> 6 | M71: =IFERROR(VLOOKUP(C71,'03_TCT MAQUEDA'!$D$6:$O$36,12,FALSE),"") -> 10 | N71: =(L71+M71) -> 16 | X71: =H71+K71+N71+Q71+T71+W71 -> 32 | Y71: =IF(Z71>=3,"Sí","No") -> Sí | Z71: =COUNTA(H71,K71,N71,Q71,T71,W71) -> 3 | AB71: =IFERROR(VLOOKUP(C71,Tabla15[[Piloto]:[Puntos clase]],6, FALSE), " ") -> 2RM
B72: 4 | C72: ANTONIO OTERO MONTERO | D72: 1 | E72: 4 | L72: =IFERROR(VLOOKUP(C72,'03_TCT MAQUEDA'!$D$6:$M$36,10,FALSE),"") -> 20 | M72: =IFERROR(VLOOKUP(C72,'03_TCT MAQUEDA'!$D$6:$O$36,12,FALSE),"") -> 8 | N72: =(L72+M72) -> 28 | X72: =H72+K72+N72+Q72+T72+W72 -> 28 | Y72: =IF(Z72>=3,"Sí","No") -> No | Z72: =COUNTA(H72,K72,N72,Q72,T72,W72) -> 1 | AB72: =IFERROR(VLOOKUP(C72,Tabla15[[Piloto]:[Puntos clase]],6, FALSE), " ")
B73: 4 | C73: JOSE MARIA GARCIA-VIÑO SANCHEZ | D73: =IFERROR(VLOOKUP(C73,Tabla15[[Piloto]:[Puntos clase]],7, FALSE), " ") -> 3 | E73: =LEFT(AB73,LEN(AB73)-2) -> 2 | F73: =IFERROR(VLOOKUP(C73,'01_RS ALCARRIA'!$D$6:$M$36,10,FALSE),"") -> 6 | G73: =IFERROR(VLOOKUP(C73,'01_RS ALCARRIA'!$D$6:$O$36,12,FALSE),"") -> 6 | H73: =(F73+G73)*2 -> 24 | L73: 0 | M73: 0 | N73: =(L73+M73) -> 0 | X73: =H73+K73+N73+Q73+T73+W73 -> 24 | Y73: =IF(Z73>=3,"Sí","No") -> No | Z73: =COUNTA(H73,K73,N73,Q73,T73,W73) -> 2 | AB73: =IFERROR(VLOOKUP(C73,Tabla15[[Piloto]:[Puntos clase]],6, FALSE), " ") -> 2RM
B74: 5 | C74: DAVID DE LA OSA SANJUAN | D74: 3 | E74: 2 | I74: =IFERROR(VLOOKUP(C74,'02_TCT GUADAMUR'!$D$6:$M$36,10,FALSE),"") -> 12 | J74: =IFERROR(VLOOKUP(C74,'02_TCT GUADAMUR'!$D$6:$O$36,12,FALSE),"") -> 10 | K74: =(I74+J74) -> 22 | X74: =H74+K74+N74+Q74+T74+W74 -> 22 | Y74: =IF(Z74>=3,"Sí","No") -> No | Z74: =COUNTA(H74,K74,N74,Q74,T74,W74) -> 1 | AB74: =IFERROR(VLOOKUP(C74,Tabla15[[Piloto]:[Puntos clase]],6, FALSE), " ")
B75: 2 | C75: ANTONIO PEDROSA GORDILLO | D75: =IFERROR(VLOOKUP(C75,Tabla15[[Piloto]:[Puntos clase]],7, FALSE), " ") -> 5 | E75: =LEFT(AB75,LEN(AB75)-2) -> 2 | F75: 0 | G75: 0 | H75: =(F75+G75)*2 -> 0 | I75: =IFERROR(VLOOKUP(C75,'02_TCT GUADAMUR'!$D$6:$M$36,10,FALSE),"") -> 0 | J75: =IFERROR(VLOOKUP(C75,'02_TCT GUADAMUR'!$D$6:$O$36,12,FALSE),"") -> 6 | K75: =(I75+J75) -> 6 | L75: =IFERROR(VLOOKUP(C75,'03_TCT MAQUEDA'!$D$6:$M$36,10,FALSE),"") -> 10 | M75: =IFERROR(VLOOKUP(C75,'03_TCT MAQUEDA'!$D$6:$O$36,12,FALSE),"")/2 -> 5 | N75: =(L75+M75) -> 15 | X75: =H75+K75+N75+Q75+T75+W75 -> 21 | Y75: =IF(Z75>=3,"Sí","No") -> Sí | Z75: =COUNTA(H75,K75,N75,Q75,T75,W75) -> 3 | AB75: =IFERROR(VLOOKUP(C75,Tabla15[[Piloto]:[Puntos clase]],6, FALSE), " ") -> 2RM
B76: 4 | C76: MARIANO ALONSO GENTILE | D76: 4 | E76: =LEFT(AB76,LEN(AB76)-2) -> 2 | F76: =IFERROR(VLOOKUP(C76,'01_RS ALCARRIA'!$D$6:$M$36,10,FALSE),"") -> 0 | G76: =IFERROR(VLOOKUP(C76,'01_RS ALCARRIA'!$D$6:$O$36,12,FALSE),"") -> 6 | H76: =(F76+G76)*2 -> 12 | I76: =IFERROR(VLOOKUP(C76,'02_TCT GUADAMUR'!$D$6:$M$36,10,FALSE),"") -> 0 | J76: =IFERROR(VLOOKUP(C76,'02_TCT GUADAMUR'!$D$6:$O$36,12,FALSE),"") -> 5 | K76: =(I76+J76) -> 5 | X76: =H76+K76+N76+Q76+T76+W76 -> 17 | Y76: =IF(Z76>=3,"Sí","No") -> No | Z76: =COUNTA(H76,K76,N76,Q76,T76,W76) -> 2 | AB76: =IFERROR(VLOOKUP(C76,Tabla15[[Piloto]:[Puntos clase]],6, FALSE), " ") -> 2RM
B77: 6 | C77: PELI | D77: =IFERROR(VLOOKUP(C77,Tabla15[[Piloto]:[Puntos clase]],7, FALSE), " ") -> 3 | E77: =LEFT(AB77,LEN(AB77)-2) -> 2 | F77: =IFERROR(VLOOKUP(C77,'01_RS ALCARRIA'!$D$6:$M$36,10,FALSE),"") -> 0 | G77: =IFERROR(VLOOKUP(C77,'01_RS ALCARRIA'!$D$6:$O$36,12,FALSE),"") -> 0 | H77: =(F77+G77)*2 -> 0 | I77: =IFERROR(VLOOKUP(C77,'02_TCT GUADAMUR'!$D$6:$M$36,10,FALSE),"") -> 0 | J77: =IFERROR(VLOOKUP(C77,'02_TCT GUADAMUR'!$D$6:$O$36,12,FALSE),"") -> 1 | K77: =(I77+J77) -> 1 | L77: =IFERROR(VLOOKUP(C77,'03_TCT MAQUEDA'!$D$6:$M$36,10,FALSE),"") -> 4 | M77: =IFERROR(VLOOKUP(C77,'03_TCT MAQUEDA'!$D$6:$O$36,12,FALSE),"") -> 8 | N77: =(L77+M77) -> 12 | X77: =H77+K77+N77+Q77+T77+W77 -> 13 | Y77: =IF(Z77>=3,"Sí","No") -> Sí | Z77: =COUNTA(H77,K77,N77,Q77,T77,W77) -> 3 | AB77: =IFERROR(VLOOKUP(C77,Tabla15[[Piloto]:[Puntos clase]],6, FALSE), " ") -> 2RM
B78: 3 | C78: RUBEN VELAZQUEZ BERNARDO | D78: =IFERROR(VLOOKUP(C78,Tabla15[[Piloto]:[Puntos clase]],7, FALSE), " ") -> 5 | E78: =LEFT(AB78,LEN(AB78)-2) -> 4 | F78: 0 | G78: 0 | H78: =(F78+G78)*2 -> 0 | I78: =IFERROR(VLOOKUP(C78,'02_TCT GUADAMUR'!$D$6:$M$36,10,FALSE),"") -> 4 | J78: =IFERROR(VLOOKUP(C78,'02_TCT GUADAMUR'!$D$6:$O$36,12,FALSE),"") -> 8 | K78: =(I78+J78) -> 12 | X78: =H78+K78+N78+Q78+T78+W78 -> 12 | Y78: =IF(Z78>=3,"Sí","No") -> No | Z78: =COUNTA(H78,K78,N78,Q78,T78,W78) -> 2 | AB78: =IFERROR(VLOOKUP(C78,Tabla15[[Piloto]:[Puntos clase]],6, FALSE), " ") -> 4RM
B79: 7 | C79: ARMANDO GARCIA-MORENO LOPEZ | D79: 3 | E79: 2 | I79: =IFERROR(VLOOKUP(C79,'02_TCT GUADAMUR'!$D$6:$M$36,10,FALSE),"") -> 5 | J79: =IFERROR(VLOOKUP(C79,'02_TCT GUADAMUR'!$D$6:$O$36,12,FALSE),"") -> 6 | K79: =(I79+J79) -> 11 | L79: 0 | M79: 0 | N79: =(L79+M79) -> 0 | X79: =H79+K79+N79+Q79+T79+W79 -> 11 | Y79: =IF(Z79>=3,"Sí","No") -> No | Z79: =COUNTA(H79,K79,N79,Q79,T79,W79) -> 2 | AB79: =IFERROR(VLOOKUP(C79,Tabla15[[Piloto]:[Puntos clase]],6, FALSE), " ")
B80: 5 | C80: ALVARO MANZANO BONILLA | D80: 4 | E80: 2 | I80: =IFERROR(VLOOKUP(C80,'02_TCT GUADAMUR'!$D$6:$M$36,10,FALSE),"") -> 0 | J80: =IFERROR(VLOOKUP(C80,'02_TCT GUADAMUR'!$D$6:$O$36,12,FALSE),"") -> 3 | K80: =(I80+J80) -> 3 | L80: =IFERROR(VLOOKUP(C80,'03_TCT MAQUEDA'!$D$6:$M$36,10,FALSE),"") -> 0 | M80: =IFERROR(VLOOKUP(C80,'03_TCT MAQUEDA'!$D$6:$O$36,12,FALSE),"") -> 6 | N80: =(L80+M80) -> 6 | X80: =H80+K80+N80+Q80+T80+W80 -> 9 | Y80: =IF(Z80>=3,"Sí","No") -> No | Z80: =COUNTA(H80,K80,N80,Q80,T80,W80) -> 2 | AB80: =IFERROR(VLOOKUP(C80,Tabla15[[Piloto]:[Puntos clase]],6, FALSE), " ")
B81: 8 | C81: FRANCISCO DEL POZO MARTINEZ | D81: =IFERROR(VLOOKUP(C81,Tabla15[[Piloto]:[Puntos clase]],7, FALSE), " ") -> 3 | E81: =LEFT(AB81,LEN(AB81)-2) -> 2 | F81: =IFERROR(VLOOKUP(C81,'01_RS ALCARRIA'!$D$6:$M$36,10,FALSE),"") -> 1 | G81: =IFERROR(VLOOKUP(C81,'01_RS ALCARRIA'!$D$6:$O$36,12,FALSE),"") -> 3 | H81: =(F81+G81)*2 -> 8 | X81: =H81+K81+N81+Q81+T81+W81 -> 8 | Y81: =IF(Z81>=3,"Sí","No") -> No | Z81: =COUNTA(H81,K81,N81,Q81,T81,W81) -> 1 | AB81: =IFERROR(VLOOKUP(C81,Tabla15[[Piloto]:[Puntos clase]],6, FALSE), " ") -> 2RM
B82: 4 | C82: JULIAN GARCIA MUÑOZ | D82: 5 | E82: 2 | L82: =IFERROR(VLOOKUP(C82,'03_TCT MAQUEDA'!$D$6:$M$36,10,FALSE),"") -> 3 | M82: =IFERROR(VLOOKUP(C82,'03_TCT MAQUEDA'!$D$6:$O$36,12,FALSE),"")/2 -> 4 | N82: =(L82+M82) -> 7 | X82: =H82+K82+N82+Q82+T82+W82 -> 7 | Y82: =IF(Z82>=3,"Sí","No") -> No | Z82: =COUNTA(H82,K82,N82,Q82,T82,W82) -> 1 | AB82: =IFERROR(VLOOKUP(C82,Tabla15[[Piloto]:[Puntos clase]],6, FALSE), " ")
B83: 9 | C83: SERGIO VILLALBA TEJEDA | D83: 3 | E83: 2 | F83: 0 | G83: 0 | H83: =(F83+G83)*2 -> 0 | L83: =IFERROR(VLOOKUP(C83,'03_TCT MAQUEDA'!$D$6:$M$36,10,FALSE),"") -> 1 | M83: =IFERROR(VLOOKUP(C83,'03_TCT MAQUEDA'!$D$6:$O$36,12,FALSE),"") -> 5 | N83: =(L83+M83) -> 6 | X83: =H83+K83+N83+Q83+T83+W83 -> 6 | Y83: =IF(Z83>=3,"Sí","No") -> No | Z83: =COUNTA(H83,K83,N83,Q83,T83,W83) -> 2 | AB83: =IFERROR(VLOOKUP(C83,Tabla15[[Piloto]:[Puntos clase]],6, FALSE), " ") -> 2RM
B84: 5 | C84: GERMAN LOPEZ GARCIA | D84: 1 | E84: 4 | I84: 0 | J84: 0 | K84: =(I84+J84) -> 0 | L84: =IFERROR(VLOOKUP(C84,'03_TCT MAQUEDA'!$D$6:$M$36,10,FALSE),"") -> 0 | M84: =IFERROR(VLOOKUP(C84,'03_TCT MAQUEDA'!$D$6:$O$36,12,FALSE),"") -> 6 | N84: =(L84+M84) -> 6 | X84: =H84+K84+N84+Q84+T84+W84 -> 6 | Y84: =IF(Z84>=3,"Sí","No") -> No | Z84: =COUNTA(H84,K84,N84,Q84,T84,W84) -> 2 | AB84: =IFERROR(VLOOKUP(C84,Tabla15[[Piloto]:[Puntos clase]],6, FALSE), " ")
B85: 10 | C85: JOSE MANUEL CERRATO NOGUEIRA | D85: 3 | E85: 2 | F85: =IFERROR(VLOOKUP(C85,'01_RS ALCARRIA'!$D$6:$M$36,10,FALSE),"") -> 0 | G85: =IFERROR(VLOOKUP(C85,'01_RS ALCARRIA'!$D$6:$O$36,12,FALSE),"") -> 0 | H85: =(F85+G85)*2 -> 0 | I85: =IFERROR(VLOOKUP(C85,'02_TCT GUADAMUR'!$D$6:$M$36,10,FALSE),"") -> 2 | J85: =IFERROR(VLOOKUP(C85,'02_TCT GUADAMUR'!$D$6:$O$36,12,FALSE),"") -> 3 | K85: =(I85+J85) -> 5 | X85: =H85+K85+N85+Q85+T85+W85 -> 5 | Y85: =IF(Z85>=3,"Sí","No") -> No | Z85: =COUNTA(H85,K85,N85,Q85,T85,W85) -> 2 | AB85: =IFERROR(VLOOKUP(C85,Tabla15[[Piloto]:[Puntos clase]],6, FALSE), " ") -> 2RM
B86: 5 | C86: MANUEL SORIANO DIAZ | D86: =IFERROR(VLOOKUP(C86,Tabla15[[Piloto]:[Puntos clase]],7, FALSE), " ") -> 2 | E86: =LEFT(AB86,LEN(AB86)-2) -> 2 | F86: 0 | G86: 0 | H86: =(F86+G86)*2 -> 0 | I86: 0 | J86: 0 | K86: =(I86+J86) -> 0 | L86: =IFERROR(VLOOKUP(C86,'03_TCT MAQUEDA'!$D$6:$M$36,10,FALSE),"") -> 0 | M86: =IFERROR(VLOOKUP(C86,'03_TCT MAQUEDA'!$D$6:$O$36,12,FALSE),"") -> 5 | N86: =(L86+M86) -> 5 | X86: =H86+K86+N86+Q86+T86+W86 -> 5 | Y86: =IF(Z86>=3,"Sí","No") -> Sí | Z86: =COUNTA(H86,K86,N86,Q86,T86,W86) -> 3 | AB86: =IFERROR(VLOOKUP(C86,Tabla15[[Piloto]:[Puntos clase]],6, FALSE), " ") -> 2RM
B87: 5 | C87: SERGIO MARTIN SANCHEZ | D87: 2 | E87: 2 | I87: =IFERROR(VLOOKUP(C87,'02_TCT GUADAMUR'!$D$6:$M$36,10,FALSE),"") -> 0 | J87: =IFERROR(VLOOKUP(C87,'02_TCT GUADAMUR'!$D$6:$O$36,12,FALSE),"") -> 5 | K87: =(I87+J87) -> 5 | L87: 0 | M87: 0 | N87: =(L87+M87) -> 0 | X87: =H87+K87+N87+Q87+T87+W87 -> 5 | Y87: =IF(Z87>=3,"Sí","No") -> No | Z87: =COUNTA(H87,K87,N87,Q87,T87,W87) -> 2 | AB87: =IFERROR(VLOOKUP(C87,Tabla15[[Piloto]:[Puntos clase]],6, FALSE), " ")
B88: 6 | C88: MIGUEL ANGEL UREÑA GARCIA | D88: 4 | E88: 2 | I88: 0 | J88: 0 | K88: =(I88+J88) -> 0 | L88: =IFERROR(VLOOKUP(C88,'03_TCT MAQUEDA'!$D$6:$M$36,10,FALSE),"") -> 0 | M88: =IFERROR(VLOOKUP(C88,'03_TCT MAQUEDA'!$D$6:$O$36,12,FALSE),"") -> 5 | N88: =(L88+M88) -> 5 | X88: =H88+K88+N88+Q88+T88+W88 -> 5 | Y88: =IF(Z88>=3,"Sí","No") -> No | Z88: =COUNTA(H88,K88,N88,Q88,T88,W88) -> 2 | AB88: =IFERROR(VLOOKUP(C88,Tabla15[[Piloto]:[Puntos clase]],6, FALSE), " ")
B89: 11 | C89: MARCOS JOSE DEL CID JIMENEZ | D89: =IFERROR(VLOOKUP(C89,Tabla15[[Piloto]:[Puntos clase]],7, FALSE), " ") -> 3 | E89: =LEFT(AB89,LEN(AB89)-2) -> 2 | F89: =IFERROR(VLOOKUP(C89,'01_RS ALCARRIA'!$D$6:$M$36,10,FALSE),"") -> 0 | G89: =IFERROR(VLOOKUP(C89,'01_RS ALCARRIA'!$D$6:$O$36,12,FALSE),"") -> 0 | H89: =(F89+G89)*2 -> 0 | I89: =IFERROR(VLOOKUP(C89,'02_TCT GUADAMUR'!$D$6:$M$36,10,FALSE),"") -> 0 | J89: =IFERROR(VLOOKUP(C89,'02_TCT GUADAMUR'!$D$6:$O$36,12,FALSE),"") -> 0 | K89: =(I89+J89) -> 0 | L89: =IFERROR(VLOOKUP(C89,'03_TCT MAQUEDA'!$D$6:$M$36,10,FALSE),"") -> 0 | M89: =IFERROR(VLOOKUP(C89,'03_TCT MAQUEDA'!$D$6:$O$36,12,FALSE),"") -> 3 | N89: =(L89+M89) -> 3 | X89: =H89+K89+N89+Q89+T89+W89 -> 3 | Y89: =IF(Z89>=3,"Sí","No") -> Sí | Z89: =COUNTA(H89,K89,N89,Q89,T89,W89) -> 3 | AB89: =IFERROR(VLOOKUP(C89,Tabla15[[Piloto]:[Puntos clase]],6, FALSE), " ") -> 2RM
B90: 12 | C90: JULIO MARTIN AGUDO | D90: =IFERROR(VLOOKUP(C90,Tabla15[[Piloto]:[Puntos clase]],7, FALSE), " ") -> 3 | E90: =LEFT(AB90,LEN(AB90)-2) -> 2 | F90: =IFERROR(VLOOKUP(C90,'01_RS ALCARRIA'!$D$6:$M$36,10,FALSE),"") -> 0 | G90: =IFERROR(VLOOKUP(C90,'01_RS ALCARRIA'!$D$6:$O$36,12,FALSE),"") -> 1 | H90: =(F90+G90)*2 -> 2 | I90: =IFERROR(VLOOKUP(C90,'02_TCT GUADAMUR'!$D$6:$M$36,10,FALSE),"") -> 0 | J90: =IFERROR(VLOOKUP(C90,'02_TCT GUADAMUR'!$D$6:$O$36,12,FALSE),"") -> 0 | K90: =(I90+J90) -> 0 | L90: 0 | M90: 0 | N90: =(L90+M90) -> 0 | X90: =H90+K90+N90+Q90+T90+W90 -> 2 | Y90: =IF(Z90>=3,"Sí","No") -> Sí | Z90: =COUNTA(H90,K90,N90,Q90,T90,W90) -> 3 | AB90: =IFERROR(VLOOKUP(C90,Tabla15[[Piloto]:[Puntos clase]],6, FALSE), " ") -> 2RM
B91: 13 | C91: ALEJANDRO VIÑAMBRES ROMERO | D91: =IFERROR(VLOOKUP(C91,Tabla15[[Piloto]:[Puntos clase]],7, FALSE), " ") -> 3 | E91: =LEFT(AB91,LEN(AB91)-2) -> 2 | F91: =IFERROR(VLOOKUP(C91,'01_RS ALCARRIA'!$D$6:$M$36,10,FALSE),"") -> 0 | G91: =IFERROR(VLOOKUP(C91,'01_RS ALCARRIA'!$D$6:$O$36,12,FALSE),"") -> 0 | H91: =(F91+G91)*2 -> 0 | L91: =IFERROR(VLOOKUP(C91,'03_TCT MAQUEDA'!$D$6:$M$36,10,FALSE),"") -> 0 | M91: =IFERROR(VLOOKUP(C91,'03_TCT MAQUEDA'!$D$6:$O$36,12,FALSE),"") -> 1 | N91: =(L91+M91) -> 1 | X91: =H91+K91+N91+Q91+T91+W91 -> 1 | Y91: =IF(Z91>=3,"Sí","No") -> No | Z91: =COUNTA(H91,K91,N91,Q91,T91,W91) -> 2 | AB91: =IFERROR(VLOOKUP(C91,Tabla15[[Piloto]:[Puntos clase]],6, FALSE), " ") -> 2RM
B92: - | C92: VICTOR GARRIDO GONZALEZ | D92: =IFERROR(VLOOKUP(C92,Tabla15[[Piloto]:[Puntos clase]],7, FALSE), " ") -> 3 | E92: =LEFT(AB92,LEN(AB92)-2) -> 2 | F92: =IFERROR(VLOOKUP(C92,'01_RS ALCARRIA'!$D$6:$M$36,10,FALSE),"") -> 0 | G92: =IFERROR(VLOOKUP(C92,'01_RS ALCARRIA'!$D$6:$O$36,12,FALSE),"") -> 0 | H92: =(F92+G92)*2 -> 0 | X92: =H92+K92+N92+Q92+T92+W92 -> 0 | Y92: =IF(Z92>=3,"Sí","No") -> No | Z92: =COUNTA(H92,K92,N92,Q92,T92,W92) -> 1 | AB92: =IFERROR(VLOOKUP(C92,Tabla15[[Piloto]:[Puntos clase]],6, FALSE), " ") -> 2RM
B93: - | C93: IVAN ALONSO MARIN | D93: =IFERROR(VLOOKUP(C93,Tabla15[[Piloto]:[Puntos clase]],7, FALSE), " ") -> 5 | E93: 2 | F93: 0 | G93: 0 | H93: =(F93+G93)*2 -> 0 | X93: =H93+K93+N93+Q93+T93+W93 -> 0 | Y93: =IF(Z93>=3,"Sí","No") -> No | Z93: =COUNTA(H93,K93,N93,Q93,T93,W93) -> 1 | AB93: =IFERROR(VLOOKUP(C93,Tabla15[[Piloto]:[Puntos clase]],6, FALSE), " ") -> 2RM
B94: - | C94: BELTRAN MARTINEZ REGUERA | D94: =IFERROR(VLOOKUP(C94,Tabla15[[Piloto]:[Puntos clase]],7, FALSE), " ") -> 4 | E94: 2 | F94: 0 | G94: 0 | H94: =(F94+G94)*2 -> 0 | X94: =H94+K94+N94+Q94+T94+W94 -> 0 | Y94: =IF(Z94>=3,"Sí","No") -> No | Z94: =COUNTA(H94,K94,N94,Q94,T94,W94) -> 1 | AB94: =IFERROR(VLOOKUP(C94,Tabla15[[Piloto]:[Puntos clase]],6, FALSE), " ") -> 2RM
B95: - | C95: JUAN CARLOS AGUADO CUELLAR | D95: 1 | E95: 4 | I95: 0 | J95: 0 | K95: =(I95+J95) -> 0 | X95: =H95+K95+N95+Q95+T95+W95 -> 0 | Y95: =IF(Z95>=3,"Sí","No") -> No | Z95: =COUNTA(H95,K95,N95,Q95,T95,W95) -> 1 | AB95: =IFERROR(VLOOKUP(C95,Tabla15[[Piloto]:[Puntos clase]],6, FALSE), " ")
B96: - | C96: PEDRO LOPEZ MARTIN | D96: 3 | E96: 2 | I96: 0 | J96: 0 | K96: =(I96+J96) -> 0 | L96: 0 | M96: 0 | N96: =(L96+M96) -> 0 | X96: =H96+K96+N96+Q96+T96+W96 -> 0
B97: - | C97: RAFAEL PEDROSA BUENO | D97: 3 | E97: 2 | L97: 0 | M97: 0 | N97: =(L97+M97) -> 0 | X97: =H97+K97+N97+Q97+T97+W97 -> 0
B98: - | C98: JOSE MARIA CANO JIMENEZ | D98: 3 | E98: 2 | L98: 0 | M98: 0 | N98: =(L98+M98) -> 0 | X98: =H98+K98+N98+Q98+T98+W98 -> 0
B99: - | C99: JUAN CARLOS AGUADO CUELLAR | D99: 4 | E99: 2 | L99: 0 | M99: 0 | N99: =(L99+M99) -> 0 | X99: =H99+K99+N99+Q99+T99+W99 -> 0
D102: P | E102: Líder de Clase
D104: 2 | E104: Líder 2 RM
E106: Se reparten el 50 % de los puntos de clase (Art. 12.2.1 del RD CMT 2026)
D108: NOM (-) | E108: Piloto sin licencia adscrita a la FMA que puntúa (art. 11.2.3. PCCCTM)
B109: CAMPEONATO MADRILEÑO DE TIERRA 2026
...

Sheet POST GUADAMUR PARA WEB
B1: CAMPEONATO MADRILEÑO DE TIERRA 2026 | Y1: Ojo con Arts. 8.6 (Super-Rallye no puntúa ni bloquea), 9.4 (Todos madrileños puntúan y bloquean salvo que no hayan participado (autorizados) en el primer 50%), 9.5 (No madrileños puntúan solo si lo han pedido con art. 11.2.3 PCCCTCM), 12.2.1 (50% de puntos si nº de inscritos, autorizados y con derecho a puntuar y bloquear son 2 o menos) del RD CMT 2026. De las PCCCTCM importa el 11.3.1 (Clasifican si han sido autorizados a tomar salida en 3 pruebas como mínimo del CMA 2026 - 50%) y el 12.1 (Empates)
B2: CLASIFICACIÓN PROVISIONAL GENERAL DE PILOTOS | Y2: SE DESCARTA 1 PRUEBA SI HAY 6 O 7 EN TOTAL POR ART. 13.2 RD CMT 2026 (Si se ha participado/se está autorizado a participar en todas). DSQ no es descartable. En Copa Centro se descarta 1 (Menos DSQ y Todas con mismo coeficiente) y CKM se contabilizan todas y con 50% de puntos si se toma Super-Rallye.
F3: RS ALCARRIA | I3: TCT GUADAMUR | L3: TCT MAQUEDA | O3: RALLYE CAM | R3: RS NAVALCARNERO | U3: TCT NUEVO BAZTÁN
B4: Pos | C4: PILOTO | D4: Clase | E4: RM | F4: 14 FEBRERO | I4: 9 MAYO | L4: 12 SEPTIEMBRE | O4: 10 OCTUBRE | R4: 7 NOVIEMBRE | U4: 28 NOVIEMBRE | X4: TOTAL | Y4: ¿CLASIFICA? | Z4: PARTICIPACIÓN
F5: sct | G5: cl | H5: total | I5: sct | J5: cl | K5: total | L5: sct | M5: cl | N5: total | O5: sct | P5: cl | Q5: total | R5: sct | S5: cl | T5: total | U5: sct | V5: cl | W5: total
B6: 1 | C6: MANUEL GOMEZ-MANZANILLA JAVEGA | D6: =IFERROR(VLOOKUP(C6,Tabla15[[Piloto]:[Puntos clase]],7, FALSE), " ") -> 2 | E6: =LEFT(AB6,LEN(AB6)-2) -> 2 | F6: =IFERROR(VLOOKUP(C6,'01_RS ALCARRIA'!$D$6:$M$36,10,FALSE),"") -> 25 | G6: =IFERROR(VLOOKUP(C6,'01_RS ALCARRIA'!$D$6:$O$36,12,FALSE),"") -> 10 | H6: =(F6+G6)*2 -> 70 | I6: =IFERROR(VLOOKUP(C6,'02_TCT GUADAMUR'!$D$6:$M$36,10,FALSE),"") -> 17 | J6: =IFERROR(VLOOKUP(C6,'02_TCT GUADAMUR'!$D$6:$O$36,12,FALSE),"") -> 6 | K6: =(I6+J6) -> 23 | X6: =H6+K6+N6+Q6+T6+W6 -> 93 | Y6: =IF(Z6>=3,"Sí","No") -> No | Z6: =COUNTA(H6,K6,N6,Q6,T6,W6) -> 2 | AB6: =IFERROR(VLOOKUP(C6,Tabla15[[Piloto]:[Puntos clase]],6, FALSE), " ") -> 2RM
B7: 2 | C7: MANUEL GOMEZ-MANZANILLA ARRABAL | D7: =IFERROR(VLOOKUP(C7,Tabla15[[Piloto]:[Puntos clase]],7, FALSE), " ") -> 2 | E7: =LEFT(AB7,LEN(AB7)-2) -> 2 | F7: =IFERROR(VLOOKUP(C7,'01_RS ALCARRIA'!$D$6:$M$36,10,FALSE),"") -> 20 | G7: =IFERROR(VLOOKUP(C7,'01_RS ALCARRIA'!$D$6:$O$36,12,FALSE),"") -> 8 | H7: =(F7+G7)*2 -> 56 | I7: =IFERROR(VLOOKUP(C7,'02_TCT GUADAMUR'!$D$6:$M$36,10,FALSE),"") -> 25 | J7: =IFERROR(VLOOKUP(C7,'02_TCT GUADAMUR'!$D$6:$O$36,12,FALSE),"") -> 10 | K7: =(I7+J7) -> 35 | X7: =H7+K7+N7+Q7+T7+W7 -> 91 | Y7: =IF(Z7>=3,"Sí","No") -> No | Z7: =COUNTA(H7,K7,N7,Q7,T7,W7) -> 2 | AB7: =IFERROR(VLOOKUP(C7,Tabla15[[Piloto]:[Puntos clase]],6, FALSE), " ") -> 2RM
B8: 3 | C8: CRISTOFER CALERO CARRANZA | D8: =IFERROR(VLOOKUP(C8,Tabla15[[Piloto]:[Puntos clase]],7, FALSE), " ") -> 3 | E8: =LEFT(AB8,LEN(AB8)-2) -> 2 | F8: =IFERROR(VLOOKUP(C8,'01_RS ALCARRIA'!$D$6:$M$36,10,FALSE),"") -> 10 | G8: =IFERROR(VLOOKUP(C8,'01_RS ALCARRIA'!$D$6:$O$36,12,FALSE),"") -> 10 | H8: =(F8+G8)*2 -> 40 | I8: =IFERROR(VLOOKUP(C8,'02_TCT GUADAMUR'!$D$6:$M$36,10,FALSE),"") -> 10 | J8: =IFERROR(VLOOKUP(C8,'02_TCT GUADAMUR'!$D$6:$O$36,12,FALSE),"") -> 8 | K8: =(I8+J8) -> 18 | X8: =H8+K8+N8+Q8+T8+W8 -> 58 | Y8: =IF(Z8>=3,"Sí","No") -> No | Z8: =COUNTA(H8,K8,N8,Q8,T8,W8) -> 2 | AB8: =IFERROR(VLOOKUP(C8,Tabla15[[Piloto]:[Puntos clase]],6, FALSE), " ") -> 2RM
B9: 4 | C9: JAVIER ENCINAS ALARZA | D9: =IFERROR(VLOOKUP(C9,Tabla15[[Piloto]:[Puntos clase]],7, FALSE), " ") -> 1 | E9: =LEFT(AB9,LEN(AB9)-2) -> 4 | F9: =IFERROR(VLOOKUP(C9,'01_RS ALCARRIA'!$D$6:$M$36,10,FALSE),"") -> 12 | G9: =IFERROR(VLOOKUP(C9,'01_RS ALCARRIA'!$D$6:$O$36,12,FALSE),"")/2 -> 4 | H9: =(F9+G9)*2 -> 32 | I9: =IFERROR(VLOOKUP(C9,'02_TCT GUADAMUR'!$D$6:$M$36,10,FALSE),"") -> 15 | J9: =IFERROR(VLOOKUP(C9,'02_TCT GUADAMUR'!$D$6:$O$36,12,FALSE),"") -> 10 | K9: =(I9+J9) -> 25 | X9: =H9+K9+N9+Q9+T9+W9 -> 57 | Y9: =IF(Z9>=3,"Sí","No") -> No | Z9: =COUNTA(H9,K9,N9,Q9,T9,W9) -> 2 | AB9: =IFERROR(VLOOKUP(C9,Tabla15[[Piloto]:[Puntos clase]],6, FALSE), " ") -> 4RM
B10: 5 | C10: ALBERTO LUIS PEREZ | D10: =IFERROR(VLOOKUP(C10,Tabla15[[Piloto]:[Puntos clase]],7, FALSE), " ") -> 5 | E10: =LEFT(AB10,LEN(AB10)-2) -> 2 | F10: =IFERROR(VLOOKUP(C10,'01_RS ALCARRIA'!$D$6:$M$36,10,FALSE),"") -> 4 | G10: =IFERROR(VLOOKUP(C10,'01_RS ALCARRIA'!$D$6:$O$36,12,FALSE),"") -> 10 | H10: =(F10+G10)*2 -> 28 | I10: =IFERROR(VLOOKUP(C10,'02_TCT GUADAMUR'!$D$6:$M$36,10,FALSE),"") -> 8 | J10: =IFERROR(VLOOKUP(C10,'02_TCT GUADAMUR'!$D$6:$O$36,12,FALSE),"") -> 10 | K10: =(I10+J10) -> 18 | X10: =H10+K10+N10+Q10+T10+W10 -> 46 | Y10: =IF(Z10>=3,"Sí","No") -> No | Z10: =COUNTA(H10,K10,N10,Q10,T10,W10) -> 2 | AB10: =IFERROR(VLOOKUP(C10,Tabla15[[Piloto]:[Puntos clase]],6, FALSE), " ") -> 2RM
B11: 6 | C11: DIEGO CRUZ MARTINEZ (-) | D11: =IFERROR(VLOOKUP(C11,Tabla15[[Piloto]:[Puntos clase]],7, FALSE), " ") -> 1 | E11: =LEFT(AB11,LEN(AB11)-2) -> 4 | F11: =IFERROR(VLOOKUP(C11,'01_RS ALCARRIA'!$D$6:$M$36,10,FALSE),"") -> 17 | G11: =IFERROR(VLOOKUP(C11,'01_RS ALCARRIA'!$D$6:$O$36,12,FALSE),"")/2 -> 5 | H11: =(F11+G11)*2 -> 44 | X11: =H11+K11+N11+Q11+T11+W11 -> 44 | Y11: =IF(Z11>=3,"Sí","No") -> No | Z11: =COUNTA(H11,K11,N11,Q11,T11,W11) -> 1 | AB11: =IFERROR(VLOOKUP(C11,Tabla15[[Piloto]:[Puntos clase]],6, FALSE), " ") -> 4RM
B12: 7 | C12: RUBEN GONZALEZ PEREZ | D12: 2 | E12: 2 | F12: =IFERROR(VLOOKUP(C12,'01_RS ALCARRIA'!$D$6:$M$36,10,FALSE),"") -> 15 | G12: =IFERROR(VLOOKUP(C12,'01_RS ALCARRIA'!$D$6:$O$36,12,FALSE),"") -> 6 | H12: =(F12+G12)*2 -> 42 | X12: =H12+K12+N12+Q12+T12+W12 -> 42 | Y12: =IF(Z12>=3,"Sí","No") -> No | Z12: =COUNTA(H12,K12,N12,Q12,T12,W12) -> 1 | AB12: =IFERROR(VLOOKUP(C12,Tabla15[[Piloto]:[Puntos clase]],6, FALSE), " ") -> 2RM
B13: 7 | C13: RAUL CARRASCO SEGOVIA | D13: =IFERROR(VLOOKUP(C13,Tabla15[[Piloto]:[Puntos clase]],7, FALSE), " ") -> 4 | E13: =LEFT(AB13,LEN(AB13)-2) -> 2 | F13: =IFERROR(VLOOKUP(C13,'01_RS ALCARRIA'!$D$6:$M$36,10,FALSE),"") -> 3 | G13: =IFERROR(VLOOKUP(C13,'01_RS ALCARRIA'!$D$6:$O$36,12,FALSE),"") -> 10 | H13: =(F13+G13)*2 -> 26 | I13: =IFERROR(VLOOKUP(C13,'02_TCT GUADAMUR'!$D$6:$M$36,10,FALSE),"") -> 6 | J13: =IFERROR(VLOOKUP(C13,'02_TCT GUADAMUR'!$D$6:$O$36,12,FALSE),"") -> 10 | K13: =(I13+J13) -> 16 | X13: =H13+K13+N13+Q13+T13+W13 -> 42 | Y13: =IF(Z13>=3,"Sí","No") -> No | Z13: =COUNTA(H13,K13,N13,Q13,T13,W13) -> 2 | AB13: =IFERROR(VLOOKUP(C13,Tabla15[[Piloto]:[Puntos clase]],6, FALSE), " ") -> 2RM
B14: 9 | C14: SANTIAGO GARCIA MARTIN | D14: =IFERROR(VLOOKUP(C14,Tabla15[[Piloto]:[Puntos clase]],7, FALSE), " ") -> 3 | E14: =LEFT(AB14,LEN(AB14)-2) -> 2 | F14: =IFERROR(VLOOKUP(C14,'01_RS ALCARRIA'!$D$6:$M$36,10,FALSE),"") -> 8 | G14: =IFERROR(VLOOKUP(C14,'01_RS ALCARRIA'!$D$6:$O$36,12,FALSE),"") -> 8 | H14: =(F14+G14)*2 -> 32 | I14: 0 | J14: 0 | K14: =(I14+J14) -> 0 | X14: =H14+K14+N14+Q14+T14+W14 -> 32 | Y14: =IF(Z14>=3,"Sí","No") -> No | Z14: =COUNTA(H14,K14,N14,Q14,T14,W14) -> 2 | AB14: =IFERROR(VLOOKUP(C14,Tabla15[[Piloto]:[Puntos clase]],6, FALSE), " ") -> 2RM
B15: 10 | C15: ALBERTO DORSCH BLANCO | D15: =IFERROR(VLOOKUP(C15,Tabla15[[Piloto]:[Puntos clase]],7, FALSE), " ") -> 4 | E15: =LEFT(AB15,LEN(AB15)-2) -> 2 | F15: =IFERROR(VLOOKUP(C15,'01_RS ALCARRIA'!$D$6:$M$36,10,FALSE),"") -> 2 | G15: =IFERROR(VLOOKUP(C15,'01_RS ALCARRIA'!$D$6:$O$36,12,FALSE),"") -> 8 | H15: =(F15+G15)*2 -> 20 | I15: =IFERROR(VLOOKUP(C15,'02_TCT GUADAMUR'!$D$6:$M$36,10,FALSE),"") -> 1 | J15: =IFERROR(VLOOKUP(C15,'02_TCT GUADAMUR'!$D$6:$O$36,12,FALSE),"") -> 8 | K15: =(I15+J15) -> 9 | X15: =H15+K15+N15+Q15+T15+W15 -> 29 | Y15: =IF(Z15>=3,"Sí","No") -> No | Z15: =COUNTA(H15,K15,N15,Q15,T15,W15) -> 2 | AB15: =IFERROR(VLOOKUP(C15,Tabla15[[Piloto]:[Puntos clase]],6, FALSE), " ") -> 2RM
B16: 11 | C16: CARLOS VELAZQUEZ RODRIGUEZ | D16: =IFERROR(VLOOKUP(C16,Tabla15[[Piloto]:[Puntos clase]],7, FALSE), " ") -> 3 | E16: =LEFT(AB16,LEN(AB16)-2) -> 2 | F16: =IFERROR(VLOOKUP(C16,'01_RS ALCARRIA'!$D$6:$M$36,10,FALSE),"") -> 5 | G16: =IFERROR(VLOOKUP(C16,'01_RS ALCARRIA'!$D$6:$O$36,12,FALSE),"") -> 5 | H16: =(F16+G16)*2 -> 20 | I16: =IFERROR(VLOOKUP(C16,'02_TCT GUADAMUR'!$D$6:$M$36,10,FALSE),"") -> 3 | J16: =IFERROR(VLOOKUP(C16,'02_TCT GUADAMUR'!$D$6:$O$36,12,FALSE),"") -> 5 | K16: =(I16+J16) -> 8 | X16: =H16+K16+N16+Q16+T16+W16 -> 28 | Y16: =IF(Z16>=3,"Sí","No") -> No | Z16: =COUNTA(H16,K16,N16,Q16,T16,W16) -> 2 | AB16: =IFERROR(VLOOKUP(C16,Tabla15[[Piloto]:[Puntos clase]],6, FALSE), " ") -> 2RM
B17: 11 | C17: ANDRES LOPEZ ARCHILLA | D17: 2 | E17: 2 | I17: =IFERROR(VLOOKUP(C17,'02_TCT GUADAMUR'!$D$6:$M$36,10,FALSE),"") -> 20 | J17: =IFERROR(VLOOKUP(C17,'02_TCT GUADAMUR'!$D$6:$O$36,12,FALSE),"") -> 8 | K17: =(I17+J17) -> 28 | X17: =H17+K17+N17+Q17+T17+W17 -> 28 | Y17: =IF(Z17>=3,"Sí","No") -> No | Z17: =COUNTA(H17,K17,N17,Q17,T17,W17) -> 1 | AB17: =IFERROR(VLOOKUP(C17,Tabla15[[Piloto]:[Puntos clase]],6, FALSE), " ")
B18: 13 | C18: JOSE MARIA GARCIA-VIÑO SANCHEZ | D18: =IFERROR(VLOOKUP(C18,Tabla15[[Piloto]:[Puntos clase]],7, FALSE), " ") -> 3 | E18: =LEFT(AB18,LEN(AB18)-2) -> 2 | F18: =IFERROR(VLOOKUP(C18,'01_RS ALCARRIA'!$D$6:$M$36,10,FALSE),"") -> 6 | G18: =IFERROR(VLOOKUP(C18,'01_RS ALCARRIA'!$D$6:$O$36,12,FALSE),"") -> 6 | H18: =(F18+G18)*2 -> 24 | X18: =H18+K18+N18+Q18+T18+W18 -> 24 | Y18: =IF(Z18>=3,"Sí","No") -> No | Z18: =COUNTA(H18,K18,N18,Q18,T18,W18) -> 1 | AB18: =IFERROR(VLOOKUP(C18,Tabla15[[Piloto]:[Puntos clase]],6, FALSE), " ") -> 2RM
B19: 14 | C19: DAVID DE LA OSA SANJUAN | D19: 3 | E19: 2 | I19: =IFERROR(VLOOKUP(C19,'02_TCT GUADAMUR'!$D$6:$M$36,10,FALSE),"") -> 12 | J19: =IFERROR(VLOOKUP(C19,'02_TCT GUADAMUR'!$D$6:$O$36,12,FALSE),"") -> 10 | K19: =(I19+J19) -> 22 | X19: =H19+K19+N19+Q19+T19+W19 -> 22 | Y19: =IF(Z19>=3,"Sí","No") -> No | Z19: =COUNTA(H19,K19,N19,Q19,T19,W19) -> 1 | AB19: =IFERROR(VLOOKUP(C19,Tabla15[[Piloto]:[Puntos clase]],6, FALSE), " ")
B20: 15 | C20: MARIANO ALONSO GENTILE | D20: 4 | E20: =LEFT(AB20,LEN(AB20)-2) -> 2 | F20: =IFERROR(VLOOKUP(C20,'01_RS ALCARRIA'!$D$6:$M$36,10,FALSE),"") -> 0 | G20: =IFERROR(VLOOKUP(C20,'01_RS ALCARRIA'!$D$6:$O$36,12,FALSE),"") -> 6 | H20: =(F20+G20)*2 -> 12 | I20: =IFERROR(VLOOKUP(C20,'02_TCT GUADAMUR'!$D$6:$M$36,10,FALSE),"") -> 0 | J20: =IFERROR(VLOOKUP(C20,'02_TCT GUADAMUR'!$D$6:$O$36,12,FALSE),"") -> 5 | K20: =(I20+J20) -> 5 | X20: =H20+K20+N20+Q20+T20+W20 -> 17 | Y20: =IF(Z20>=3,"Sí","No") -> No | Z20: =COUNTA(H20,K20,N20,Q20,T20,W20) -> 2 | AB20: =IFERROR(VLOOKUP(C20,Tabla15[[Piloto]:[Puntos clase]],6, FALSE), " ") -> 2RM
B21: 16 | C21: IVAN AGUADO REOYO | D21: 4 | E21: 2 | F21: =IFERROR(VLOOKUP(C21,'01_RS ALCARRIA'!$D$6:$M$36,10,FALSE),"") -> 0 | G21: =IFERROR(VLOOKUP(C21,'01_RS ALCARRIA'!$D$6:$O$36,12,FALSE),"") -> 5 | H21: =(F21+G21)*2 -> 10 | I21: =IFERROR(VLOOKUP(C21,'02_TCT GUADAMUR'!$D$6:$M$36,10,FALSE),"") -> 0 | J21: =IFERROR(VLOOKUP(C21,'02_TCT GUADAMUR'!$D$6:$O$36,12,FALSE),"") -> 6 | K21: =(I21+J21) -> 6 | X21: =H21+K21+N21+Q21+T21+W21 -> 16 | Y21: =IF(Z21>=3,"Sí","No") -> No | Z21: =COUNTA(H21,K21,N21,Q21,T21,W21) -> 2 | AB21: =IFERROR(VLOOKUP(C21,Tabla15[[Piloto]:[Puntos clase]],6, FALSE), " ") -> 2RM
B22: 17 | C22: RUBEN VELAZQUEZ BERNARDO | D22: =IFERROR(VLOOKUP(C22,Tabla15[[Piloto]:[Puntos clase]],7, FALSE), " ") -> 5 | E22: =LEFT(AB22,LEN(AB22)-2) -> 4 | F22: 0 | G22: 0 | H22: =(F22+G22) -> 0 | I22: =IFERROR(VLOOKUP(C22,'02_TCT GUADAMUR'!$D$6:$M$36,10,FALSE),"") -> 4 | J22: =IFERROR(VLOOKUP(C22,'02_TCT GUADAMUR'!$D$6:$O$36,12,FALSE),"") -> 8 | K22: =(I22+J22) -> 12 | X22: =H22+K22+N22+Q22+T22+W22 -> 12 | Y22: =IF(Z22>=3,"Sí","No") -> No | Z22: =COUNTA(H22,K22,N22,Q22,T22,W22) -> 2 | AB22: =IFERROR(VLOOKUP(C22,Tabla15[[Piloto]:[Puntos clase]],6, FALSE), " ") -> 4RM
B23: 18 | C23: ARMANDO GARCIA-MORENO LOPEZ | D23: 3 | E23: 2 | I23: =IFERROR(VLOOKUP(C23,'02_TCT GUADAMUR'!$D$6:$M$36,10,FALSE),"") -> 5 | J23: =IFERROR(VLOOKUP(C23,'02_TCT GUADAMUR'!$D$6:$O$36,12,FALSE),"") -> 6 | K23: =(I23+J23) -> 11 | X23: =H23+K23+N23+Q23+T23+W23 -> 11 | Y23: =IF(Z23>=3,"Sí","No") -> No | Z23: =COUNTA(H23,K23,N23,Q23,T23,W23) -> 1 | AB23: =IFERROR(VLOOKUP(C23,Tabla15[[Piloto]:[Puntos clase]],6, FALSE), " ")
B24: 19 | C24: FRANCISCO DEL POZO MARTINEZ | D24: =IFERROR(VLOOKUP(C24,Tabla15[[Piloto]:[Puntos clase]],7, FALSE), " ") -> 3 | E24: =LEFT(AB24,LEN(AB24)-2) -> 2 | F24: =IFERROR(VLOOKUP(C24,'01_RS ALCARRIA'!$D$6:$M$36,10,FALSE),"") -> 1 | G24: =IFERROR(VLOOKUP(C24,'01_RS ALCARRIA'!$D$6:$O$36,12,FALSE),"") -> 3 | H24: =(F24+G24)*2 -> 8 | X24: =H24+K24+N24+Q24+T24+W24 -> 8 | Y24: =IF(Z24>=3,"Sí","No") -> No | Z24: =COUNTA(H24,K24,N24,Q24,T24,W24) -> 1 | AB24: =IFERROR(VLOOKUP(C24,Tabla15[[Piloto]:[Puntos clase]],6, FALSE), " ") -> 2RM
B25: 20 | C25: ANTONIO PEDROSA GORDILLO | D25: =IFERROR(VLOOKUP(C25,Tabla15[[Piloto]:[Puntos clase]],7, FALSE), " ") -> 5 | E25: =LEFT(AB25,LEN(AB25)-2) -> 2 | F25: 0 | G25: 0 | H25: =(F25+G25) -> 0 | I25: =IFERROR(VLOOKUP(C25,'02_TCT GUADAMUR'!$D$6:$M$36,10,FALSE),"") -> 0 | J25: =IFERROR(VLOOKUP(C25,'02_TCT GUADAMUR'!$D$6:$O$36,12,FALSE),"") -> 6 | K25: =(I25+J25) -> 6 | X25: =H25+K25+N25+Q25+T25+W25 -> 6 | Y25: =IF(Z25>=3,"Sí","No") -> No | Z25: =COUNTA(H25,K25,N25,Q25,T25,W25) -> 2 | AB25: =IFERROR(VLOOKUP(C25,Tabla15[[Piloto]:[Puntos clase]],6, FALSE), " ") -> 2RM
B26: 21 | C26: JOSE MANUEL CERRATO NOGUEIRA | D26: 3 | E26: 2 | F26: =IFERROR(VLOOKUP(C26,'01_RS ALCARRIA'!$D$6:$M$36,10,FALSE),"") -> 0 | G26: =IFERROR(VLOOKUP(C26,'01_RS ALCARRIA'!$D$6:$O$36,12,FALSE),"") -> 0 | H26: =(F26+G26)*2 -> 0 | I26: =IFERROR(VLOOKUP(C26,'02_TCT GUADAMUR'!$D$6:$M$36,10,FALSE),"") -> 2 | J26: =IFERROR(VLOOKUP(C26,'02_TCT GUADAMUR'!$D$6:$O$36,12,FALSE),"") -> 3 | K26: =(I26+J26) -> 5 | X26: =H26+K26+N26+Q26+T26+W26 -> 5 | Y26: =IF(Z26>=3,"Sí","No") -> No | Z26: =COUNTA(H26,K26,N26,Q26,T26,W26) -> 2 | AB26: =IFERROR(VLOOKUP(C26,Tabla15[[Piloto]:[Puntos clase]],6, FALSE), " ") -> 2RM
B27: 21 | C27: SERGIO MARTIN SANCHEZ | D27: 2 | E27: 2 | I27: =IFERROR(VLOOKUP(C27,'02_TCT GUADAMUR'!$D$6:$M$36,10,FALSE),"") -> 0 | J27: =IFERROR(VLOOKUP(C27,'02_TCT GUADAMUR'!$D$6:$O$36,12,FALSE),"") -> 5 | K27: =(I27+J27) -> 5 | X27: =H27+K27+N27+Q27+T27+W27 -> 5 | Y27: =IF(Z27>=3,"Sí","No") -> No | Z27: =COUNTA(H27,K27,N27,Q27,T27,W27) -> 1 | AB27: =IFERROR(VLOOKUP(C27,Tabla15[[Piloto]:[Puntos clase]],6, FALSE), " ")
B28: 23 | C28: ALVARO MANZANO BONILLA | D28: 4 | E28: 2 | I28: =IFERROR(VLOOKUP(C28,'02_TCT GUADAMUR'!$D$6:$M$36,10,FALSE),"") -> 0 | J28: =IFERROR(VLOOKUP(C28,'02_TCT GUADAMUR'!$D$6:$O$36,12,FALSE),"") -> 3 | K28: =(I28+J28) -> 3 | X28: =H28+K28+N28+Q28+T28+W28 -> 3 | Y28: =IF(Z28>=3,"Sí","No") -> No | Z28: =COUNTA(H28,K28,N28,Q28,T28,W28) -> 1 | AB28: =IFERROR(VLOOKUP(C28,Tabla15[[Piloto]:[Puntos clase]],6, FALSE), " ")
B29: 24 | C29: JULIO MARTIN AGUDO | D29: =IFERROR(VLOOKUP(C29,Tabla15[[Piloto]:[Puntos clase]],7, FALSE), " ") -> 3 | E29: =LEFT(AB29,LEN(AB29)-2) -> 2 | F29: =IFERROR(VLOOKUP(C29,'01_RS ALCARRIA'!$D$6:$M$36,10,FALSE),"") -> 0 | G29: =IFERROR(VLOOKUP(C29,'01_RS ALCARRIA'!$D$6:$O$36,12,FALSE),"") -> 1 | H29: =(F29+G29)*2 -> 2 | I29: =IFERROR(VLOOKUP(C29,'02_TCT GUADAMUR'!$D$6:$M$36,10,FALSE),"") -> 0 | J29: =IFERROR(VLOOKUP(C29,'02_TCT GUADAMUR'!$D$6:$O$36,12,FALSE),"") -> 0 | K29: =(I29+J29) -> 0 | X29: =H29+K29+N29+Q29+T29+W29 -> 2 | Y29: =IF(Z29>=3,"Sí","No") -> No | Z29: =COUNTA(H29,K29,N29,Q29,T29,W29) -> 2 | AB29: =IFERROR(VLOOKUP(C29,Tabla15[[Piloto]:[Puntos clase]],6, FALSE), " ") -> 2RM
B30: 25 | C30: PELI | D30: =IFERROR(VLOOKUP(C30,Tabla15[[Piloto]:[Puntos clase]],7, FALSE), " ") -> 3 | E30: =LEFT(AB30,LEN(AB30)-2) -> 2 | F30: =IFERROR(VLOOKUP(C30,'01_RS ALCARRIA'!$D$6:$M$36,10,FALSE),"") -> 0 | G30: =IFERROR(VLOOKUP(C30,'01_RS ALCARRIA'!$D$6:$O$36,12,FALSE),"") -> 0 | H30: =(F30+G30)*2 -> 0 | I30: =IFERROR(VLOOKUP(C30,'02_TCT GUADAMUR'!$D$6:$M$36,10,FALSE),"") -> 0 | J30: =IFERROR(VLOOKUP(C30,'02_TCT GUADAMUR'!$D$6:$O$36,12,FALSE),"") -> 1 | K30: =(I30+J30) -> 1 | X30: =H30+K30+N30+Q30+T30+W30 -> 1 | Y30: =IF(Z30>=3,"Sí","No") -> No | Z30: =COUNTA(H30,K30,N30,Q30,T30,W30) -> 2 | AB30: =IFERROR(VLOOKUP(C30,Tabla15[[Piloto]:[Puntos clase]],6, FALSE), " ") -> 2RM
B31: - | C31: MARCOS JOSE DEL CID JIMENEZ | D31: =IFERROR(VLOOKUP(C31,Tabla15[[Piloto]:[Puntos clase]],7, FALSE), " ") -> 3 | E31: =LEFT(AB31,LEN(AB31)-2) -> 2 | F31: =IFERROR(VLOOKUP(C31,'01_RS ALCARRIA'!$D$6:$M$36,10,FALSE),"") -> 0 | G31: =IFERROR(VLOOKUP(C31,'01_RS ALCARRIA'!$D$6:$O$36,12,FALSE),"") -> 0 | H31: =(F31+G31)*2 -> 0 | I31: =IFERROR(VLOOKUP(C31,'02_TCT GUADAMUR'!$D$6:$M$36,10,FALSE),"") -> 0 | J31: =IFERROR(VLOOKUP(C31,'02_TCT GUADAMUR'!$D$6:$O$36,12,FALSE),"") -> 0 | K31: =(I31+J31) -> 0 | X31: =H31+K31+N31+Q31+T31+W31 -> 0 | Y31: =IF(Z31>=3,"Sí","No") -> No | Z31: =COUNTA(H31,K31,N31,Q31,T31,W31) -> 2 | AB31: =IFERROR(VLOOKUP(C31,Tabla15[[Piloto]:[Puntos clase]],6, FALSE), " ") -> 2RM
B32: - | C32: ALEJANDRO VIÑAMBRES ROMERO | D32: =IFERROR(VLOOKUP(C32,Tabla15[[Piloto]:[Puntos clase]],7, FALSE), " ") -> 3 | E32: =LEFT(AB32,LEN(AB32)-2) -> 2 | F32: =IFERROR(VLOOKUP(C32,'01_RS ALCARRIA'!$D$6:$M$36,10,FALSE),"") -> 0 | G32: =IFERROR(VLOOKUP(C32,'01_RS ALCARRIA'!$D$6:$O$36,12,FALSE),"") -> 0 | H32: =(F32+G32)*2 -> 0 | X32: =H32+K32+N32+Q32+T32+W32 -> 0 | Y32: =IF(Z32>=3,"Sí","No") -> No | Z32: =COUNTA(H32,K32,N32,Q32,T32,W32) -> 1 | AB32: =IFERROR(VLOOKUP(C32,Tabla15[[Piloto]:[Puntos clase]],6, FALSE), " ") -> 2RM
B33: - | C33: VICTOR GARRIDO GONZALEZ | D33: =IFERROR(VLOOKUP(C33,Tabla15[[Piloto]:[Puntos clase]],7, FALSE), " ") -> 3 | E33: =LEFT(AB33,LEN(AB33)-2) -> 2 | F33: =IFERROR(VLOOKUP(C33,'01_RS ALCARRIA'!$D$6:$M$36,10,FALSE),"") -> 0 | G33: =IFERROR(VLOOKUP(C33,'01_RS ALCARRIA'!$D$6:$O$36,12,FALSE),"") -> 0 | H33: =(F33+G33)*2 -> 0 | X33: =H33+K33+N33+Q33+T33+W33 -> 0 | Y33: =IF(Z33>=3,"Sí","No") -> No | Z33: =COUNTA(H33,K33,N33,Q33,T33,W33) -> 1 | AB33: =IFERROR(VLOOKUP(C33,Tabla15[[Piloto]:[Puntos clase]],6, FALSE), " ") -> 2RM
B34: - | C34: MANUEL SORIANO DIAZ | D34: =IFERROR(VLOOKUP(C34,Tabla15[[Piloto]:[Puntos clase]],7, FALSE), " ") -> 2 | E34: =LEFT(AB34,LEN(AB34)-2) -> 2 | F34: 0 | G34: 0 | H34: =(F34+G34) -> 0 | I34: 0 | J34: 0 | K34: =(I34+J34) -> 0 | X34: =H34+K34+N34+Q34+T34+W34 -> 0 | Y34: =IF(Z34>=3,"Sí","No") -> No | Z34: =COUNTA(H34,K34,N34,Q34,T34,W34) -> 2 | AB34: =IFERROR(VLOOKUP(C34,Tabla15[[Piloto]:[Puntos clase]],6, FALSE), " ") -> 2RM
B35: - | C35: SERGIO VILLALBA TEJEDA | D35: 3 | E35: 2 | F35: 0 | G35: 0 | H35: =(F35+G35) -> 0 | X35: =H35+K35+N35+Q35+T35+W35 -> 0 | Y35: =IF(Z35>=3,"Sí","No") -> No | Z35: =COUNTA(H35,K35,N35,Q35,T35,W35) -> 1 | AB35: =IFERROR(VLOOKUP(C35,Tabla15[[Piloto]:[Puntos clase]],6, FALSE), " ") -> 2RM
B36: - | C36: IVAN ALONSO MARIN | D36: =IFERROR(VLOOKUP(C36,Tabla15[[Piloto]:[Puntos clase]],7, FALSE), " ") -> 5 | E36: 2 | F36: 0 | G36: 0 | H36: =(F36+G36) -> 0 | X36: =H36+K36+N36+Q36+T36+W36 -> 0 | Y36: =IF(Z36>=3,"Sí","No") -> No | Z36: =COUNTA(H36,K36,N36,Q36,T36,W36) -> 1 | AB36: =IFERROR(VLOOKUP(C36,Tabla15[[Piloto]:[Puntos clase]],6, FALSE), " ") -> 2RM
B37: - | C37: BELTRAN MARTINEZ REGUERA | D37: =IFERROR(VLOOKUP(C37,Tabla15[[Piloto]:[Puntos clase]],7, FALSE), " ") -> 4 | E37: 2 | F37: 0 | G37: 0 | H37: =(F37+G37) -> 0 | X37: =H37+K37+N37+Q37+T37+W37 -> 0 | Y37: =IF(Z37>=3,"Sí","No") -> No | Z37: =COUNTA(H37,K37,N37,Q37,T37,W37) -> 1 | AB37: =IFERROR(VLOOKUP(C37,Tabla15[[Piloto]:[Puntos clase]],6, FALSE), " ") -> 2RM
B38: - | C38: JUAN CARLOS AGUADO CUELLAR | D38: 1 | E38: 4 | I38: 0 | J38: 0 | K38: =(I38+J38) -> 0 | X38: =H38+K38+N38+Q38+T38+W38 -> 0 | Y38: =IF(Z38>=3,"Sí","No") -> No | Z38: =COUNTA(H38,K38,N38,Q38,T38,W38) -> 1 | AB38: =IFERROR(VLOOKUP(C38,Tabla15[[Piloto]:[Puntos clase]],6, FALSE), " ")
B39: - | C39: GERMAN LOPEZ GARCIA | D39: 1 | E39: 4 | I39: 0 | J39: 0 | K39: =(I39+J39) -> 0 | X39: =H39+K39+N39+Q39+T39+W39 -> 0 | Y39: =IF(Z39>=3,"Sí","No") -> No | Z39: =COUNTA(H39,K39,N39,Q39,T39,W39) -> 1
B40: - | C40: PEDRO LOPEZ MARTIN | D40: 3 | E40: 2 | I40: 0 | J40: 0 | K40: =(I40+J40) -> 0 | X40: =H40+K40+N40+Q40+T40+W40 -> 0
B41: - | C41: MIGUEL ANGEL UREÑA GARCIA | D41: 4 | E41: 2 | I41: 0 | J41: 0 | K41: =(I41+J41) -> 0 | X41: =H41+K41+N41+Q41+T41+W41 -> 0
E43: Se reparten el 50 % de los puntos de clase (Art. 12.2.1 del RD CMT 2026)
D45: NOM (-) | E45: Piloto sin licencia adscrita a la FMA que puntúa (art. 11.2.3. PCCCTM)
B47: CAMPEONATO MADRILEÑO DE TIERRA 2026
B48: CLASIFICACIÓN PROVISIONAL POR CLASES DE PILOTOS
F49: RS ALCARRIA | I49: TCT GUADAMUR | L49: TCT MAQUEDA | O49: RALLYE CAM | R49: RS NAVALCARNERO | U49: TCT NUEVO BAZTÁN
B50: Pos | C50: PILOTO | D50: Clase | E50: RM | F50: 14 FEBRERO | I50: 9 MAYO | L50: 12 SEPTIEMBRE | O50: 10 OCTUBRE | R50: 7 NOVIEMBRE | U50: 28 NOVIEMBRE | X50: TOTAL | Y50: ¿CLASIFICA? | Z50: PARTICIPACIÓN
F51: sct | G51: cl | H51: total | I51: sct | J51: cl | K51: total | L51: sct | M51: cl | N51: total | O51: sct | P51: cl | Q51: total | R51: sct | S51: cl | T51: total | U51: sct | V51: cl | W51: total
B52: 1 | C52: MANUEL GOMEZ-MANZANILLA JAVEGA | D52: =IFERROR(VLOOKUP(C52,Tabla15[[Piloto]:[Puntos clase]],7, FALSE), " ") -> 2 | E52: =LEFT(AB52,LEN(AB52)-2) -> 2 | F52: =IFERROR(VLOOKUP(C52,'01_RS ALCARRIA'!$D$6:$M$36,10,FALSE),"") -> 25 | G52: =IFERROR(VLOOKUP(C52,'01_RS ALCARRIA'!$D$6:$O$36,12,FALSE),"") -> 10 | H52: =(F52+G52)*2 -> 70 | I52: =IFERROR(VLOOKUP(C52,'02_TCT GUADAMUR'!$D$6:$M$36,10,FALSE),"") -> 17 | J52: =IFERROR(VLOOKUP(C52,'02_TCT GUADAMUR'!$D$6:$O$36,12,FALSE),"") -> 6 | K52: =(I52+J52) -> 23 | X52: =H52+K52+N52+Q52+T52+W52 -> 93 | Y52: =IF(Z52>=3,"Sí","No") -> No | Z52: =COUNTA(H52,K52,N52,Q52,T52,W52) -> 2 | AB52: =IFERROR(VLOOKUP(C52,Tabla15[[Piloto]:[Puntos clase]],6, FALSE), " ") -> 2RM
B53: 2 | C53: MANUEL GOMEZ-MANZANILLA ARRABAL | D53: =IFERROR(VLOOKUP(C53,Tabla15[[Piloto]:[Puntos clase]],7, FALSE), " ") -> 2 | E53: =LEFT(AB53,LEN(AB53)-2) -> 2 | F53: =IFERROR(VLOOKUP(C53,'01_RS ALCARRIA'!$D$6:$M$36,10,FALSE),"") -> 20 | G53: =IFERROR(VLOOKUP(C53,'01_RS ALCARRIA'!$D$6:$O$36,12,FALSE),"") -> 8 | H53: =(F53+G53)*2 -> 56 | I53: =IFERROR(VLOOKUP(C53,'02_TCT GUADAMUR'!$D$6:$M$36,10,FALSE),"") -> 25 | J53: =IFERROR(VLOOKUP(C53,'02_TCT GUADAMUR'!$D$6:$O$36,12,FALSE),"") -> 10 | K53: =(I53+J53) -> 35 | X53: =H53+K53+N53+Q53+T53+W53 -> 91 | Y53: =IF(Z53>=3,"Sí","No") -> No | Z53: =COUNTA(H53,K53,N53,Q53,T53,W53) -> 2 | AB53: =IFERROR(VLOOKUP(C53,Tabla15[[Piloto]:[Puntos clase]],6, FALSE), " ") -> 2RM
B54: 1 | C54: CRISTOFER CALERO CARRANZA | D54: =IFERROR(VLOOKUP(C54,Tabla15[[Piloto]:[Puntos clase]],7, FALSE), " ") -> 3 | E54: =LEFT(AB54,LEN(AB54)-2) -> 2 | F54: =IFERROR(VLOOKUP(C54,'01_RS ALCARRIA'!$D$6:$M$36,10,FALSE),"") -> 10 | G54: =IFERROR(VLOOKUP(C54,'01_RS ALCARRIA'!$D$6:$O$36,12,FALSE),"") -> 10 | H54: =(F54+G54)*2 -> 40 | I54: =IFERROR(VLOOKUP(C54,'02_TCT GUADAMUR'!$D$6:$M$36,10,FALSE),"") -> 10 | J54: =IFERROR(VLOOKUP(C54,'02_TCT GUADAMUR'!$D$6:$O$36,12,FALSE),"") -> 8 | K54: =(I54+J54) -> 18 | X54: =H54+K54+N54+Q54+T54+W54 -> 58 | Y54: =IF(Z54>=3,"Sí","No") -> No | Z54: =COUNTA(H54,K54,N54,Q54,T54,W54) -> 2 | AB54: =IFERROR(VLOOKUP(C54,Tabla15[[Piloto]:[Puntos clase]],6, FALSE), " ") -> 2RM
B55: 1 | C55: JAVIER ENCINAS ALARZA | D55: =IFERROR(VLOOKUP(C55,Tabla15[[Piloto]:[Puntos clase]],7, FALSE), " ") -> 1 | E55: =LEFT(AB55,LEN(AB55)-2) -> 4 | F55: =IFERROR(VLOOKUP(C55,'01_RS ALCARRIA'!$D$6:$M$36,10,FALSE),"") -> 12 | G55: =IFERROR(VLOOKUP(C55,'01_RS ALCARRIA'!$D$6:$O$36,12,FALSE),"")/2 -> 4 | H55: =(F55+G55)*2 -> 32 | I55: =IFERROR(VLOOKUP(C55,'02_TCT GUADAMUR'!$D$6:$M$36,10,FALSE),"") -> 15 | J55: =IFERROR(VLOOKUP(C55,'02_TCT GUADAMUR'!$D$6:$O$36,12,FALSE),"") -> 10 | K55: =(I55+J55) -> 25 | X55: =H55+K55+N55+Q55+T55+W55 -> 57 | Y55: =IF(Z55>=3,"Sí","No") -> No | Z55: =COUNTA(H55,K55,N55,Q55,T55,W55) -> 2 | AB55: =IFERROR(VLOOKUP(C55,Tabla15[[Piloto]:[Puntos clase]],6, FALSE), " ") -> 4RM
B56: 1 | C56: ALBERTO LUIS PEREZ | D56: =IFERROR(VLOOKUP(C56,Tabla15[[Piloto]:[Puntos clase]],7, FALSE), " ") -> 5 | E56: =LEFT(AB56,LEN(AB56)-2) -> 2 | F56: =IFERROR(VLOOKUP(C56,'01_RS ALCARRIA'!$D$6:$M$36,10,FALSE),"") -> 4 | G56: =IFERROR(VLOOKUP(C56,'01_RS ALCARRIA'!$D$6:$O$36,12,FALSE),"") -> 10 | H56: =(F56+G56)*2 -> 28 | I56: =IFERROR(VLOOKUP(C56,'02_TCT GUADAMUR'!$D$6:$M$36,10,FALSE),"") -> 8 | J56: =IFERROR(VLOOKUP(C56,'02_TCT GUADAMUR'!$D$6:$O$36,12,FALSE),"") -> 10 | K56: =(I56+J56) -> 18 | X56: =H56+K56+N56+Q56+T56+W56 -> 46 | Y56: =IF(Z56>=3,"Sí","No") -> No | Z56: =COUNTA(H56,K56,N56,Q56,T56,W56) -> 2 | AB56: =IFERROR(VLOOKUP(C56,Tabla15[[Piloto]:[Puntos clase]],6, FALSE), " ") -> 2RM
B57: 2 | C57: DIEGO CRUZ MARTINEZ (-) | D57: =IFERROR(VLOOKUP(C57,Tabla15[[Piloto]:[Puntos clase]],7, FALSE), " ") -> 1 | E57: =LEFT(AB57,LEN(AB57)-2) -> 4 | F57: =IFERROR(VLOOKUP(C57,'01_RS ALCARRIA'!$D$6:$M$36,10,FALSE),"") -> 17 | G57: =IFERROR(VLOOKUP(C57,'01_RS ALCARRIA'!$D$6:$O$36,12,FALSE),"")/2 -> 5 | H57: =(F57+G57)*2 -> 44 | X57: =H57+K57+N57+Q57+T57+W57 -> 44 | Y57: =IF(Z57>=3,"Sí","No") -> No | Z57: =COUNTA(H57,K57,N57,Q57,T57,W57) -> 1 | AB57: =IFERROR(VLOOKUP(C57,Tabla15[[Piloto]:[Puntos clase]],6, FALSE), " ") -> 4RM
B58: 3 | C58: RUBEN GONZALEZ PEREZ | D58: 2 | E58: 2 | F58: =IFERROR(VLOOKUP(C58,'01_RS ALCARRIA'!$D$6:$M$36,10,FALSE),"") -> 15 | G58: =IFERROR(VLOOKUP(C58,'01_RS ALCARRIA'!$D$6:$O$36,12,FALSE),"") -> 6 | H58: =(F58+G58)*2 -> 42 | X58: =H58+K58+N58+Q58+T58+W58 -> 42 | Y58: =IF(Z58>=3,"Sí","No") -> No | Z58: =COUNTA(H58,K58,N58,Q58,T58,W58) -> 1 | AB58: =IFERROR(VLOOKUP(C58,Tabla15[[Piloto]:[Puntos clase]],6, FALSE), " ") -> 2RM
B59: 1 | C59: RAUL CARRASCO SEGOVIA | D59: =IFERROR(VLOOKUP(C59,Tabla15[[Piloto]:[Puntos clase]],7, FALSE), " ") -> 4 | E59: =LEFT(AB59,LEN(AB59)-2) -> 2 | F59: =IFERROR(VLOOKUP(C59,'01_RS ALCARRIA'!$D$6:$M$36,10,FALSE),"") -> 3 | G59: =IFERROR(VLOOKUP(C59,'01_RS ALCARRIA'!$D$6:$O$36,12,FALSE),"") -> 10 | H59: =(F59+G59)*2 -> 26 | I59: =IFERROR(VLOOKUP(C59,'02_TCT GUADAMUR'!$D$6:$M$36,10,FALSE),"") -> 6 | J59: =IFERROR(VLOOKUP(C59,'02_TCT GUADAMUR'!$D$6:$O$36,12,FALSE),"") -> 10 | K59: =(I59+J59) -> 16 | X59: =H59+K59+N59+Q59+T59+W59 -> 42 | Y59: =IF(Z59>=3,"Sí","No") -> No | Z59: =COUNTA(H59,K59,N59,Q59,T59,W59) -> 2 | AB59: =IFERROR(VLOOKUP(C59,Tabla15[[Piloto]:[Puntos clase]],6, FALSE), " ") -> 2RM
B60: 2 | C60: SANTIAGO GARCIA MARTIN | D60: =IFERROR(VLOOKUP(C60,Tabla15[[Piloto]:[Puntos clase]],7, FALSE), " ") -> 3 | E60: =LEFT(AB60,LEN(AB60)-2) -> 2 | F60: =IFERROR(VLOOKUP(C60,'01_RS ALCARRIA'!$D$6:$M$36,10,FALSE),"") -> 8 | G60: =IFERROR(VLOOKUP(C60,'01_RS ALCARRIA'!$D$6:$O$36,12,FALSE),"") -> 8 | H60: =(F60+G60)*2 -> 32 | I60: 0 | J60: 0 | K60: =(I60+J60) -> 0 | X60: =H60+K60+N60+Q60+T60+W60 -> 32 | Y60: =IF(Z60>=3,"Sí","No") -> No | Z60: =COUNTA(H60,K60,N60,Q60,T60,W60) -> 2 | AB60: =IFERROR(VLOOKUP(C60,Tabla15[[Piloto]:[Puntos clase]],6, FALSE), " ") -> 2RM
B61: 2 | C61: ALBERTO DORSCH BLANCO | D61: =IFERROR(VLOOKUP(C61,Tabla15[[Piloto]:[Puntos clase]],7, FALSE), " ") -> 4 | E61: =LEFT(AB61,LEN(AB61)-2) -> 2 | F61: =IFERROR(VLOOKUP(C61,'01_RS ALCARRIA'!$D$6:$M$36,10,FALSE),"") -> 2 | G61: =IFERROR(VLOOKUP(C61,'01_RS ALCARRIA'!$D$6:$O$36,12,FALSE),"") -> 8 | H61: =(F61+G61)*2 -> 20 | I61: =IFERROR(VLOOKUP(C61,'02_TCT GUADAMUR'!$D$6:$M$36,10,FALSE),"") -> 1 | J61: =IFERROR(VLOOKUP(C61,'02_TCT GUADAMUR'!$D$6:$O$36,12,FALSE),"") -> 8 | K61: =(I61+J61) -> 9 | X61: =H61+K61+N61+Q61+T61+W61 -> 29 | Y61: =IF(Z61>=3,"Sí","No") -> No | Z61: =COUNTA(H61,K61,N61,Q61,T61,W61) -> 2 | AB61: =IFERROR(VLOOKUP(C61,Tabla15[[Piloto]:[Puntos clase]],6, FALSE), " ") -> 2RM
B62: 3 | C62: CARLOS VELAZQUEZ RODRIGUEZ | D62: =IFERROR(VLOOKUP(C62,Tabla15[[Piloto]:[Puntos clase]],7, FALSE), " ") -> 3 | E62: =LEFT(AB62,LEN(AB62)-2) -> 2 | F62: =IFERROR(VLOOKUP(C62,'01_RS ALCARRIA'!$D$6:$M$36,10,FALSE),"") -> 5 | G62: =IFERROR(VLOOKUP(C62,'01_RS ALCARRIA'!$D$6:$O$36,12,FALSE),"") -> 5 | H62: =(F62+G62)*2 -> 20 | I62: =IFERROR(VLOOKUP(C62,'02_TCT GUADAMUR'!$D$6:$M$36,10,FALSE),"") -> 3 | J62: =IFERROR(VLOOKUP(C62,'02_TCT GUADAMUR'!$D$6:$O$36,12,FALSE),"") -> 5 | K62: =(I62+J62) -> 8 | X62: =H62+K62+N62+Q62+T62+W62 -> 28 | Y62: =IF(Z62>=3,"Sí","No") -> No | Z62: =COUNTA(H62,K62,N62,Q62,T62,W62) -> 2 | AB62: =IFERROR(VLOOKUP(C62,Tabla15[[Piloto]:[Puntos clase]],6, FALSE), " ") -> 2RM
B63: 4 | C63: ANDRES LOPEZ ARCHILLA | D63: 2 | E63: 2 | I63: =IFERROR(VLOOKUP(C63,'02_TCT GUADAMUR'!$D$6:$M$36,10,FALSE),"") -> 20 | J63: =IFERROR(VLOOKUP(C63,'02_TCT GUADAMUR'!$D$6:$O$36,12,FALSE),"") -> 8 | K63: =(I63+J63) -> 28 | X63: =H63+K63+N63+Q63+T63+W63 -> 28 | Y63: =IF(Z63>=3,"Sí","No") -> No | Z63: =COUNTA(H63,K63,N63,Q63,T63,W63) -> 1 | AB63: =IFERROR(VLOOKUP(C63,Tabla15[[Piloto]:[Puntos clase]],6, FALSE), " ")
B64: 4 | C64: JOSE MARIA GARCIA-VIÑO SANCHEZ | D64: =IFERROR(VLOOKUP(C64,Tabla15[[Piloto]:[Puntos clase]],7, FALSE), " ") -> 3 | E64: =LEFT(AB64,LEN(AB64)-2) -> 2 | F64: =IFERROR(VLOOKUP(C64,'01_RS ALCARRIA'!$D$6:$M$36,10,FALSE),"") -> 6 | G64: =IFERROR(VLOOKUP(C64,'01_RS ALCARRIA'!$D$6:$O$36,12,FALSE),"") -> 6 | H64: =(F64+G64)*2 -> 24 | X64: =H64+K64+N64+Q64+T64+W64 -> 24 | Y64: =IF(Z64>=3,"Sí","No") -> No | Z64: =COUNTA(H64,K64,N64,Q64,T64,W64) -> 1 | AB64: =IFERROR(VLOOKUP(C64,Tabla15[[Piloto]:[Puntos clase]],6, FALSE), " ") -> 2RM
B65: 5 | C65: DAVID DE LA OSA SANJUAN | D65: 3 | E65: 2 | I65: =IFERROR(VLOOKUP(C65,'02_TCT GUADAMUR'!$D$6:$M$36,10,FALSE),"") -> 12 | J65: =IFERROR(VLOOKUP(C65,'02_TCT GUADAMUR'!$D$6:$O$36,12,FALSE),"") -> 10 | K65: =(I65+J65) -> 22 | X65: =H65+K65+N65+Q65+T65+W65 -> 22 | Y65: =IF(Z65>=3,"Sí","No") -> No | Z65: =COUNTA(H65,K65,N65,Q65,T65,W65) -> 1 | AB65: =IFERROR(VLOOKUP(C65,Tabla15[[Piloto]:[Puntos clase]],6, FALSE), " ")
B66: 3 | C66: MARIANO ALONSO GENTILE | D66: 4 | E66: =LEFT(AB66,LEN(AB66)-2) -> 2 | F66: =IFERROR(VLOOKUP(C66,'01_RS ALCARRIA'!$D$6:$M$36,10,FALSE),"") -> 0 | G66: =IFERROR(VLOOKUP(C66,'01_RS ALCARRIA'!$D$6:$O$36,12,FALSE),"") -> 6 | H66: =(F66+G66)*2 -> 12 | I66: =IFERROR(VLOOKUP(C66,'02_TCT GUADAMUR'!$D$6:$M$36,10,FALSE),"") -> 0 | J66: =IFERROR(VLOOKUP(C66,'02_TCT GUADAMUR'!$D$6:$O$36,12,FALSE),"") -> 5 | K66: =(I66+J66) -> 5 | X66: =H66+K66+N66+Q66+T66+W66 -> 17 | Y66: =IF(Z66>=3,"Sí","No") -> No | Z66: =COUNTA(H66,K66,N66,Q66,T66,W66) -> 2 | AB66: =IFERROR(VLOOKUP(C66,Tabla15[[Piloto]:[Puntos clase]],6, FALSE), " ") -> 2RM
B67: 4 | C67: IVAN AGUADO REOYO | D67: 4 | E67: 2 | F67: =IFERROR(VLOOKUP(C67,'01_RS ALCARRIA'!$D$6:$M$36,10,FALSE),"") -> 0 | G67: =IFERROR(VLOOKUP(C67,'01_RS ALCARRIA'!$D$6:$O$36,12,FALSE),"") -> 5 | H67: =(F67+G67)*2 -> 10 | I67: =IFERROR(VLOOKUP(C67,'02_TCT GUADAMUR'!$D$6:$M$36,10,FALSE),"") -> 0 | J67: =IFERROR(VLOOKUP(C67,'02_TCT GUADAMUR'!$D$6:$O$36,12,FALSE),"") -> 6 | K67: =(I67+J67) -> 6 | X67: =H67+K67+N67+Q67+T67+W67 -> 16 | Y67: =IF(Z67>=3,"Sí","No") -> No | Z67: =COUNTA(H67,K67,N67,Q67,T67,W67) -> 2 | AB67: =IFERROR(VLOOKUP(C67,Tabla15[[Piloto]:[Puntos clase]],6, FALSE), " ") -> 2RM
B68: 2 | C68: RUBEN VELAZQUEZ BERNARDO | D68: =IFERROR(VLOOKUP(C68,Tabla15[[Piloto]:[Puntos clase]],7, FALSE), " ") -> 5 | E68: =LEFT(AB68,LEN(AB68)-2) -> 4 | F68: 0 | G68: 0 | H68: =(F68+G68) -> 0 | I68: =IFERROR(VLOOKUP(C68,'02_TCT GUADAMUR'!$D$6:$M$36,10,FALSE),"") -> 4 | J68: =IFERROR(VLOOKUP(C68,'02_TCT GUADAMUR'!$D$6:$O$36,12,FALSE),"") -> 8 | K68: =(I68+J68) -> 12 | X68: =H68+K68+N68+Q68+T68+W68 -> 12 | Y68: =IF(Z68>=3,"Sí","No") -> No | Z68: =COUNTA(H68,K68,N68,Q68,T68,W68) -> 2 | AB68: =IFERROR(VLOOKUP(C68,Tabla15[[Piloto]:[Puntos clase]],6, FALSE), " ") -> 4RM
B69: 6 | C69: ARMANDO GARCIA-MORENO LOPEZ | D69: 3 | E69: 2 | I69: =IFERROR(VLOOKUP(C69,'02_TCT GUADAMUR'!$D$6:$M$36,10,FALSE),"") -> 5 | J69: =IFERROR(VLOOKUP(C69,'02_TCT GUADAMUR'!$D$6:$O$36,12,FALSE),"") -> 6 | K69: =(I69+J69) -> 11 | X69: =H69+K69+N69+Q69+T69+W69 -> 11 | Y69: =IF(Z69>=3,"Sí","No") -> No | Z69: =COUNTA(H69,K69,N69,Q69,T69,W69) -> 1 | AB69: =IFERROR(VLOOKUP(C69,Tabla15[[Piloto]:[Puntos clase]],6, FALSE), " ")
B70: 7 | C70: FRANCISCO DEL POZO MARTINEZ | D70: =IFERROR(VLOOKUP(C70,Tabla15[[Piloto]:[Puntos clase]],7, FALSE), " ") -> 3 | E70: =LEFT(AB70,LEN(AB70)-2) -> 2 | F70: =IFERROR(VLOOKUP(C70,'01_RS ALCARRIA'!$D$6:$M$36,10,FALSE),"") -> 1 | G70: =IFERROR(VLOOKUP(C70,'01_RS ALCARRIA'!$D$6:$O$36,12,FALSE),"") -> 3 | H70: =(F70+G70)*2 -> 8 | X70: =H70+K70+N70+Q70+T70+W70 -> 8 | Y70: =IF(Z70>=3,"Sí","No") -> No | Z70: =COUNTA(H70,K70,N70,Q70,T70,W70) -> 1 | AB70: =IFERROR(VLOOKUP(C70,Tabla15[[Piloto]:[Puntos clase]],6, FALSE), " ") -> 2RM
B71: 3 | C71: ANTONIO PEDROSA GORDILLO | D71: =IFERROR(VLOOKUP(C71,Tabla15[[Piloto]:[Puntos clase]],7, FALSE), " ") -> 5 | E71: =LEFT(AB71,LEN(AB71)-2) -> 2 | F71: 0 | G71: 0 | H71: =(F71+G71) -> 0 | I71: =IFERROR(VLOOKUP(C71,'02_TCT GUADAMUR'!$D$6:$M$36,10,FALSE),"") -> 0 | J71: =IFERROR(VLOOKUP(C71,'02_TCT GUADAMUR'!$D$6:$O$36,12,FALSE),"") -> 6 | K71: =(I71+J71) -> 6 | X71: =H71+K71+N71+Q71+T71+W71 -> 6 | Y71: =IF(Z71>=3,"Sí","No") -> No | Z71: =COUNTA(H71,K71,N71,Q71,T71,W71) -> 2 | AB71: =IFERROR(VLOOKUP(C71,Tabla15[[Piloto]:[Puntos clase]],6, FALSE), " ") -> 2RM
B72: 8 | C72: JOSE MANUEL CERRATO NOGUEIRA | D72: 3 | E72: 2 | F72: =IFERROR(VLOOKUP(C72,'01_RS ALCARRIA'!$D$6:$M$36,10,FALSE),"") -> 0 | G72: =IFERROR(VLOOKUP(C72,'01_RS ALCARRIA'!$D$6:$O$36,12,FALSE),"") -> 0 | H72: =(F72+G72)*2 -> 0 | I72: =IFERROR(VLOOKUP(C72,'02_TCT GUADAMUR'!$D$6:$M$36,10,FALSE),"") -> 2 | J72: =IFERROR(VLOOKUP(C72,'02_TCT GUADAMUR'!$D$6:$O$36,12,FALSE),"") -> 3 | K72: =(I72+J72) -> 5 | X72: =H72+K72+N72+Q72+T72+W72 -> 5 | Y72: =IF(Z72>=3,"Sí","No") -> No | Z72: =COUNTA(H72,K72,N72,Q72,T72,W72) -> 2 | AB72: =IFERROR(VLOOKUP(C72,Tabla15[[Piloto]:[Puntos clase]],6, FALSE), " ") -> 2RM
B73: 5 | C73: SERGIO MARTIN SANCHEZ | D73: 2 | E73: 2 | I73: =IFERROR(VLOOKUP(C73,'02_TCT GUADAMUR'!$D$6:$M$36,10,FALSE),"") -> 0 | J73: =IFERROR(VLOOKUP(C73,'02_TCT GUADAMUR'!$D$6:$O$36,12,FALSE),"") -> 5 | K73: =(I73+J73) -> 5 | X73: =H73+K73+N73+Q73+T73+W73 -> 5 | Y73: =IF(Z73>=3,"Sí","No") -> No | Z73: =COUNTA(H73,K73,N73,Q73,T73,W73) -> 1 | AB73: =IFERROR(VLOOKUP(C73,Tabla15[[Piloto]:[Puntos clase]],6, FALSE), " ")
B74: 5 | C74: ALVARO MANZANO BONILLA | D74: 4 | E74: 2 | I74: =IFERROR(VLOOKUP(C74,'02_TCT GUADAMUR'!$D$6:$M$36,10,FALSE),"") -> 0 | J74: =IFERROR(VLOOKUP(C74,'02_TCT GUADAMUR'!$D$6:$O$36,12,FALSE),"") -> 3 | K74: =(I74+J74) -> 3 | X74: =H74+K74+N74+Q74+T74+W74 -> 3 | Y74: =IF(Z74>=3,"Sí","No") -> No | Z74: =COUNTA(H74,K74,N74,Q74,T74,W74) -> 1 | AB74: =IFERROR(VLOOKUP(C74,Tabla15[[Piloto]:[Puntos clase]],6, FALSE), " ")
B75: 9 | C75: JULIO MARTIN AGUDO | D75: =IFERROR(VLOOKUP(C75,Tabla15[[Piloto]:[Puntos clase]],7, FALSE), " ") -> 3 | E75: =LEFT(AB75,LEN(AB75)-2) -> 2 | F75: =IFERROR(VLOOKUP(C75,'01_RS ALCARRIA'!$D$6:$M$36,10,FALSE),"") -> 0 | G75: =IFERROR(VLOOKUP(C75,'01_RS ALCARRIA'!$D$6:$O$36,12,FALSE),"") -> 1 | H75: =(F75+G75)*2 -> 2 | I75: =IFERROR(VLOOKUP(C75,'02_TCT GUADAMUR'!$D$6:$M$36,10,FALSE),"") -> 0 | J75: =IFERROR(VLOOKUP(C75,'02_TCT GUADAMUR'!$D$6:$O$36,12,FALSE),"") -> 0 | K75: =(I75+J75) -> 0 | X75: =H75+K75+N75+Q75+T75+W75 -> 2 | Y75: =IF(Z75>=3,"Sí","No") -> No | Z75: =COUNTA(H75,K75,N75,Q75,T75,W75) -> 2 | AB75: =IFERROR(VLOOKUP(C75,Tabla15[[Piloto]:[Puntos clase]],6, FALSE), " ") -> 2RM
B76: 10 | C76: PELI | D76: =IFERROR(VLOOKUP(C76,Tabla15[[Piloto]:[Puntos clase]],7, FALSE), " ") -> 3 | E76: =LEFT(AB76,LEN(AB76)-2) -> 2 | F76: =IFERROR(VLOOKUP(C76,'01_RS ALCARRIA'!$D$6:$M$36,10,FALSE),"") -> 0 | G76: =IFERROR(VLOOKUP(C76,'01_RS ALCARRIA'!$D$6:$O$36,12,FALSE),"") -> 0 | H76: =(F76+G76)*2 -> 0 | I76: =IFERROR(VLOOKUP(C76,'02_TCT GUADAMUR'!$D$6:$M$36,10,FALSE),"") -> 0 | J76: =IFERROR(VLOOKUP(C76,'02_TCT GUADAMUR'!$D$6:$O$36,12,FALSE),"") -> 1 | K76: =(I76+J76) -> 1 | X76: =H76+K76+N76+Q76+T76+W76 -> 1 | Y76: =IF(Z76>=3,"Sí","No") -> No | Z76: =COUNTA(H76,K76,N76,Q76,T76,W76) -> 2 | AB76: =IFERROR(VLOOKUP(C76,Tabla15[[Piloto]:[Puntos clase]],6, FALSE), " ") -> 2RM
B77: - | C77: MARCOS JOSE DEL CID JIMENEZ | D77: =IFERROR(VLOOKUP(C77,Tabla15[[Piloto]:[Puntos clase]],7, FALSE), " ") -> 3 | E77: =LEFT(AB77,LEN(AB77)-2) -> 2 | F77: =IFERROR(VLOOKUP(C77,'01_RS ALCARRIA'!$D$6:$M$36,10,FALSE),"") -> 0 | G77: =IFERROR(VLOOKUP(C77,'01_RS ALCARRIA'!$D$6:$O$36,12,FALSE),"") -> 0 | H77: =(F77+G77)*2 -> 0 | I77: =IFERROR(VLOOKUP(C77,'02_TCT GUADAMUR'!$D$6:$M$36,10,FALSE),"") -> 0 | J77: =IFERROR(VLOOKUP(C77,'02_TCT GUADAMUR'!$D$6:$O$36,12,FALSE),"") -> 0 | K77: =(I77+J77) -> 0 | X77: =H77+K77+N77+Q77+T77+W77 -> 0 | Y77: =IF(Z77>=3,"Sí","No") -> No | Z77: =COUNTA(H77,K77,N77,Q77,T77,W77) -> 2 | AB77: =IFERROR(VLOOKUP(C77,Tabla15[[Piloto]:[Puntos clase]],6, FALSE), " ") -> 2RM
B78: - | C78: ALEJANDRO VIÑAMBRES ROMERO | D78: =IFERROR(VLOOKUP(C78,Tabla15[[Piloto]:[Puntos clase]],7, FALSE), " ") -> 3 | E78: =LEFT(AB78,LEN(AB78)-2) -> 2 | F78: =IFERROR(VLOOKUP(C78,'01_RS ALCARRIA'!$D$6:$M$36,10,FALSE),"") -> 0 | G78: =IFERROR(VLOOKUP(C78,'01_RS ALCARRIA'!$D$6:$O$36,12,FALSE),"") -> 0 | H78: =(F78+G78)*2 -> 0 | X78: =H78+K78+N78+Q78+T78+W78 -> 0 | Y78: =IF(Z78>=3,"Sí","No") -> No | Z78: =COUNTA(H78,K78,N78,Q78,T78,W78) -> 1 | AB78: =IFERROR(VLOOKUP(C78,Tabla15[[Piloto]:[Puntos clase]],6, FALSE), " ") -> 2RM
B79: - | C79: VICTOR GARRIDO GONZALEZ | D79: =IFERROR(VLOOKUP(C79,Tabla15[[Piloto]:[Puntos clase]],7, FALSE), " ") -> 3 | E79: =LEFT(AB79,LEN(AB79)-2) -> 2 | F79: =IFERROR(VLOOKUP(C79,'01_RS ALCARRIA'!$D$6:$M$36,10,FALSE),"") -> 0 | G79: =IFERROR(VLOOKUP(C79,'01_RS ALCARRIA'!$D$6:$O$36,12,FALSE),"") -> 0 | H79: =(F79+G79)*2 -> 0 | X79: =H79+K79+N79+Q79+T79+W79 -> 0 | Y79: =IF(Z79>=3,"Sí","No") -> No | Z79: =COUNTA(H79,K79,N79,Q79,T79,W79) -> 1 | AB79: =IFERROR(VLOOKUP(C79,Tabla15[[Piloto]:[Puntos clase]],6, FALSE), " ") -> 2RM
B80: - | C80: MANUEL SORIANO DIAZ | D80: =IFERROR(VLOOKUP(C80,Tabla15[[Piloto]:[Puntos clase]],7, FALSE), " ") -> 2 | E80: =LEFT(AB80,LEN(AB80)-2) -> 2 | F80: 0 | G80: 0 | H80: =(F80+G80) -> 0 | I80: 0 | J80: 0 | K80: =(I80+J80) -> 0 | X80: =H80+K80+N80+Q80+T80+W80 -> 0 | Y80: =IF(Z80>=3,"Sí","No") -> No | Z80: =COUNTA(H80,K80,N80,Q80,T80,W80) -> 2 | AB80: =IFERROR(VLOOKUP(C80,Tabla15[[Piloto]:[Puntos clase]],6, FALSE), " ") -> 2RM
B81: - | C81: SERGIO VILLALBA TEJEDA | D81: 3 | E81: 2 | F81: 0 | G81: 0 | H81: =(F81+G81) -> 0 | X81: =H81+K81+N81+Q81+T81+W81 -> 0 | Y81: =IF(Z81>=3,"Sí","No") -> No | Z81: =COUNTA(H81,K81,N81,Q81,T81,W81) -> 1 | AB81: =IFERROR(VLOOKUP(C81,Tabla15[[Piloto]:[Puntos clase]],6, FALSE), " ") -> 2RM
B82: - | C82: IVAN ALONSO MARIN | D82: =IFERROR(VLOOKUP(C82,Tabla15[[Piloto]:[Puntos clase]],7, FALSE), " ") -> 5 | E82: 2 | F82: 0 | G82: 0 | H82: =(F82+G82) -> 0 | X82: =H82+K82+N82+Q82+T82+W82 -> 0 | Y82: =IF(Z82>=3,"Sí","No") -> No | Z82: =COUNTA(H82,K82,N82,Q82,T82,W82) -> 1 | AB82: =IFERROR(VLOOKUP(C82,Tabla15[[Piloto]:[Puntos clase]],6, FALSE), " ") -> 2RM
B83: - | C83: BELTRAN MARTINEZ REGUERA | D83: =IFERROR(VLOOKUP(C83,Tabla15[[Piloto]:[Puntos clase]],7, FALSE), " ") -> 4 | E83: 2 | F83: 0 | G83: 0 | H83: =(F83+G83) -> 0 | X83: =H83+K83+N83+Q83+T83+W83 -> 0 | Y83: =IF(Z83>=3,"Sí","No") -> No | Z83: =COUNTA(H83,K83,N83,Q83,T83,W83) -> 1 | AB83: =IFERROR(VLOOKUP(C83,Tabla15[[Piloto]:[Puntos clase]],6, FALSE), " ") -> 2RM
B84: - | C84: JUAN CARLOS AGUADO CUELLAR | D84: 1 | E84: 4 | I84: 0 | J84: 0 | K84: =(I84+J84) -> 0 | X84: =H84+K84+N84+Q84+T84+W84 -> 0 | Y84: =IF(Z84>=3,"Sí","No") -> No | Z84: =COUNTA(H84,K84,N84,Q84,T84,W84) -> 1 | AB84: =IFERROR(VLOOKUP(C84,Tabla15[[Piloto]:[Puntos clase]],6, FALSE), " ")
B85: - | C85: GERMAN LOPEZ GARCIA | D85: 1 | E85: 4 | I85: 0 | J85: 0 | K85: =(I85+J85) -> 0 | X85: =H85+K85+N85+Q85+T85+W85 -> 0 | Y85: =IF(Z85>=3,"Sí","No") -> No | Z85: =COUNTA(H85,K85,N85,Q85,T85,W85) -> 1 | AB85: =IFERROR(VLOOKUP(C85,Tabla15[[Piloto]:[Puntos clase]],6, FALSE), " ")
B86: - | C86: PEDRO LOPEZ MARTIN | D86: 3 | E86: 2 | I86: 0 | J86: 0 | K86: =(I86+J86) -> 0 | X86: =H86+K86+N86+Q86+T86+W86 -> 0 | Y86: =IF(Z86>=3,"Sí","No") -> No | Z86: =COUNTA(H86,K86,N86,Q86,T86,W86) -> 1 | AB86: =IFERROR(VLOOKUP(C86,Tabla15[[Piloto]:[Puntos clase]],6, FALSE), " ")
B87: - | C87: MIGUEL ANGEL UREÑA GARCIA | D87: 4 | E87: 2 | I87: 0 | J87: 0 | K87: =(I87+J87) -> 0 | X87: =H87+K87+N87+Q87+T87+W87 -> 0 | Y87: =IF(Z87>=3,"Sí","No") -> No | Z87: =COUNTA(H87,K87,N87,Q87,T87,W87) -> 1 | AB87: =IFERROR(VLOOKUP(C87,Tabla15[[Piloto]:[Puntos clase]],6, FALSE), " ")
D89: P | E89: Líder de Clase
D91: 2 | E91: Líder 2 RM
E93: Se reparten el 50 % de los puntos de clase (Art. 12.2.1 del RD CMT 2026)
D95: NOM (-) | E95: Piloto sin licencia adscrita a la FMA que puntúa (art. 11.2.3. PCCCTM)
B97: CAMPEONATO MADRILEÑO DE TIERRA 2026
B98: CLASIFICACIÓN PROVISIONAL GENERAL DE COPILOTOS
F99: RS ALCARRIA | I99: TCT GUADAMUR | L99: TCT MAQUEDA | O99: RALLYE CAM | R99: RS NAVALCARNERO | U99: TCT NUEVO BAZTÁN
B100: Pos | C100: COPILOTO | D100: Clase | E100: RM | F100: 14 FEBRERO | I100: 9 MAYO | L100: 12 SEPTIEMBRE | O100: 10 OCTUBRE | R100: 7 NOVIEMBRE | U100: 28 NOVIEMBRE | X100: TOTAL | Y100: ¿CLASIFICA? | Z100: PARTICIPACIÓN
F101: sct | G101: cl | H101: total | I101: sct | J101: cl | K101: total | L101: sct | M101: cl | N101: total | O101: sct | P101: cl | Q101: total | R101: sct | S101: cl | T101: total | U101: sct | V101: cl | W101: total
B102: 1 | C102: ALVARO CRISTOBAL ESCALERO | D102: 2 | E102: =LEFT(AB102,LEN(AB102)-2) -> 2 | F102: =IFERROR(VLOOKUP(C102,'01_RS ALCARRIA'!$F$6:$R$36,13,FALSE),"") -> 25 | G102: =IFERROR(VLOOKUP(C102,'01_RS ALCARRIA'!$F$6:$T$36,15,FALSE),"") -> 10 | H102: =(F102+G102)*2 -> 70 | I102: =IFERROR(VLOOKUP(C102,'02_TCT GUADAMUR'!$F$6:$R$36,13,FALSE),"") -> 17 | J102: =IFERROR(VLOOKUP(C102,'02_TCT GUADAMUR'!$F$6:$T$36,15,FALSE),"") -> 6 | K102: =(I102+J102) -> 23 | X102: =H102+K102+N102+Q102+T102+W102 -> 93 | Y102: =IF(Z102>=3,"Sí","No") -> No | Z102: =COUNTA(H102,K102,N102,Q102,T102,W102) -> 2 | AB102: =IFERROR(VLOOKUP(C102,Tabla15[[Piloto2]:[Puntos clase5]],4, FALSE), " ") -> 2RM
B103: 2 | C103: MARTIN LUMBRERAS MANRIQUE | D103: 2 | E103: =LEFT(AB103,LEN(AB103)-2) -> 2 | F103: =IFERROR(VLOOKUP(C103,'01_RS ALCARRIA'!$F$6:$R$36,13,FALSE),"") -> 20 | G103: =IFERROR(VLOOKUP(C103,'01_RS ALCARRIA'!$F$6:$T$36,15,FALSE),"") -> 8 | H103: =(F103+G103)*2 -> 56 | I103: =IFERROR(VLOOKUP(C103,'02_TCT GUADAMUR'!$F$6:$R$36,13,FALSE),"") -> 25 | J103: =IFERROR(VLOOKUP(C103,'02_TCT GUADAMUR'!$F$6:$T$36,15,FALSE),"") -> 10 | K103: =(I103+J103) -> 35 | X103: =H103+K103+N103+Q103+T103+W103 -> 91 | Y103: =IF(Z103>=3,"Sí","No") -> No | Z103: =COUNTA(H103,K103,N103,Q103,T103,W103) -> 2 | AB103: =IFERROR(VLOOKUP(C103,Tabla15[[Piloto2]:[Puntos clase5]],4, FALSE), " ") -> 2RM
B104: 3 | C104: JOAQUIN LOPEZ-MANCEBO DE PACO | D104: 3 | E104: =LEFT(AB104,LEN(AB104)-2) -> 2 | F104: =IFERROR(VLOOKUP(C104,'01_RS ALCARRIA'!$F$6:$R$36,13,FALSE),"") -> 15 | G104: =IFERROR(VLOOKUP(C104,'01_RS ALCARRIA'!$F$6:$T$36,15,FALSE),"") -> 10 | H104: =(F104+G104)*2 -> 50 | I104: =IFERROR(VLOOKUP(C104,'02_TCT GUADAMUR'!$F$6:$R$36,13,FALSE),"") -> 12 | J104: =IFERROR(VLOOKUP(C104,'02_TCT GUADAMUR'!$F$6:$T$36,15,FALSE),"") -> 10 | K104: =(I104+J104) -> 22 | X104: =H104+K104+N104+Q104+T104+W104 -> 72 | Y104: =IF(Z104>=3,"Sí","No") -> No | Z104: =COUNTA(H104,K104,N104,Q104,T104,W104) -> 2 | AB104: =IFERROR(VLOOKUP(C104,Tabla15[[Piloto2]:[Puntos clase5]],4, FALSE), " ") -> 2RM
B105: 4 | C105: MARCOS MARTINEZ GONZALEZ | D105: 1 | E105: =LEFT(AB105,LEN(AB105)-2) -> 4 | F105: =IFERROR(VLOOKUP(C105,'01_RS ALCARRIA'!$F$6:$R$36,13,FALSE),"") -> 17 | G105: =IFERROR(VLOOKUP(C105,'01_RS ALCARRIA'!$F$6:$T$36,15,FALSE),"")/2 -> 5 | H105: =(F105+G105)*2 -> 44 | I105: =IFERROR(VLOOKUP(C105,'02_TCT GUADAMUR'!$F$6:$R$36,13,FALSE),"") -> 15 | J105: =IFERROR(VLOOKUP(C105,'02_TCT GUADAMUR'!$F$6:$T$36,15,FALSE),"") -> 10 | K105: =(I105+J105) -> 25 | X105: =H105+K105+N105+Q105+T105+W105 -> 69 | Y105: =IF(Z105>=3,"Sí","No") -> No | Z105: =COUNTA(H105,K105,N105,Q105,T105,W105) -> 2 | AB105: =IFERROR(VLOOKUP(C105,Tabla15[[Piloto2]:[Puntos clase5]],4, FALSE), " ") -> 4RM
B106: 5 | C106: RAUL FUENTES LOPEZ | D106: 5 | E106: =LEFT(AB106,LEN(AB106)-2) -> 2 | F106: =IFERROR(VLOOKUP(C106,'01_RS ALCARRIA'!$F$6:$R$36,13,FALSE),"") -> 6 | G106: =IFERROR(VLOOKUP(C106,'01_RS ALCARRIA'!$F$6:$T$36,15,FALSE),"") -> 10 | H106: =(F106+G106)*2 -> 32 | I106: =IFERROR(VLOOKUP(C106,'02_TCT GUADAMUR'!$F$6:$R$36,13,FALSE),"") -> 10 | J106: =IFERROR(VLOOKUP(C106,'02_TCT GUADAMUR'!$F$6:$T$36,15,FALSE),"") -> 10 | K106: =(I106+J106) -> 20 | X106: =H106+K106+N106+Q106+T106+W106 -> 52 | Y106: =IF(Z106>=3,"Sí","No") -> No | Z106: =COUNTA(H106,K106,N106,Q106,T106,W106) -> 2 | AB106: =IFERROR(VLOOKUP(C106,Tabla15[[Piloto2]:[Puntos clase5]],4, FALSE), " ") -> 2RM
B107: 6 | C107: CARLOS CANCELA SANZ | D107: 3 | E107: =LEFT(AB107,LEN(AB107)-2) -> 2 | F107: =IFERROR(VLOOKUP(C107,'01_RS ALCARRIA'!$F$6:$R$36,13,FALSE),"") -> 12 | G107: =IFERROR(VLOOKUP(C107,'01_RS ALCARRIA'!$F$6:$T$36,15,FALSE),"") -> 8 | H107: =(F107+G107)*2 -> 40 | I107: 0 | J107: 0 | K107: =(I107+J107) -> 0 | X107: =H107+K107+N107+Q107+T107+W107 -> 40 | Y107: =IF(Z107>=3,"Sí","No") -> No | Z107: =COUNTA(H107,K107,N107,Q107,T107,W107) -> 2 | AB107: =IFERROR(VLOOKUP(C107,Tabla15[[Piloto2]:[Puntos clase5]],4, FALSE), " ") -> 2RM
B108: 7 | C108: MARIA GOMEZ MARTINEZ | D108: 3 | E108: =LEFT(AB108,LEN(AB108)-2) -> 2 | F108: =IFERROR(VLOOKUP(C108,'01_RS ALCARRIA'!$F$6:$R$36,13,FALSE),"") -> 8 | G108: =IFERROR(VLOOKUP(C108,'01_RS ALCARRIA'!$F$6:$T$36,15,FALSE),"") -> 5 | H108: =(F108+G108)*2 -> 26 | I108: =IFERROR(VLOOKUP(C108,'02_TCT GUADAMUR'!$F$6:$R$36,13,FALSE),"") -> 4 | J108: =IFERROR(VLOOKUP(C108,'02_TCT GUADAMUR'!$F$6:$T$36,15,FALSE),"") -> 6 | K108: =(I108+J108) -> 10 | X108: =H108+K108+N108+Q108+T108+W108 -> 36 | Y108: =IF(Z108>=3,"Sí","No") -> No | Z108: =COUNTA(H108,K108,N108,Q108,T108,W108) -> 2 | AB108: =IFERROR(VLOOKUP(C108,Tabla15[[Piloto2]:[Puntos clase5]],4, FALSE), " ") -> 2RM
...

Sheet POST ALCARRIA PARA WEB
B1: CAMPEONATO MADRILEÑO DE TIERRA 2026 | Y1: Ojo con Arts. 8.6 (Super-Rallye no puntúa ni bloquea), 9.4 (Todos madrileños puntúan y bloquean salvo que no hayan participado (autorizados) en el primer 50%), 9.5 (No madrileños puntúan solo si lo han pedido con art. 11.2.3 PCCCTCM), 12.2.1 (50% de puntos si nº de inscritos, autorizados y con derecho a puntuar y bloquear son 2 o menos) del RD CMT 2026. De las PCCCTCM importa el 11.3.1 (Clasifican si han sido autorizados a tomar salida en 3 pruebas como mínimo del CMA 2026 - 50%) y el 12.1 (Empates)
B2: CLASIFICACIÓN PROVISIONAL GENERAL DE PILOTOS | Y2: SE DESCARTA 1 PRUEBA SI HAY 6 O 7 EN TOTAL POR ART. 13.2 RD CMT 2026 (Si se ha participado/se está autorizado a participar en todas). DSQ no es descartable. En Copa Centro se descarta 1 (Menos DSQ y Todas con mismo coeficiente) y CKM se contabilizan todas y con 50% de puntos si se toma Super-Rallye.
F3: RS ALCARRIA | I3: TCT GUADAMUR | L3: TCT MAQUEDA | O3: RALLYE CAM | R3: RS NAVALCARNERO | U3: TCT NUEVO BAZTÁN
B4: Pos | C4: PILOTO | D4: Clase | E4: RM | F4: 14 FEBRERO | I4: 9 MAYO | L4: 12 SEPTIEMBRE | O4: 10 OCTUBRE | R4: 7 NOVIEMBRE | U4: 28 NOVIEMBRE | X4: TOTAL | Y4: ¿CLASIFICA? | Z4: PARTICIPACIÓN
F5: sct | G5: cl | H5: total | I5: sct | J5: cl | K5: total | L5: sct | M5: cl | N5: total | O5: sct | P5: cl | Q5: total | R5: sct | S5: cl | T5: total | U5: sct | V5: cl | W5: total
B6: 1 | C6: MANUEL GOMEZ-MANZANILLA JAVEGA | D6: =IFERROR(VLOOKUP(C6,Tabla15[[Piloto]:[Puntos clase]],7, FALSE), " ") -> 2 | E6: =LEFT(AB6,LEN(AB6)-2) -> 2 | F6: =IFERROR(VLOOKUP(C6,'01_RS ALCARRIA'!$D$6:$M$36,10,FALSE),"") -> 25 | G6: =IFERROR(VLOOKUP(C6,'01_RS ALCARRIA'!$D$6:$O$36,12,FALSE),"") -> 10 | H6: =(F6+G6)*2 -> 70 | X6: =H6+K6+N6+Q6+T6+W6 -> 70 | Y6: =IF(Z6>=3,"Sí","No") -> No | Z6: =COUNTA(H6,K6,N6,Q6,T6,W6) -> 1 | AB6: =IFERROR(VLOOKUP(C6,Tabla15[[Piloto]:[Puntos clase]],6, FALSE), " ") -> 2RM
B7: 2 | C7: MANUEL GOMEZ-MANZANILLA ARRABAL | D7: =IFERROR(VLOOKUP(C7,Tabla15[[Piloto]:[Puntos clase]],7, FALSE), " ") -> 2 | E7: =LEFT(AB7,LEN(AB7)-2) -> 2 | F7: =IFERROR(VLOOKUP(C7,'01_RS ALCARRIA'!$D$6:$M$36,10,FALSE),"") -> 20 | G7: =IFERROR(VLOOKUP(C7,'01_RS ALCARRIA'!$D$6:$O$36,12,FALSE),"") -> 8 | H7: =(F7+G7)*2 -> 56 | X7: =H7+K7+N7+Q7+T7+W7 -> 56 | Y7: =IF(Z7>=3,"Sí","No") -> No | Z7: =COUNTA(H7,K7,N7,Q7,T7,W7) -> 1 | AB7: =IFERROR(VLOOKUP(C7,Tabla15[[Piloto]:[Puntos clase]],6, FALSE), " ") -> 2RM
B8: 3 | C8: DIEGO CRUZ MARTINEZ (-) | D8: =IFERROR(VLOOKUP(C8,Tabla15[[Piloto]:[Puntos clase]],7, FALSE), " ") -> 1 | E8: =LEFT(AB8,LEN(AB8)-2) -> 4 | F8: =IFERROR(VLOOKUP(C8,'01_RS ALCARRIA'!$D$6:$M$36,10,FALSE),"") -> 17 | G8: =IFERROR(VLOOKUP(C8,'01_RS ALCARRIA'!$D$6:$O$36,12,FALSE),"")/2 -> 5 | H8: =(F8+G8)*2 -> 44 | X8: =H8+K8+N8+Q8+T8+W8 -> 44 | Y8: =IF(Z8>=3,"Sí","No") -> No | Z8: =COUNTA(H8,K8,N8,Q8,T8,W8) -> 1 | AB8: =IFERROR(VLOOKUP(C8,Tabla15[[Piloto]:[Puntos clase]],6, FALSE), " ") -> 4RM
B9: 4 | C9: RUBEN GONZALEZ PEREZ | D9: 2 | E9: 2 | F9: =IFERROR(VLOOKUP(C9,'01_RS ALCARRIA'!$D$6:$M$36,10,FALSE),"") -> 15 | G9: =IFERROR(VLOOKUP(C9,'01_RS ALCARRIA'!$D$6:$O$36,12,FALSE),"") -> 6 | H9: =(F9+G9)*2 -> 42 | X9: =H9+K9+N9+Q9+T9+W9 -> 42 | Y9: =IF(Z9>=3,"Sí","No") -> No | Z9: =COUNTA(H9,K9,N9,Q9,T9,W9) -> 1 | AB9: =IFERROR(VLOOKUP(C9,Tabla15[[Piloto]:[Puntos clase]],6, FALSE), " ") -> 2RM
B10: 5 | C10: CRISTOFER CALERO CARRANZA | D10: =IFERROR(VLOOKUP(C10,Tabla15[[Piloto]:[Puntos clase]],7, FALSE), " ") -> 3 | E10: =LEFT(AB10,LEN(AB10)-2) -> 2 | F10: =IFERROR(VLOOKUP(C10,'01_RS ALCARRIA'!$D$6:$M$36,10,FALSE),"") -> 10 | G10: =IFERROR(VLOOKUP(C10,'01_RS ALCARRIA'!$D$6:$O$36,12,FALSE),"") -> 10 | H10: =(F10+G10)*2 -> 40 | X10: =H10+K10+N10+Q10+T10+W10 -> 40 | Y10: =IF(Z10>=3,"Sí","No") -> No | Z10: =COUNTA(H10,K10,N10,Q10,T10,W10) -> 1 | AB10: =IFERROR(VLOOKUP(C10,Tabla15[[Piloto]:[Puntos clase]],6, FALSE), " ") -> 2RM
B11: 6 | C11: JAVIER ENCINAS ALARZA | D11: =IFERROR(VLOOKUP(C11,Tabla15[[Piloto]:[Puntos clase]],7, FALSE), " ") -> 1 | E11: =LEFT(AB11,LEN(AB11)-2) -> 4 | F11: =IFERROR(VLOOKUP(C11,'01_RS ALCARRIA'!$D$6:$M$36,10,FALSE),"") -> 12 | G11: =IFERROR(VLOOKUP(C11,'01_RS ALCARRIA'!$D$6:$O$36,12,FALSE),"")/2 -> 4 | H11: =(F11+G11)*2 -> 32 | X11: =H11+K11+N11+Q11+T11+W11 -> 32 | Y11: =IF(Z11>=3,"Sí","No") -> No | Z11: =COUNTA(H11,K11,N11,Q11,T11,W11) -> 1 | AB11: =IFERROR(VLOOKUP(C11,Tabla15[[Piloto]:[Puntos clase]],6, FALSE), " ") -> 4RM
B12: 6 | C12: SANTIAGO GARCIA MARTIN | D12: =IFERROR(VLOOKUP(C12,Tabla15[[Piloto]:[Puntos clase]],7, FALSE), " ") -> 3 | E12: =LEFT(AB12,LEN(AB12)-2) -> 2 | F12: =IFERROR(VLOOKUP(C12,'01_RS ALCARRIA'!$D$6:$M$36,10,FALSE),"") -> 8 | G12: =IFERROR(VLOOKUP(C12,'01_RS ALCARRIA'!$D$6:$O$36,12,FALSE),"") -> 8 | H12: =(F12+G12)*2 -> 32 | X12: =H12+K12+N12+Q12+T12+W12 -> 32 | Y12: =IF(Z12>=3,"Sí","No") -> No | Z12: =COUNTA(H12,K12,N12,Q12,T12,W12) -> 1 | AB12: =IFERROR(VLOOKUP(C12,Tabla15[[Piloto]:[Puntos clase]],6, FALSE), " ") -> 2RM
B13: 8 | C13: ALBERTO LUIS PEREZ | D13: =IFERROR(VLOOKUP(C13,Tabla15[[Piloto]:[Puntos clase]],7, FALSE), " ") -> 5 | E13: =LEFT(AB13,LEN(AB13)-2) -> 2 | F13: =IFERROR(VLOOKUP(C13,'01_RS ALCARRIA'!$D$6:$M$36,10,FALSE),"") -> 4 | G13: =IFERROR(VLOOKUP(C13,'01_RS ALCARRIA'!$D$6:$O$36,12,FALSE),"") -> 10 | H13: =(F13+G13)*2 -> 28 | X13: =H13+K13+N13+Q13+T13+W13 -> 28 | Y13: =IF(Z13>=3,"Sí","No") -> No | Z13: =COUNTA(H13,K13,N13,Q13,T13,W13) -> 1 | AB13: =IFERROR(VLOOKUP(C13,Tabla15[[Piloto]:[Puntos clase]],6, FALSE), " ") -> 2RM
B14: 9 | C14: RAUL CARRASCO SEGOVIA | D14: =IFERROR(VLOOKUP(C14,Tabla15[[Piloto]:[Puntos clase]],7, FALSE), " ") -> 4 | E14: =LEFT(AB14,LEN(AB14)-2) -> 2 | F14: =IFERROR(VLOOKUP(C14,'01_RS ALCARRIA'!$D$6:$M$36,10,FALSE),"") -> 3 | G14: =IFERROR(VLOOKUP(C14,'01_RS ALCARRIA'!$D$6:$O$36,12,FALSE),"") -> 10 | H14: =(F14+G14)*2 -> 26 | X14: =H14+K14+N14+Q14+T14+W14 -> 26 | Y14: =IF(Z14>=3,"Sí","No") -> No | Z14: =COUNTA(H14,K14,N14,Q14,T14,W14) -> 1 | AB14: =IFERROR(VLOOKUP(C14,Tabla15[[Piloto]:[Puntos clase]],6, FALSE), " ") -> 2RM
B15: 10 | C15: JOSE MARIA GARCIA-VIÑO SANCHEZ | D15: =IFERROR(VLOOKUP(C15,Tabla15[[Piloto]:[Puntos clase]],7, FALSE), " ") -> 3 | E15: =LEFT(AB15,LEN(AB15)-2) -> 2 | F15: =IFERROR(VLOOKUP(C15,'01_RS ALCARRIA'!$D$6:$M$36,10,FALSE),"") -> 6 | G15: =IFERROR(VLOOKUP(C15,'01_RS ALCARRIA'!$D$6:$O$36,12,FALSE),"") -> 6 | H15: =(F15+G15)*2 -> 24 | X15: =H15+K15+N15+Q15+T15+W15 -> 24 | Y15: =IF(Z15>=3,"Sí","No") -> No | Z15: =COUNTA(H15,K15,N15,Q15,T15,W15) -> 1 | AB15: =IFERROR(VLOOKUP(C15,Tabla15[[Piloto]:[Puntos clase]],6, FALSE), " ") -> 2RM
B16: 11 | C16: CARLOS VELAZQUEZ RODRIGUEZ | D16: =IFERROR(VLOOKUP(C16,Tabla15[[Piloto]:[Puntos clase]],7, FALSE), " ") -> 3 | E16: =LEFT(AB16,LEN(AB16)-2) -> 2 | F16: =IFERROR(VLOOKUP(C16,'01_RS ALCARRIA'!$D$6:$M$36,10,FALSE),"") -> 5 | G16: =IFERROR(VLOOKUP(C16,'01_RS ALCARRIA'!$D$6:$O$36,12,FALSE),"") -> 5 | H16: =(F16+G16)*2 -> 20 | X16: =H16+K16+N16+Q16+T16+W16 -> 20 | Y16: =IF(Z16>=3,"Sí","No") -> No | Z16: =COUNTA(H16,K16,N16,Q16,T16,W16) -> 1 | AB16: =IFERROR(VLOOKUP(C16,Tabla15[[Piloto]:[Puntos clase]],6, FALSE), " ") -> 2RM
B17: 11 | C17: ALBERTO DORSCH BLANCO | D17: =IFERROR(VLOOKUP(C17,Tabla15[[Piloto]:[Puntos clase]],7, FALSE), " ") -> 4 | E17: =LEFT(AB17,LEN(AB17)-2) -> 2 | F17: =IFERROR(VLOOKUP(C17,'01_RS ALCARRIA'!$D$6:$M$36,10,FALSE),"") -> 2 | G17: =IFERROR(VLOOKUP(C17,'01_RS ALCARRIA'!$D$6:$O$36,12,FALSE),"") -> 8 | H17: =(F17+G17)*2 -> 20 | X17: =H17+K17+N17+Q17+T17+W17 -> 20 | Y17: =IF(Z17>=3,"Sí","No") -> No | Z17: =COUNTA(H17,K17,N17,Q17,T17,W17) -> 1 | AB17: =IFERROR(VLOOKUP(C17,Tabla15[[Piloto]:[Puntos clase]],6, FALSE), " ") -> 2RM
B18: 13 | C18: MARIANO ALONSO GENTILE | D18: 4 | E18: =LEFT(AB18,LEN(AB18)-2) -> 2 | F18: =IFERROR(VLOOKUP(C18,'01_RS ALCARRIA'!$D$6:$M$36,10,FALSE),"") -> 0 | G18: =IFERROR(VLOOKUP(C18,'01_RS ALCARRIA'!$D$6:$O$36,12,FALSE),"") -> 6 | H18: =(F18+G18)*2 -> 12 | X18: =H18+K18+N18+Q18+T18+W18 -> 12 | Y18: =IF(Z18>=3,"Sí","No") -> No | Z18: =COUNTA(H18,K18,N18,Q18,T18,W18) -> 1 | AB18: =IFERROR(VLOOKUP(C18,Tabla15[[Piloto]:[Puntos clase]],6, FALSE), " ") -> 2RM
B19: 14 | C19: IVAN AGUADO REOYO | D19: 4 | E19: 2 | F19: =IFERROR(VLOOKUP(C19,'01_RS ALCARRIA'!$D$6:$M$36,10,FALSE),"") -> 0 | G19: =IFERROR(VLOOKUP(C19,'01_RS ALCARRIA'!$D$6:$O$36,12,FALSE),"") -> 5 | H19: =(F19+G19)*2 -> 10 | X19: =H19+K19+N19+Q19+T19+W19 -> 10 | Y19: =IF(Z19>=3,"Sí","No") -> No | Z19: =COUNTA(H19,K19,N19,Q19,T19,W19) -> 1 | AB19: =IFERROR(VLOOKUP(C19,Tabla15[[Piloto]:[Puntos clase]],6, FALSE), " ") -> 2RM
B20: 15 | C20: FRANCISCO DEL POZO MARTINEZ | D20: =IFERROR(VLOOKUP(C20,Tabla15[[Piloto]:[Puntos clase]],7, FALSE), " ") -> 3 | E20: =LEFT(AB20,LEN(AB20)-2) -> 2 | F20: =IFERROR(VLOOKUP(C20,'01_RS ALCARRIA'!$D$6:$M$36,10,FALSE),"") -> 1 | G20: =IFERROR(VLOOKUP(C20,'01_RS ALCARRIA'!$D$6:$O$36,12,FALSE),"") -> 3 | H20: =(F20+G20)*2 -> 8 | X20: =H20+K20+N20+Q20+T20+W20 -> 8 | Y20: =IF(Z20>=3,"Sí","No") -> No | Z20: =COUNTA(H20,K20,N20,Q20,T20,W20) -> 1 | AB20: =IFERROR(VLOOKUP(C20,Tabla15[[Piloto]:[Puntos clase]],6, FALSE), " ") -> 2RM
B21: 16 | C21: JULIO MARTIN AGUDO | D21: =IFERROR(VLOOKUP(C21,Tabla15[[Piloto]:[Puntos clase]],7, FALSE), " ") -> 3 | E21: =LEFT(AB21,LEN(AB21)-2) -> 2 | F21: =IFERROR(VLOOKUP(C21,'01_RS ALCARRIA'!$D$6:$M$36,10,FALSE),"") -> 0 | G21: =IFERROR(VLOOKUP(C21,'01_RS ALCARRIA'!$D$6:$O$36,12,FALSE),"") -> 1 | H21: =(F21+G21)*2 -> 2 | X21: =H21+K21+N21+Q21+T21+W21 -> 2 | Y21: =IF(Z21>=3,"Sí","No") -> No | Z21: =COUNTA(H21,K21,N21,Q21,T21,W21) -> 1 | AB21: =IFERROR(VLOOKUP(C21,Tabla15[[Piloto]:[Puntos clase]],6, FALSE), " ") -> 2RM
B22: - | C22: JOSE MANUEL CERRATO NOGUEIRA | D22: 3 | E22: 2 | F22: =IFERROR(VLOOKUP(C22,'01_RS ALCARRIA'!$D$6:$M$36,10,FALSE),"") -> 0 | G22: =IFERROR(VLOOKUP(C22,'01_RS ALCARRIA'!$D$6:$O$36,12,FALSE),"") -> 0 | H22: =(F22+G22)*2 -> 0 | X22: =H22+K22+N22+Q22+T22+W22 -> 0 | Y22: =IF(Z22>=3,"Sí","No") -> No | Z22: =COUNTA(H22,K22,N22,Q22,T22,W22) -> 1 | AB22: =IFERROR(VLOOKUP(C22,Tabla15[[Piloto]:[Puntos clase]],6, FALSE), " ") -> 2RM
B23: - | C23: MARCOS JOSE DEL CID JIMENEZ | D23: =IFERROR(VLOOKUP(C23,Tabla15[[Piloto]:[Puntos clase]],7, FALSE), " ") -> 3 | E23: =LEFT(AB23,LEN(AB23)-2) -> 2 | F23: =IFERROR(VLOOKUP(C23,'01_RS ALCARRIA'!$D$6:$M$36,10,FALSE),"") -> 0 | G23: =IFERROR(VLOOKUP(C23,'01_RS ALCARRIA'!$D$6:$O$36,12,FALSE),"") -> 0 | H23: =(F23+G23)*2 -> 0 | X23: =H23+K23+N23+Q23+T23+W23 -> 0 | Y23: =IF(Z23>=3,"Sí","No") -> No | Z23: =COUNTA(H23,K23,N23,Q23,T23,W23) -> 1 | AB23: =IFERROR(VLOOKUP(C23,Tabla15[[Piloto]:[Puntos clase]],6, FALSE), " ") -> 2RM
B24: - | C24: PELI | D24: =IFERROR(VLOOKUP(C24,Tabla15[[Piloto]:[Puntos clase]],7, FALSE), " ") -> 3 | E24: =LEFT(AB24,LEN(AB24)-2) -> 2 | F24: =IFERROR(VLOOKUP(C24,'01_RS ALCARRIA'!$D$6:$M$36,10,FALSE),"") -> 0 | G24: =IFERROR(VLOOKUP(C24,'01_RS ALCARRIA'!$D$6:$O$36,12,FALSE),"") -> 0 | H24: =(F24+G24)*2 -> 0 | X24: =H24+K24+N24+Q24+T24+W24 -> 0 | Y24: =IF(Z24>=3,"Sí","No") -> No | Z24: =COUNTA(H24,K24,N24,Q24,T24,W24) -> 1 | AB24: =IFERROR(VLOOKUP(C24,Tabla15[[Piloto]:[Puntos clase]],6, FALSE), " ") -> 2RM
B25: - | C25: ALEJANDRO VIÑAMBRES ROMERO | D25: =IFERROR(VLOOKUP(C25,Tabla15[[Piloto]:[Puntos clase]],7, FALSE), " ") -> 3 | E25: =LEFT(AB25,LEN(AB25)-2) -> 2 | F25: =IFERROR(VLOOKUP(C25,'01_RS ALCARRIA'!$D$6:$M$36,10,FALSE),"") -> 0 | G25: =IFERROR(VLOOKUP(C25,'01_RS ALCARRIA'!$D$6:$O$36,12,FALSE),"") -> 0 | H25: =(F25+G25)*2 -> 0 | X25: =H25+K25+N25+Q25+T25+W25 -> 0 | Y25: =IF(Z25>=3,"Sí","No") -> No | Z25: =COUNTA(H25,K25,N25,Q25,T25,W25) -> 1 | AB25: =IFERROR(VLOOKUP(C25,Tabla15[[Piloto]:[Puntos clase]],6, FALSE), " ") -> 2RM
B26: - | C26: VICTOR GARRIDO GONZALEZ | D26: =IFERROR(VLOOKUP(C26,Tabla15[[Piloto]:[Puntos clase]],7, FALSE), " ") -> 3 | E26: =LEFT(AB26,LEN(AB26)-2) -> 2 | F26: =IFERROR(VLOOKUP(C26,'01_RS ALCARRIA'!$D$6:$M$36,10,FALSE),"") -> 0 | G26: =IFERROR(VLOOKUP(C26,'01_RS ALCARRIA'!$D$6:$O$36,12,FALSE),"") -> 0 | H26: =(F26+G26)*2 -> 0 | X26: =H26+K26+N26+Q26+T26+W26 -> 0 | Y26: =IF(Z26>=3,"Sí","No") -> No | Z26: =COUNTA(H26,K26,N26,Q26,T26,W26) -> 1 | AB26: =IFERROR(VLOOKUP(C26,Tabla15[[Piloto]:[Puntos clase]],6, FALSE), " ") -> 2RM
B27: - | C27: RUBEN VELAZQUEZ BERNARDO | D27: =IFERROR(VLOOKUP(C27,Tabla15[[Piloto]:[Puntos clase]],7, FALSE), " ") -> 5 | E27: =LEFT(AB27,LEN(AB27)-2) -> 4 | F27: 0 | G27: 0 | H27: =(F27+G27) -> 0 | X27: =H27+K27+N27+Q27+T27+W27 -> 0 | Y27: =IF(Z27>=3,"Sí","No") -> No | Z27: =COUNTA(H27,K27,N27,Q27,T27,W27) -> 1 | AB27: =IFERROR(VLOOKUP(C27,Tabla15[[Piloto]:[Puntos clase]],6, FALSE), " ") -> 4RM
B28: - | C28: MANUEL SORIANO DIAZ | D28: =IFERROR(VLOOKUP(C28,Tabla15[[Piloto]:[Puntos clase]],7, FALSE), " ") -> 2 | E28: =LEFT(AB28,LEN(AB28)-2) -> 2 | F28: 0 | G28: 0 | H28: =(F28+G28) -> 0 | X28: =H28+K28+N28+Q28+T28+W28 -> 0 | Y28: =IF(Z28>=3,"Sí","No") -> No | Z28: =COUNTA(H28,K28,N28,Q28,T28,W28) -> 1 | AB28: =IFERROR(VLOOKUP(C28,Tabla15[[Piloto]:[Puntos clase]],6, FALSE), " ") -> 2RM
B29: - | C29: ANTONIO PEDROSA GORDILLO | D29: =IFERROR(VLOOKUP(C29,Tabla15[[Piloto]:[Puntos clase]],7, FALSE), " ") -> 5 | E29: =LEFT(AB29,LEN(AB29)-2) -> 2 | F29: 0 | G29: 0 | H29: =(F29+G29) -> 0 | X29: =H29+K29+N29+Q29+T29+W29 -> 0 | Y29: =IF(Z29>=3,"Sí","No") -> No | Z29: =COUNTA(H29,K29,N29,Q29,T29,W29) -> 1 | AB29: =IFERROR(VLOOKUP(C29,Tabla15[[Piloto]:[Puntos clase]],6, FALSE), " ") -> 2RM
B30: - | C30: SERGIO VILLALBA TEJEDA | D30: 3 | E30: 2 | F30: 0 | G30: 0 | H30: =(F30+G30) -> 0 | X30: =H30+K30+N30+Q30+T30+W30 -> 0 | Y30: =IF(Z30>=3,"Sí","No") -> No | Z30: =COUNTA(H30,K30,N30,Q30,T30,W30) -> 1 | AB30: =IFERROR(VLOOKUP(C30,Tabla15[[Piloto]:[Puntos clase]],6, FALSE), " ") -> 2RM
B31: - | C31: IVAN ALONSO MARIN | D31: =IFERROR(VLOOKUP(C31,Tabla15[[Piloto]:[Puntos clase]],7, FALSE), " ") -> 5 | E31: 2 | F31: 0 | G31: 0 | H31: =(F31+G31) -> 0 | X31: =H31+K31+N31+Q31+T31+W31 -> 0 | Y31: =IF(Z31>=3,"Sí","No") -> No | Z31: =COUNTA(H31,K31,N31,Q31,T31,W31) -> 1 | AB31: =IFERROR(VLOOKUP(C31,Tabla15[[Piloto]:[Puntos clase]],6, FALSE), " ") -> 2RM
B32: - | C32: BELTRAN MARTINEZ REGUERA | D32: =IFERROR(VLOOKUP(C32,Tabla15[[Piloto]:[Puntos clase]],7, FALSE), " ") -> 4 | E32: 2 | F32: 0 | G32: 0 | H32: =(F32+G32) -> 0 | X32: =H32+K32+N32+Q32+T32+W32 -> 0 | Y32: =IF(Z32>=3,"Sí","No") -> No | Z32: =COUNTA(H32,K32,N32,Q32,T32,W32) -> 1 | AB32: =IFERROR(VLOOKUP(C32,Tabla15[[Piloto]:[Puntos clase]],6, FALSE), " ") -> 2RM
E34: Se reparten el 50 % de los puntos de clase (Art. 12.2.1 del RD CMT 2026)
C36: Piloto no madrileño que puntúa (art. 11.2.3. PCCCTM) | D36: NOMBRE (-)
B38: CAMPEONATO MADRILEÑO DE TIERRA 2026
B39: CLASIFICACIÓN PROVISIONAL POR CLASES DE PILOTOS
F40: RS ALCARRIA | I40: TCT GUADAMUR | L40: TCT MAQUEDA | O40: RALLYE CAM | R40: RS NAVALCARNERO | U40: TCT NUEVO BAZTÁN
B41: Pos | C41: PILOTO | D41: Clase | E41: RM | F41: 14 FEBRERO | I41: 9 MAYO | L41: 12 SEPTIEMBRE | O41: 10 OCTUBRE | R41: 7 NOVIEMBRE | U41: 28 NOVIEMBRE | X41: TOTAL | Y41: ¿CLASIFICA? | Z41: PARTICIPACIÓN
F42: sct | G42: cl | H42: total | I42: sct | J42: cl | K42: total | L42: sct | M42: cl | N42: total | O42: sct | P42: cl | Q42: total | R42: sct | S42: cl | T42: total | U42: sct | V42: cl | W42: total
B43: 1 | C43: MANUEL GOMEZ-MANZANILLA JAVEGA | D43: =IFERROR(VLOOKUP(C43,Tabla15[[Piloto]:[Puntos clase]],7, FALSE), " ") -> 2 | E43: =LEFT(AB43,LEN(AB43)-2) -> 2 | F43: =IFERROR(VLOOKUP(C43,'01_RS ALCARRIA'!$D$6:$M$36,10,FALSE),"") -> 25 | G43: =IFERROR(VLOOKUP(C43,'01_RS ALCARRIA'!$D$6:$O$36,12,FALSE),"") -> 10 | H43: =(F43+G43)*2 -> 70 | X43: =H43+K43+N43+Q43+T43+W43 -> 70 | Y43: =IF(Z43>=3,"Sí","No") -> No | Z43: =COUNTA(H43,K43,N43,Q43,T43,W43) -> 1 | AB43: =IFERROR(VLOOKUP(C43,Tabla15[[Piloto]:[Puntos clase]],6, FALSE), " ") -> 2RM
B44: 2 | C44: MANUEL GOMEZ-MANZANILLA ARRABAL | D44: =IFERROR(VLOOKUP(C44,Tabla15[[Piloto]:[Puntos clase]],7, FALSE), " ") -> 2 | E44: =LEFT(AB44,LEN(AB44)-2) -> 2 | F44: =IFERROR(VLOOKUP(C44,'01_RS ALCARRIA'!$D$6:$M$36,10,FALSE),"") -> 20 | G44: =IFERROR(VLOOKUP(C44,'01_RS ALCARRIA'!$D$6:$O$36,12,FALSE),"") -> 8 | H44: =(F44+G44)*2 -> 56 | X44: =H44+K44+N44+Q44+T44+W44 -> 56 | Y44: =IF(Z44>=3,"Sí","No") -> No | Z44: =COUNTA(H44,K44,N44,Q44,T44,W44) -> 1 | AB44: =IFERROR(VLOOKUP(C44,Tabla15[[Piloto]:[Puntos clase]],6, FALSE), " ") -> 2RM
B45: 1 | C45: DIEGO CRUZ MARTINEZ (-) | D45: =IFERROR(VLOOKUP(C45,Tabla15[[Piloto]:[Puntos clase]],7, FALSE), " ") -> 1 | E45: =LEFT(AB45,LEN(AB45)-2) -> 4 | F45: =IFERROR(VLOOKUP(C45,'01_RS ALCARRIA'!$D$6:$M$36,10,FALSE),"") -> 17 | G45: =IFERROR(VLOOKUP(C45,'01_RS ALCARRIA'!$D$6:$O$36,12,FALSE),"")/2 -> 5 | H45: =(F45+G45)*2 -> 44 | X45: =H45+K45+N45+Q45+T45+W45 -> 44 | Y45: =IF(Z45>=3,"Sí","No") -> No | Z45: =COUNTA(H45,K45,N45,Q45,T45,W45) -> 1 | AB45: =IFERROR(VLOOKUP(C45,Tabla15[[Piloto]:[Puntos clase]],6, FALSE), " ") -> 4RM
B46: 3 | C46: RUBEN GONZALEZ PEREZ | D46: 2 | E46: 2 | F46: =IFERROR(VLOOKUP(C46,'01_RS ALCARRIA'!$D$6:$M$36,10,FALSE),"") -> 15 | G46: =IFERROR(VLOOKUP(C46,'01_RS ALCARRIA'!$D$6:$O$36,12,FALSE),"") -> 6 | H46: =(F46+G46)*2 -> 42 | X46: =H46+K46+N46+Q46+T46+W46 -> 42 | Y46: =IF(Z46>=3,"Sí","No") -> No | Z46: =COUNTA(H46,K46,N46,Q46,T46,W46) -> 1 | AB46: =IFERROR(VLOOKUP(C46,Tabla15[[Piloto]:[Puntos clase]],6, FALSE), " ") -> 2RM
B47: 1 | C47: CRISTOFER CALERO CARRANZA | D47: =IFERROR(VLOOKUP(C47,Tabla15[[Piloto]:[Puntos clase]],7, FALSE), " ") -> 3 | E47: =LEFT(AB47,LEN(AB47)-2) -> 2 | F47: =IFERROR(VLOOKUP(C47,'01_RS ALCARRIA'!$D$6:$M$36,10,FALSE),"") -> 10 | G47: =IFERROR(VLOOKUP(C47,'01_RS ALCARRIA'!$D$6:$O$36,12,FALSE),"") -> 10 | H47: =(F47+G47)*2 -> 40 | X47: =H47+K47+N47+Q47+T47+W47 -> 40 | Y47: =IF(Z47>=3,"Sí","No") -> No | Z47: =COUNTA(H47,K47,N47,Q47,T47,W47) -> 1 | AB47: =IFERROR(VLOOKUP(C47,Tabla15[[Piloto]:[Puntos clase]],6, FALSE), " ") -> 2RM
B48: 2 | C48: JAVIER ENCINAS ALARZA | D48: =IFERROR(VLOOKUP(C48,Tabla15[[Piloto]:[Puntos clase]],7, FALSE), " ") -> 1 | E48: =LEFT(AB48,LEN(AB48)-2) -> 4 | F48: =IFERROR(VLOOKUP(C48,'01_RS ALCARRIA'!$D$6:$M$36,10,FALSE),"") -> 12 | G48: =IFERROR(VLOOKUP(C48,'01_RS ALCARRIA'!$D$6:$O$36,12,FALSE),"")/2 -> 4 | H48: =(F48+G48)*2 -> 32 | X48: =H48+K48+N48+Q48+T48+W48 -> 32 | Y48: =IF(Z48>=3,"Sí","No") -> No | Z48: =COUNTA(H48,K48,N48,Q48,T48,W48) -> 1 | AB48: =IFERROR(VLOOKUP(C48,Tabla15[[Piloto]:[Puntos clase]],6, FALSE), " ") -> 4RM
B49: 2 | C49: SANTIAGO GARCIA MARTIN | D49: =IFERROR(VLOOKUP(C49,Tabla15[[Piloto]:[Puntos clase]],7, FALSE), " ") -> 3 | E49: =LEFT(AB49,LEN(AB49)-2) -> 2 | F49: =IFERROR(VLOOKUP(C49,'01_RS ALCARRIA'!$D$6:$M$36,10,FALSE),"") -> 8 | G49: =IFERROR(VLOOKUP(C49,'01_RS ALCARRIA'!$D$6:$O$36,12,FALSE),"") -> 8 | H49: =(F49+G49)*2 -> 32 | X49: =H49+K49+N49+Q49+T49+W49 -> 32 | Y49: =IF(Z49>=3,"Sí","No") -> No | Z49: =COUNTA(H49,K49,N49,Q49,T49,W49) -> 1 | AB49: =IFERROR(VLOOKUP(C49,Tabla15[[Piloto]:[Puntos clase]],6, FALSE), " ") -> 2RM
B50: 1 | C50: ALBERTO LUIS PEREZ | D50: =IFERROR(VLOOKUP(C50,Tabla15[[Piloto]:[Puntos clase]],7, FALSE), " ") -> 5 | E50: =LEFT(AB50,LEN(AB50)-2) -> 2 | F50: =IFERROR(VLOOKUP(C50,'01_RS ALCARRIA'!$D$6:$M$36,10,FALSE),"") -> 4 | G50: =IFERROR(VLOOKUP(C50,'01_RS ALCARRIA'!$D$6:$O$36,12,FALSE),"") -> 10 | H50: =(F50+G50)*2 -> 28 | X50: =H50+K50+N50+Q50+T50+W50 -> 28 | Y50: =IF(Z50>=3,"Sí","No") -> No | Z50: =COUNTA(H50,K50,N50,Q50,T50,W50) -> 1 | AB50: =IFERROR(VLOOKUP(C50,Tabla15[[Piloto]:[Puntos clase]],6, FALSE), " ") -> 2RM
B51: 1 | C51: RAUL CARRASCO SEGOVIA | D51: =IFERROR(VLOOKUP(C51,Tabla15[[Piloto]:[Puntos clase]],7, FALSE), " ") -> 4 | E51: =LEFT(AB51,LEN(AB51)-2) -> 2 | F51: =IFERROR(VLOOKUP(C51,'01_RS ALCARRIA'!$D$6:$M$36,10,FALSE),"") -> 3 | G51: =IFERROR(VLOOKUP(C51,'01_RS ALCARRIA'!$D$6:$O$36,12,FALSE),"") -> 10 | H51: =(F51+G51)*2 -> 26 | X51: =H51+K51+N51+Q51+T51+W51 -> 26 | Y51: =IF(Z51>=3,"Sí","No") -> No | Z51: =COUNTA(H51,K51,N51,Q51,T51,W51) -> 1 | AB51: =IFERROR(VLOOKUP(C51,Tabla15[[Piloto]:[Puntos clase]],6, FALSE), " ") -> 2RM
B52: 3 | C52: JOSE MARIA GARCIA-VIÑO SANCHEZ | D52: =IFERROR(VLOOKUP(C52,Tabla15[[Piloto]:[Puntos clase]],7, FALSE), " ") -> 3 | E52: =LEFT(AB52,LEN(AB52)-2) -> 2 | F52: =IFERROR(VLOOKUP(C52,'01_RS ALCARRIA'!$D$6:$M$36,10,FALSE),"") -> 6 | G52: =IFERROR(VLOOKUP(C52,'01_RS ALCARRIA'!$D$6:$O$36,12,FALSE),"") -> 6 | H52: =(F52+G52)*2 -> 24 | X52: =H52+K52+N52+Q52+T52+W52 -> 24 | Y52: =IF(Z52>=3,"Sí","No") -> No | Z52: =COUNTA(H52,K52,N52,Q52,T52,W52) -> 1 | AB52: =IFERROR(VLOOKUP(C52,Tabla15[[Piloto]:[Puntos clase]],6, FALSE), " ") -> 2RM
B53: 4 | C53: CARLOS VELAZQUEZ RODRIGUEZ | D53: =IFERROR(VLOOKUP(C53,Tabla15[[Piloto]:[Puntos clase]],7, FALSE), " ") -> 3 | E53: =LEFT(AB53,LEN(AB53)-2) -> 2 | F53: =IFERROR(VLOOKUP(C53,'01_RS ALCARRIA'!$D$6:$M$36,10,FALSE),"") -> 5 | G53: =IFERROR(VLOOKUP(C53,'01_RS ALCARRIA'!$D$6:$O$36,12,FALSE),"") -> 5 | H53: =(F53+G53)*2 -> 20 | X53: =H53+K53+N53+Q53+T53+W53 -> 20 | Y53: =IF(Z53>=3,"Sí","No") -> No | Z53: =COUNTA(H53,K53,N53,Q53,T53,W53) -> 1 | AB53: =IFERROR(VLOOKUP(C53,Tabla15[[Piloto]:[Puntos clase]],6, FALSE), " ") -> 2RM
B54: 2 | C54: ALBERTO DORSCH BLANCO | D54: =IFERROR(VLOOKUP(C54,Tabla15[[Piloto]:[Puntos clase]],7, FALSE), " ") -> 4 | E54: =LEFT(AB54,LEN(AB54)-2) -> 2 | F54: =IFERROR(VLOOKUP(C54,'01_RS ALCARRIA'!$D$6:$M$36,10,FALSE),"") -> 2 | G54: =IFERROR(VLOOKUP(C54,'01_RS ALCARRIA'!$D$6:$O$36,12,FALSE),"") -> 8 | H54: =(F54+G54)*2 -> 20 | X54: =H54+K54+N54+Q54+T54+W54 -> 20 | Y54: =IF(Z54>=3,"Sí","No") -> No | Z54: =COUNTA(H54,K54,N54,Q54,T54,W54) -> 1 | AB54: =IFERROR(VLOOKUP(C54,Tabla15[[Piloto]:[Puntos clase]],6, FALSE), " ") -> 2RM
B55: 3 | C55: MARIANO ALONSO GENTILE | D55: 4 | E55: =LEFT(AB55,LEN(AB55)-2) -> 2 | F55: =IFERROR(VLOOKUP(C55,'01_RS ALCARRIA'!$D$6:$M$36,10,FALSE),"") -> 0 | G55: =IFERROR(VLOOKUP(C55,'01_RS ALCARRIA'!$D$6:$O$36,12,FALSE),"") -> 6 | H55: =(F55+G55)*2 -> 12 | X55: =H55+K55+N55+Q55+T55+W55 -> 12 | Y55: =IF(Z55>=3,"Sí","No") -> No | Z55: =COUNTA(H55,K55,N55,Q55,T55,W55) -> 1 | AB55: =IFERROR(VLOOKUP(C55,Tabla15[[Piloto]:[Puntos clase]],6, FALSE), " ") -> 2RM
B56: 4 | C56: IVAN AGUADO REOYO | D56: 4 | E56: 2 | F56: =IFERROR(VLOOKUP(C56,'01_RS ALCARRIA'!$D$6:$M$36,10,FALSE),"") -> 0 | G56: =IFERROR(VLOOKUP(C56,'01_RS ALCARRIA'!$D$6:$O$36,12,FALSE),"") -> 5 | H56: =(F56+G56)*2 -> 10 | X56: =H56+K56+N56+Q56+T56+W56 -> 10 | Y56: =IF(Z56>=3,"Sí","No") -> No | Z56: =COUNTA(H56,K56,N56,Q56,T56,W56) -> 1 | AB56: =IFERROR(VLOOKUP(C56,Tabla15[[Piloto]:[Puntos clase]],6, FALSE), " ") -> 2RM
B57: 5 | C57: FRANCISCO DEL POZO MARTINEZ | D57: =IFERROR(VLOOKUP(C57,Tabla15[[Piloto]:[Puntos clase]],7, FALSE), " ") -> 3 | E57: =LEFT(AB57,LEN(AB57)-2) -> 2 | F57: =IFERROR(VLOOKUP(C57,'01_RS ALCARRIA'!$D$6:$M$36,10,FALSE),"") -> 1 | G57: =IFERROR(VLOOKUP(C57,'01_RS ALCARRIA'!$D$6:$O$36,12,FALSE),"") -> 3 | H57: =(F57+G57)*2 -> 8 | X57: =H57+K57+N57+Q57+T57+W57 -> 8 | Y57: =IF(Z57>=3,"Sí","No") -> No | Z57: =COUNTA(H57,K57,N57,Q57,T57,W57) -> 1 | AB57: =IFERROR(VLOOKUP(C57,Tabla15[[Piloto]:[Puntos clase]],6, FALSE), " ") -> 2RM
B58: 6 | C58: JULIO MARTIN AGUDO | D58: =IFERROR(VLOOKUP(C58,Tabla15[[Piloto]:[Puntos clase]],7, FALSE), " ") -> 3 | E58: =LEFT(AB58,LEN(AB58)-2) -> 2 | F58: =IFERROR(VLOOKUP(C58,'01_RS ALCARRIA'!$D$6:$M$36,10,FALSE),"") -> 0 | G58: =IFERROR(VLOOKUP(C58,'01_RS ALCARRIA'!$D$6:$O$36,12,FALSE),"") -> 1 | H58: =(F58+G58)*2 -> 2 | X58: =H58+K58+N58+Q58+T58+W58 -> 2 | Y58: =IF(Z58>=3,"Sí","No") -> No | Z58: =COUNTA(H58,K58,N58,Q58,T58,W58) -> 1 | AB58: =IFERROR(VLOOKUP(C58,Tabla15[[Piloto]:[Puntos clase]],6, FALSE), " ") -> 2RM
B59: - | C59: JOSE MANUEL CERRATO NOGUEIRA | D59: 3 | E59: 2 | F59: =IFERROR(VLOOKUP(C59,'01_RS ALCARRIA'!$D$6:$M$36,10,FALSE),"") -> 0 | G59: =IFERROR(VLOOKUP(C59,'01_RS ALCARRIA'!$D$6:$O$36,12,FALSE),"") -> 0 | H59: =(F59+G59)*2 -> 0 | X59: =H59+K59+N59+Q59+T59+W59 -> 0 | Y59: =IF(Z59>=3,"Sí","No") -> No | Z59: =COUNTA(H59,K59,N59,Q59,T59,W59) -> 1 | AB59: =IFERROR(VLOOKUP(C59,Tabla15[[Piloto]:[Puntos clase]],6, FALSE), " ") -> 2RM
B60: - | C60: MARCOS JOSE DEL CID JIMENEZ | D60: =IFERROR(VLOOKUP(C60,Tabla15[[Piloto]:[Puntos clase]],7, FALSE), " ") -> 3 | E60: =LEFT(AB60,LEN(AB60)-2) -> 2 | F60: =IFERROR(VLOOKUP(C60,'01_RS ALCARRIA'!$D$6:$M$36,10,FALSE),"") -> 0 | G60: =IFERROR(VLOOKUP(C60,'01_RS ALCARRIA'!$D$6:$O$36,12,FALSE),"") -> 0 | H60: =(F60+G60)*2 -> 0 | X60: =H60+K60+N60+Q60+T60+W60 -> 0 | Y60: =IF(Z60>=3,"Sí","No") -> No | Z60: =COUNTA(H60,K60,N60,Q60,T60,W60) -> 1 | AB60: =IFERROR(VLOOKUP(C60,Tabla15[[Piloto]:[Puntos clase]],6, FALSE), " ") -> 2RM
B61: - | C61: PELI | D61: =IFERROR(VLOOKUP(C61,Tabla15[[Piloto]:[Puntos clase]],7, FALSE), " ") -> 3 | E61: =LEFT(AB61,LEN(AB61)-2) -> 2 | F61: =IFERROR(VLOOKUP(C61,'01_RS ALCARRIA'!$D$6:$M$36,10,FALSE),"") -> 0 | G61: =IFERROR(VLOOKUP(C61,'01_RS ALCARRIA'!$D$6:$O$36,12,FALSE),"") -> 0 | H61: =(F61+G61)*2 -> 0 | X61: =H61+K61+N61+Q61+T61+W61 -> 0 | Y61: =IF(Z61>=3,"Sí","No") -> No | Z61: =COUNTA(H61,K61,N61,Q61,T61,W61) -> 1 | AB61: =IFERROR(VLOOKUP(C61,Tabla15[[Piloto]:[Puntos clase]],6, FALSE), " ") -> 2RM
B62: - | C62: ALEJANDRO VIÑAMBRES ROMERO | D62: =IFERROR(VLOOKUP(C62,Tabla15[[Piloto]:[Puntos clase]],7, FALSE), " ") -> 3 | E62: =LEFT(AB62,LEN(AB62)-2) -> 2 | F62: =IFERROR(VLOOKUP(C62,'01_RS ALCARRIA'!$D$6:$M$36,10,FALSE),"") -> 0 | G62: =IFERROR(VLOOKUP(C62,'01_RS ALCARRIA'!$D$6:$O$36,12,FALSE),"") -> 0 | H62: =(F62+G62)*2 -> 0 | X62: =H62+K62+N62+Q62+T62+W62 -> 0 | Y62: =IF(Z62>=3,"Sí","No") -> No | Z62: =COUNTA(H62,K62,N62,Q62,T62,W62) -> 1 | AB62: =IFERROR(VLOOKUP(C62,Tabla15[[Piloto]:[Puntos clase]],6, FALSE), " ") -> 2RM
B63: - | C63: VICTOR GARRIDO GONZALEZ | D63: =IFERROR(VLOOKUP(C63,Tabla15[[Piloto]:[Puntos clase]],7, FALSE), " ") -> 3 | E63: =LEFT(AB63,LEN(AB63)-2) -> 2 | F63: =IFERROR(VLOOKUP(C63,'01_RS ALCARRIA'!$D$6:$M$36,10,FALSE),"") -> 0 | G63: =IFERROR(VLOOKUP(C63,'01_RS ALCARRIA'!$D$6:$O$36,12,FALSE),"") -> 0 | H63: =(F63+G63)*2 -> 0 | X63: =H63+K63+N63+Q63+T63+W63 -> 0 | Y63: =IF(Z63>=3,"Sí","No") -> No | Z63: =COUNTA(H63,K63,N63,Q63,T63,W63) -> 1 | AB63: =IFERROR(VLOOKUP(C63,Tabla15[[Piloto]:[Puntos clase]],6, FALSE), " ") -> 2RM
B64: - | C64: RUBEN VELAZQUEZ BERNARDO | D64: =IFERROR(VLOOKUP(C64,Tabla15[[Piloto]:[Puntos clase]],7, FALSE), " ") -> 5 | E64: =LEFT(AB64,LEN(AB64)-2) -> 4 | F64: 0 | G64: 0 | H64: =(F64+G64) -> 0 | X64: =H64+K64+N64+Q64+T64+W64 -> 0 | Y64: =IF(Z64>=3,"Sí","No") -> No | Z64: =COUNTA(H64,K64,N64,Q64,T64,W64) -> 1 | AB64: =IFERROR(VLOOKUP(C64,Tabla15[[Piloto]:[Puntos clase]],6, FALSE), " ") -> 4RM
B65: - | C65: MANUEL SORIANO DIAZ | D65: =IFERROR(VLOOKUP(C65,Tabla15[[Piloto]:[Puntos clase]],7, FALSE), " ") -> 2 | E65: =LEFT(AB65,LEN(AB65)-2) -> 2 | F65: 0 | G65: 0 | H65: =(F65+G65) -> 0 | X65: =H65+K65+N65+Q65+T65+W65 -> 0 | Y65: =IF(Z65>=3,"Sí","No") -> No | Z65: =COUNTA(H65,K65,N65,Q65,T65,W65) -> 1 | AB65: =IFERROR(VLOOKUP(C65,Tabla15[[Piloto]:[Puntos clase]],6, FALSE), " ") -> 2RM
B66: - | C66: ANTONIO PEDROSA GORDILLO | D66: =IFERROR(VLOOKUP(C66,Tabla15[[Piloto]:[Puntos clase]],7, FALSE), " ") -> 5 | E66: =LEFT(AB66,LEN(AB66)-2) -> 2 | F66: 0 | G66: 0 | H66: =(F66+G66) -> 0 | X66: =H66+K66+N66+Q66+T66+W66 -> 0 | Y66: =IF(Z66>=3,"Sí","No") -> No | Z66: =COUNTA(H66,K66,N66,Q66,T66,W66) -> 1 | AB66: =IFERROR(VLOOKUP(C66,Tabla15[[Piloto]:[Puntos clase]],6, FALSE), " ") -> 2RM
B67: - | C67: SERGIO VILLALBA TEJEDA | D67: 3 | E67: 2 | F67: 0 | G67: 0 | H67: =(F67+G67) -> 0 | X67: =H67+K67+N67+Q67+T67+W67 -> 0 | Y67: =IF(Z67>=3,"Sí","No") -> No | Z67: =COUNTA(H67,K67,N67,Q67,T67,W67) -> 1 | AB67: =IFERROR(VLOOKUP(C67,Tabla15[[Piloto]:[Puntos clase]],6, FALSE), " ") -> 2RM
B68: - | C68: IVAN ALONSO MARIN | D68: =IFERROR(VLOOKUP(C68,Tabla15[[Piloto]:[Puntos clase]],7, FALSE), " ") -> 5 | E68: 2 | F68: 0 | G68: 0 | H68: =(F68+G68) -> 0 | X68: =H68+K68+N68+Q68+T68+W68 -> 0 | Y68: =IF(Z68>=3,"Sí","No") -> No | Z68: =COUNTA(H68,K68,N68,Q68,T68,W68) -> 1 | AB68: =IFERROR(VLOOKUP(C68,Tabla15[[Piloto]:[Puntos clase]],6, FALSE), " ") -> 2RM
B69: - | C69: BELTRAN MARTINEZ REGUERA | D69: =IFERROR(VLOOKUP(C69,Tabla15[[Piloto]:[Puntos clase]],7, FALSE), " ") -> 4 | E69: 2 | F69: 0 | G69: 0 | H69: =(F69+G69) -> 0 | X69: =H69+K69+N69+Q69+T69+W69 -> 0 | Y69: =IF(Z69>=3,"Sí","No") -> No | Z69: =COUNTA(H69,K69,N69,Q69,T69,W69) -> 1 | AB69: =IFERROR(VLOOKUP(C69,Tabla15[[Piloto]:[Puntos clase]],6, FALSE), " ") -> 2RM
C71: Líder de Clase | D71: P
C73: Líder 2 RM | D73: 2
E75: Se reparten el 50 % de los puntos de clase (Art. 12.2.1 del RD CMT 2026)
C77: Piloto no madrileño que puntúa (art. 11.2.3. PCCCTM) | D77: NOMBRE (-)
B79: CAMPEONATO MADRILEÑO DE TIERRA 2026
B80: CLASIFICACIÓN PROVISIONAL GENERAL DE COPILOTOS
F81: RS ALCARRIA | I81: TCT GUADAMUR | L81: TCT MAQUEDA | O81: RALLYE CAM | R81: RS NAVALCARNERO | U81: TCT NUEVO BAZTÁN
B82: Pos | C82: COPILOTO | D82: Clase | E82: RM | F82: 14 FEBRERO | I82: 9 MAYO | L82: 12 SEPTIEMBRE | O82: 10 OCTUBRE | R82: 7 NOVIEMBRE | U82: 28 NOVIEMBRE | X82: TOTAL | Y82: ¿CLASIFICA? | Z82: PARTICIPACIÓN
F83: sct | G83: cl | H83: total | I83: sct | J83: cl | K83: total | L83: sct | M83: cl | N83: total | O83: sct | P83: cl | Q83: total | R83: sct | S83: cl | T83: total | U83: sct | V83: cl | W83: total
B84: 1 | C84: ALVARO CRISTOBAL ESCALERO | D84: 2 | E84: =LEFT(AB84,LEN(AB84)-2) -> 2 | F84: =IFERROR(VLOOKUP(C84,'01_RS ALCARRIA'!$F$6:$R$36,13,FALSE),"") -> 25 | G84: =IFERROR(VLOOKUP(C84,'01_RS ALCARRIA'!$F$6:$T$36,15,FALSE),"") -> 10 | H84: =(F84+G84)*2 -> 70 | X84: =H84+K84+N84+Q84+T84+W84 -> 70 | Y84: =IF(Z84>=3,"Sí","No") -> No | Z84: =COUNTA(H84,K84,N84,Q84,T84,W84) -> 1 | AB84: =IFERROR(VLOOKUP(C84,Tabla15[[Piloto2]:[Puntos clase5]],4, FALSE), " ") -> 2RM
B85: 2 | C85: MARTIN LUMBRERAS MANRIQUE | D85: 2 | E85: =LEFT(AB85,LEN(AB85)-2) -> 2 | F85: =IFERROR(VLOOKUP(C85,'01_RS ALCARRIA'!$F$6:$R$36,13,FALSE),"") -> 20 | G85: =IFERROR(VLOOKUP(C85,'01_RS ALCARRIA'!$F$6:$T$36,15,FALSE),"") -> 8 | H85: =(F85+G85)*2 -> 56 | X85: =H85+K85+N85+Q85+T85+W85 -> 56 | Y85: =IF(Z85>=3,"Sí","No") -> No | Z85: =COUNTA(H85,K85,N85,Q85,T85,W85) -> 1 | AB85: =IFERROR(VLOOKUP(C85,Tabla15[[Piloto2]:[Puntos clase5]],4, FALSE), " ") -> 2RM
B86: 3 | C86: JOAQUIN LOPEZ-MANCEBO DE PACO | D86: 3 | E86: =LEFT(AB86,LEN(AB86)-2) -> 2 | F86: =IFERROR(VLOOKUP(C86,'01_RS ALCARRIA'!$F$6:$R$36,13,FALSE),"") -> 15 | G86: =IFERROR(VLOOKUP(C86,'01_RS ALCARRIA'!$F$6:$T$36,15,FALSE),"") -> 10 | H86: =(F86+G86)*2 -> 50 | X86: =H86+K86+N86+Q86+T86+W86 -> 50 | Y86: =IF(Z86>=3,"Sí","No") -> No | Z86: =COUNTA(H86,K86,N86,Q86,T86,W86) -> 1 | AB86: =IFERROR(VLOOKUP(C86,Tabla15[[Piloto2]:[Puntos clase5]],4, FALSE), " ") -> 2RM
B87: 4 | C87: MARCOS MARTINEZ GONZALEZ | D87: 1 | E87: =LEFT(AB87,LEN(AB87)-2) -> 4 | F87: =IFERROR(VLOOKUP(C87,'01_RS ALCARRIA'!$F$6:$R$36,13,FALSE),"") -> 17 | G87: =IFERROR(VLOOKUP(C87,'01_RS ALCARRIA'!$F$6:$T$36,15,FALSE),"")/2 -> 5 | H87: =(F87+G87)*2 -> 44 | X87: =H87+K87+N87+Q87+T87+W87 -> 44 | Y87: =IF(Z87>=3,"Sí","No") -> No | Z87: =COUNTA(H87,K87,N87,Q87,T87,W87) -> 1 | AB87: =IFERROR(VLOOKUP(C87,Tabla15[[Piloto2]:[Puntos clase5]],4, FALSE), " ") -> 4RM
B88: 5 | C88: CARLOS CANCELA SANZ | D88: 3 | E88: =LEFT(AB88,LEN(AB88)-2) -> 2 | F88: =IFERROR(VLOOKUP(C88,'01_RS ALCARRIA'!$F$6:$R$36,13,FALSE),"") -> 12 | G88: =IFERROR(VLOOKUP(C88,'01_RS ALCARRIA'!$F$6:$T$36,15,FALSE),"") -> 8 | H88: =(F88+G88)*2 -> 40 | X88: =H88+K88+N88+Q88+T88+W88 -> 40 | Y88: =IF(Z88>=3,"Sí","No") -> No | Z88: =COUNTA(H88,K88,N88,Q88,T88,W88) -> 1 | AB88: =IFERROR(VLOOKUP(C88,Tabla15[[Piloto2]:[Puntos clase5]],4, FALSE), " ") -> 2RM
B89: 6 | C89: AITOR AIRADO RODRIGUEZ | D89: 3 | E89: =LEFT(AB89,LEN(AB89)-2) -> 2 | F89: =IFERROR(VLOOKUP(C89,'01_RS ALCARRIA'!$F$6:$R$36,13,FALSE),"") -> 10 | G89: =IFERROR(VLOOKUP(C89,'01_RS ALCARRIA'!$F$6:$T$36,15,FALSE),"") -> 6 | H89: =(F89+G89)*2 -> 32 | X89: =H89+K89+N89+Q89+T89+W89 -> 32 | Y89: =IF(Z89>=3,"Sí","No") -> No | Z89: =COUNTA(H89,K89,N89,Q89,T89,W89) -> 1 | AB89: =IFERROR(VLOOKUP(C89,Tabla15[[Piloto2]:[Puntos clase5]],4, FALSE), " ") -> 2RM
B90: 6 | C90: RAUL FUENTES LOPEZ | D90: 5 | E90: =LEFT(AB90,LEN(AB90)-2) -> 2 | F90: =IFERROR(VLOOKUP(C90,'01_RS ALCARRIA'!$F$6:$R$36,13,FALSE),"") -> 6 | G90: =IFERROR(VLOOKUP(C90,'01_RS ALCARRIA'!$F$6:$T$36,15,FALSE),"") -> 10 | H90: =(F90+G90)*2 -> 32 | X90: =H90+K90+N90+Q90+T90+W90 -> 32 | Y90: =IF(Z90>=3,"Sí","No") -> No | Z90: =COUNTA(H90,K90,N90,Q90,T90,W90) -> 1 | AB90: =IFERROR(VLOOKUP(C90,Tabla15[[Piloto2]:[Puntos clase5]],4, FALSE), " ") -> 2RM
B91: 8 | C91: MARIA GOMEZ MARTINEZ | D91: 3 | E91: =LEFT(AB91,LEN(AB91)-2) -> 2 | F91: =IFERROR(VLOOKUP(C91,'01_RS ALCARRIA'!$F$6:$R$36,13,FALSE),"") -> 8 | G91: =IFERROR(VLOOKUP(C91,'01_RS ALCARRIA'!$F$6:$T$36,15,FALSE),"") -> 5 | H91: =(F91+G91)*2 -> 26 | X91: =H91+K91+N91+Q91+T91+W91 -> 26 | Y91: =IF(Z91>=3,"Sí","No") -> No | Z91: =COUNTA(H91,K91,N91,Q91,T91,W91) -> 1 | AB91: =IFERROR(VLOOKUP(C91,Tabla15[[Piloto2]:[Puntos clase5]],4, FALSE), " ") -> 2RM
B92: 9 | C92: JAIME TORO DURAN | D92: 3 | E92: =LEFT(AB92,LEN(AB92)-2) -> 2 | F92: =IFERROR(VLOOKUP(C92,'01_RS ALCARRIA'!$F$6:$R$36,13,FALSE),"") -> 5 | G92: =IFERROR(VLOOKUP(C92,'01_RS ALCARRIA'!$F$6:$T$36,15,FALSE),"") -> 3 | H92: =(F92+G92)*2 -> 16 | X92: =H92+K92+N92+Q92+T92+W92 -> 16 | Y92: =IF(Z92>=3,"Sí","No") -> No | Z92: =COUNTA(H92,K92,N92,Q92,T92,W92) -> 1 | AB92: =IFERROR(VLOOKUP(C92,Tabla15[[Piloto2]:[Puntos clase5]],4, FALSE), " ") -> 2RM
B93: 10 | C93: DAVID DE LA OSA SANJUAN | D93: 3 | E93: =LEFT(AB93,LEN(AB93)-2) -> 2 | F93: =IFERROR(VLOOKUP(C93,'01_RS ALCARRIA'!$F$6:$R$36,13,FALSE),"") -> 4 | G93: =IFERROR(VLOOKUP(C93,'01_RS ALCARRIA'!$F$6:$T$36,15,FALSE),"") -> 1 | H93: =(F93+G93)*2 -> 10 | X93: =H93+K93+N93+Q93+T93+W93 -> 10 | Y93: =IF(Z93>=3,"Sí","No") -> No | Z93: =COUNTA(H93,K93,N93,Q93,T93,W93) -> 1 | AB93: =IFERROR(VLOOKUP(C93,Tabla15[[Piloto2]:[Puntos clase5]],4, FALSE), " ") -> 2RM
B94: 10 | C94: JESSICA TRUCO MARCOS | D94: 4 | E94: =LEFT(AB94,LEN(AB94)-2) -> 2 | F94: =IFERROR(VLOOKUP(C94,'01_RS ALCARRIA'!$F$6:$R$36,13,FALSE),"") -> 0 | G94: =IFERROR(VLOOKUP(C94,'01_RS ALCARRIA'!$F$6:$T$36,15,FALSE),"")/2 -> 5 | H94: =(F94+G94)*2 -> 10 | X94: =H94+K94+N94+Q94+T94+W94 -> 10 | Y94: =IF(Z94>=3,"Sí","No") -> No | Z94: =COUNTA(H94,K94,N94,Q94,T94,W94) -> 1 | AB94: =IFERROR(VLOOKUP(C94,Tabla15[[Piloto2]:[Puntos clase5]],4, FALSE), " ") -> 2RM | AC94: PARTICIPACIÓN POR CLASES TURISMOS
B95: 12 | C95: CARLOS SANTOS ROBLES | D95: 3 | E95: =LEFT(AB95,LEN(AB95)-2) -> 2 | F95: =IFERROR(VLOOKUP(C95,'01_RS ALCARRIA'!$F$6:$R$36,13,FALSE),"") -> 3 | G95: =IFERROR(VLOOKUP(C95,'01_RS ALCARRIA'!$F$6:$T$36,15,FALSE),"") -> 0 | H95: =(F95+G95)*2 -> 6 | X95: =H95+K95+N95+Q95+T95+W95 -> 6 | Y95: =IF(Z95>=3,"Sí","No") -> No | Z95: =COUNTA(H95,K95,N95,Q95,T95,W95) -> 1 | AB95: =IFERROR(VLOOKUP(C95,Tabla15[[Piloto2]:[Puntos clase5]],4, FALSE), " ") -> 2RM | AC95: CLASES | AD95: 1 | AE95: 2 | AF95: 3 | AG95: 4 | AH95: 5 | AI95: TOTAL
B96: 13 | C96: CARLOS ALBERTO GOMEZ PEINADO | D96: 3 | E96: =LEFT(AB96,LEN(AB96)-2) -> 2 | F96: =IFERROR(VLOOKUP(C96,'01_RS ALCARRIA'!$F$6:$R$36,13,FALSE),"") -> 2 | G96: =IFERROR(VLOOKUP(C96,'01_RS ALCARRIA'!$F$6:$T$36,15,FALSE),"") -> 0 | H96: =(F96+G96)*2 -> 4 | X96: =H96+K96+N96+Q96+T96+W96 -> 4 | Y96: =IF(Z96>=3,"Sí","No") -> No | Z96: =COUNTA(H96,K96,N96,Q96,T96,W96) -> 1 | AB96: =IFERROR(VLOOKUP(C96,Tabla15[[Piloto2]:[Puntos clase5]],4, FALSE), " ") -> 2RM | AC96: =COUNTA(C6:C25) -> 20 | AD96: =COUNTIF($D$6:$D$25,AD95) -> 2 | AE96: =COUNTIF($D$6:$D$25,AE95) -> 3 | AF96: =COUNTIF($D$6:$D$25,AF95) -> 10 | AG96: =COUNTIF($D$6:$D$25,AG95) -> 4 | AH96: =COUNTIF($D$6:$D$25,AH95) -> 1 | AI96: =SUM(AD96:AH96) -> 20
B97: 14 | C97: JOSE ANGEL MARTIN GARCIA | D97: 3 | E97: =LEFT(AB97,LEN(AB97)-2) -> 2 | F97: =IFERROR(VLOOKUP(C97,'01_RS ALCARRIA'!$F$6:$R$36,13,FALSE),"") -> 1 | G97: =IFERROR(VLOOKUP(C97,'01_RS ALCARRIA'!$F$6:$T$36,15,FALSE),"") -> 0 | H97: =(F97+G97)*2 -> 2 | X97: =H97+K97+N97+Q97+T97+W97 -> 2 | Y97: =IF(Z97>=3,"Sí","No") -> No | Z97: =COUNTA(H97,K97,N97,Q97,T97,W97) -> 1 | AB97: =IFERROR(VLOOKUP(C97,Tabla15[[Piloto2]:[Puntos clase5]],4, FALSE), " ") -> 2RM
B98: - | C98: GEMA GARRIDO GONZALEZ | D98: 3 | E98: =LEFT(AB98,LEN(AB98)-2) -> 2 | F98: =IFERROR(VLOOKUP(C98,'01_RS ALCARRIA'!$F$6:$R$36,13,FALSE),"") -> 0 | G98: =IFERROR(VLOOKUP(C98,'01_RS ALCARRIA'!$F$6:$T$36,15,FALSE),"") -> 0 | H98: =(F98+G98)*2 -> 0 | X98: =H98+K98+N98+Q98+T98+W98 -> 0 | Y98: =IF(Z98>=3,"Sí","No") -> No | Z98: =COUNTA(H98,K98,N98,Q98,T98,W98) -> 1 | AB98: =IFERROR(VLOOKUP(C98,Tabla15[[Piloto2]:[Puntos clase5]],4, FALSE), " ") -> 2RM
B99: - | C99: PABLO PASTOR VELAZQUEZ | D99: 5 | E99: =LEFT(AB99,LEN(AB99)-2) -> 4 | F99: 0 | G99: 0 | H99: =(F99+G99) -> 0 | X99: =H99+K99+N99+Q99+T99+W99 -> 0 | Y99: =IF(Z99>=3,"Sí","No") -> No | Z99: =COUNTA(H99,K99,N99,Q99,T99,W99) -> 1 | AB99: =IFERROR(VLOOKUP(C99,Tabla15[[Piloto2]:[Puntos clase5]],4, FALSE), " ") -> 4RM
B100: - | C100: ADRIAN SORIANO ARAGON | D100: 2 | E100: =LEFT(AB100,LEN(AB100)-2) -> 2 | F100: 0 | G100: 0 | H100: =(F100+G100) -> 0 | X100: =H100+K100+N100+Q100+T100+W100 -> 0 | Y100: =IF(Z100>=3,"Sí","No") -> No | Z100: =COUNTA(H100,K100,N100,Q100,T100,W100) -> 1 | AB100: =IFERROR(VLOOKUP(C100,Tabla15[[Piloto2]:[Puntos clase5]],4, FALSE), " ") -> 2RM | AC100: PARTICIPANTES | AD100: 1 | AE100: 2 | AF100: 3 | AG100: 4 | AH100: 5 | AM100: TOTAL
B101: - | C101: ANDRES AGUADO ALVAREZ | D101: 5 | E101: =LEFT(AB101,LEN(AB101)-2) -> 2 | F101: 0 | G101: 0 | H101: =(F101+G101) -> 0 | X101: =H101+K101+N101+Q101+T101+W101 -> 0 | Y101: =IF(Z101>=3,"Sí","No") -> No | Z101: =COUNTA(H101,K101,N101,Q101,T101,W101) -> 1 | AB101: =IFERROR(VLOOKUP(C101,Tabla15[[Piloto2]:[Puntos clase5]],4, FALSE), " ") -> 2RM | AC101: =COUNTA(C6:C25)+COUNTA(Z180:Z181)+COUNTA(Z201:Z202)+COUNTA(Z229:Z230) -> 26 | AD101: =COUNTIF($Z$6:$Z$25,AD100)+COUNTIF($Z$180:$Z$181,AD100)+COUNTIF($Z$201:$Z$202,AD100)+COUNTIF($Z$229:$Z$230,AD100) -> 26 | AE101: =COUNTIF($Z$6:$Z$25,AE100)+COUNTIF($Z$180:$Z$181,AE100)+COUNTIF($Z$201:$Z$202,AE100)+COUNTIF($Z$229:$Z$230,AE100) -> 0 | AF101: =COUNTIF($Z$6:$Z$25,AF100)+COUNTIF($Z$180:$Z$181,AF100)+COUNTIF($Z$201:$Z$202,AF100)+COUNTIF($Z$229:$Z$230,AF100) -> 0 | AG101: =COUNTIF($Z$6:$Z$25,AG100)+COUNTIF($Z$180:$Z$181,AG100)+COUNTIF($Z$201:$Z$202,AG100)+COUNTIF($Z$229:$Z$230,AG100) -> 0 | AH101: =COUNTIF($Z$6:$Z$25,AH100)+COUNTIF($Z$180:$Z$181,AH100)+COUNTIF($Z$201:$Z$202,AH100)+COUNTIF($Z$229:$Z$230,AH100) -> 0 | AM101: =SUM(AD101:AJ101) -> 26
B102: - | C102: JOSE ALBERTO VILLALBA PEREZ | D102: 3 | E102: 2 | F102: 0 | G102: 0 | H102: =(F102+G102) -> 0 | X102: =H102+K102+N102+Q102+T102+W102 -> 0 | Y102: =IF(Z102>=3,"Sí","No") -> No | Z102: =COUNTA(H102,K102,N102,Q102,T102,W102) -> 1 | AB102: =IFERROR(VLOOKUP(C102,Tabla15[[Piloto2]:[Puntos clase5]],4, FALSE), " ") -> 2RM | AJ102: PROMEDIO | AM102: =#REF!/AM101 -> #REF!
B103: - | C103: CARLOS VALENTIN SANCHEZ LLAGOSTERA | D103: 5 | E103: =LEFT(AB103,LEN(AB103)-2) -> 2 | F103: 0 | G103: 0 | H103: =(F103+G103) -> 0 | X103: =H103+K103+N103+Q103+T103+W103 -> 0 | Y103: =IF(Z103>=3,"Sí","No") -> No | Z103: =COUNTA(H103,K103,N103,Q103,T103,W103) -> 1 | AB103: =IFERROR(VLOOKUP(C103,Tabla15[[Piloto2]:[Puntos clase5]],4, FALSE), " ") -> 2RM
B104: - | C104: NURIA AGUADO ALVAREZ | D104: 4 | E104: =LEFT(AB104,LEN(AB104)-2) -> 2 | F104: 0 | G104: 0 | H104: =(F104+G104) -> 0 | X104: =H104+K104+N104+Q104+T104+W104 -> 0 | Y104: =IF(Z104>=3,"Sí","No") -> No | Z104: =COUNTA(H104,K104,N104,Q104,T104,W104) -> 1 | AB104: =IFERROR(VLOOKUP(C104,Tabla15[[Piloto2]:[Puntos clase5]],4, FALSE), " ") -> 2RM
E107: Se reparten el 50 % de los puntos de clase (Art. 12.2.1 del RD CMT 2026)
AC108: =AC101+#REF! -> #REF! | AD108: =AD101+#REF! -> #REF! | AE108: =AE101+#REF! -> #REF! | AF108: =AF101+#REF! -> #REF! | AG108: =AG101+#REF! -> #REF! | AH108: =AH101+#REF! -> #REF! | AM108: =SUM(AD108:AJ108) -> #REF!
C109: Copiloto no madrileño que puntúa (art. 11.2.3. PCCCTM) | D109: NOMBRE (-)
B111: CAMPEONATO MADRILEÑO DE TIERRA 2026
...

Sheet CLASIFICACIÓN
B1: CAMPEONATO MADRILEÑO DE TIERRA 2026 | Y1: Ojo con Arts. 8.6 (Super-Rallye no puntúa ni bloquea), 9.4 (Todos madrileños puntúan y bloquean salvo que no hayan participado (autorizados) en el primer 50%), 9.5 (No madrileños puntúan solo si lo han pedido con art. 11.2.3 PCCCTCM), 12.2.1 (50% de puntos si nº de inscritos, autorizados y con derecho a puntuar y bloquear son 2 o menos) del RD CMT 2026. De las PCCCTCM importa el 11.3.1 (Clasifican si han sido autorizados a tomar salida en 3 pruebas como mínimo del CMA 2026 - 50%) y el 12.1 (Empates)
B2: CLASIFICACIÓN PROVISIONAL GENERAL DE PILOTOS | Y2: SE DESCARTA 1 PRUEBA SI HAY 6 O 7 EN TOTAL POR ART. 13.2 RD CMT 2026 (Si se ha participado/se está autorizado a participar en todas). DSQ no es descartable. En Copa Centro se descarta 1 (Menos DSQ y Todas con mismo coeficiente) y CKM se contabilizan todas y con 50% de puntos si se toma Super-Rallye.
F3: RS ALCARRIA | I3: TCT GUADAMUR | L3: TCT MAQUEDA | O3: RALLYE CAM | R3: RS NAVALCARNERO | U3: TCT NUEVO BAZTÁN
B4: Pos | C4: PILOTO | D4: Clase | E4: RM | F4: 14 FEBRERO | I4: 9 MAYO | L4: 12 SEPTIEMBRE | O4: 10 OCTUBRE | R4: 7 NOVIEMBRE | U4: 28 NOVIEMBRE | X4: TOTAL | Y4: ¿CLASIFICA? | Z4: PARTICIPACIÓN
F5: sct | G5: cl | H5: total | I5: sct | J5: cl | K5: total | L5: sct | M5: cl | N5: total | O5: sct | P5: cl | Q5: total | R5: sct | S5: cl | T5: total | U5: sct | V5: cl | W5: total
B6: 1 | C6: MANUEL GOMEZ-MANZANILLA JAVEGA | D6: =IFERROR(VLOOKUP(C6,Tabla15[[Piloto]:[Puntos clase]],7, FALSE), " ") -> 2 | E6: =LEFT(AB6,LEN(AB6)-2) -> 2 | F6: =IFERROR(VLOOKUP(C6,'01_RS ALCARRIA'!$D$6:$M$36,10,FALSE),"") -> 25 | G6: =IFERROR(VLOOKUP(C6,'01_RS ALCARRIA'!$D$6:$O$36,12,FALSE),"") -> 10 | H6: =(F6+G6)*2 -> 70 | I6: =IFERROR(VLOOKUP(C6,'02_TCT GUADAMUR'!$D$6:$M$36,10,FALSE),"") -> 17 | J6: =IFERROR(VLOOKUP(C6,'02_TCT GUADAMUR'!$D$6:$O$36,12,FALSE),"") -> 6 | K6: =(I6+J6) -> 23 | L6: =IFERROR(VLOOKUP(C6,'03_TCT MAQUEDA'!$D$6:$M$36,10,FALSE),"") -> 17 | M6: =IFERROR(VLOOKUP(C6,'03_TCT MAQUEDA'!$D$6:$O$36,12,FALSE),"") -> 10 | N6: =(L6+M6) -> 27 | O6: =IFERROR(VLOOKUP(C6,'04_RALLYE CAM'!$D$6:$M$36,10,FALSE),"") | P6: =IFERROR(VLOOKUP(C6,'04_RALLYE CAM'!$D$6:$O$36,12,FALSE),"") | Q6: =(O6+P6)*3 -> #VALUE! | R6: =IFERROR(VLOOKUP(C6,'05_RS NAVALCARNERO'!$D$6:$M$28,10,FALSE),"") | S6: =IFERROR(VLOOKUP(C6,'05_RS NAVALCARNERO'!$D$6:$O$28,12,FALSE),"") | T6: =(R6+S6)*2 -> #VALUE! | U6: =IFERROR(VLOOKUP(C6,'06_TCT NUEVO BAZTÁN'!$D$6:$M$28,10,FALSE),"") | V6: =IFERROR(VLOOKUP(C6,'06_TCT NUEVO BAZTÁN'!$D$6:$O$28,12,FALSE),"") | W6: =(U6+V6) -> #VALUE! | X6: =H6+K6+N6+Q6+T6+W6 -> #VALUE! | Y6: =IF(Z6>=3,"Sí","No") -> Sí | Z6: =COUNTA(H6,K6,N6,Q6,T6,W6) -> 6 | AB6: =IFERROR(VLOOKUP(C6,Tabla15[[Piloto]:[Puntos clase]],6, FALSE), " ") -> 2RM
B7: 2 | C7: MANUEL GOMEZ-MANZANILLA ARRABAL | D7: =IFERROR(VLOOKUP(C7,Tabla15[[Piloto]:[Puntos clase]],7, FALSE), " ") -> 2 | E7: =LEFT(AB7,LEN(AB7)-2) -> 2 | F7: =IFERROR(VLOOKUP(C7,'01_RS ALCARRIA'!$D$6:$M$36,10,FALSE),"") -> 20 | G7: =IFERROR(VLOOKUP(C7,'01_RS ALCARRIA'!$D$6:$O$36,12,FALSE),"") -> 8 | H7: =(F7+G7)*2 -> 56 | I7: =IFERROR(VLOOKUP(C7,'02_TCT GUADAMUR'!$D$6:$M$36,10,FALSE),"") -> 25 | J7: =IFERROR(VLOOKUP(C7,'02_TCT GUADAMUR'!$D$6:$O$36,12,FALSE),"") -> 10 | K7: =(I7+J7) -> 35 | L7: =IFERROR(VLOOKUP(C7,'03_TCT MAQUEDA'!$D$6:$M$36,10,FALSE),"") -> 15 | M7: =IFERROR(VLOOKUP(C7,'03_TCT MAQUEDA'!$D$6:$O$36,12,FALSE),"") -> 8 | N7: =(L7+M7) -> 23 | O7: =IFERROR(VLOOKUP(C7,'04_RALLYE CAM'!$D$6:$M$36,10,FALSE),"") | P7: =IFERROR(VLOOKUP(C7,'04_RALLYE CAM'!$D$6:$O$36,12,FALSE),"") | Q7: =(O7+P7)*3 -> #VALUE! | R7: =IFERROR(VLOOKUP(C7,'05_RS NAVALCARNERO'!$D$6:$M$28,10,FALSE),"") | S7: =IFERROR(VLOOKUP(C7,'05_RS NAVALCARNERO'!$D$6:$O$28,12,FALSE),"") | T7: =(R7+S7)*2 -> #VALUE! | U7: =IFERROR(VLOOKUP(C7,'06_TCT NUEVO BAZTÁN'!$D$6:$M$28,10,FALSE),"") | V7: =IFERROR(VLOOKUP(C7,'06_TCT NUEVO BAZTÁN'!$D$6:$O$28,12,FALSE),"") | W7: =(U7+V7) -> #VALUE! | X7: =H7+K7+N7+Q7+T7+W7 -> #VALUE! | Y7: =IF(Z7>=3,"Sí","No") -> Sí | Z7: =COUNTA(H7,K7,N7,Q7,T7,W7) -> 6 | AB7: =IFERROR(VLOOKUP(C7,Tabla15[[Piloto]:[Puntos clase]],6, FALSE), " ") -> 2RM
B8: 3 | C8: DIEGO CRUZ MARTINEZ (-) | D8: =IFERROR(VLOOKUP(C8,Tabla15[[Piloto]:[Puntos clase]],7, FALSE), " ") -> 1 | E8: =LEFT(AB8,LEN(AB8)-2) -> 4 | F8: =IFERROR(VLOOKUP(C8,'01_RS ALCARRIA'!$D$6:$M$36,10,FALSE),"") -> 17 | G8: =IFERROR(VLOOKUP(C8,'01_RS ALCARRIA'!$D$6:$O$36,12,FALSE),"")/2 -> 5 | H8: =(F8+G8)*2 -> 44 | I8: =IFERROR(VLOOKUP(C8,'02_TCT GUADAMUR'!$D$6:$M$36,10,FALSE),"") | J8: =IFERROR(VLOOKUP(C8,'02_TCT GUADAMUR'!$D$6:$O$36,12,FALSE),"") | K8: =(I8+J8) -> #VALUE! | L8: =IFERROR(VLOOKUP(C8,'03_TCT MAQUEDA'!$D$6:$M$36,10,FALSE),"") | M8: =IFERROR(VLOOKUP(C8,'03_TCT MAQUEDA'!$D$6:$O$36,12,FALSE),"") | N8: =(L8+M8) -> #VALUE! | O8: 0 | P8: 0 | Q8: =(O8+P8)*3 -> 0 | R8: =IFERROR(VLOOKUP(C8,'05_RS NAVALCARNERO'!$D$6:$M$28,10,FALSE),"") | S8: =IFERROR(VLOOKUP(C8,'05_RS NAVALCARNERO'!$D$6:$O$28,12,FALSE),"") | T8: =(R8+S8)*2 -> #VALUE! | U8: =IFERROR(VLOOKUP(C8,'06_TCT NUEVO BAZTÁN'!$D$6:$M$28,10,FALSE),"") | V8: =IFERROR(VLOOKUP(C8,'06_TCT NUEVO BAZTÁN'!$D$6:$O$28,12,FALSE),"") | W8: =(U8+V8) -> #VALUE! | X8: =H8+K8+N8+Q8+T8+W8 -> #VALUE! | Y8: =IF(Z8>=3,"Sí","No") -> Sí | Z8: =COUNTA(H8,K8,N8,Q8,T8,W8) -> 6 | AB8: =IFERROR(VLOOKUP(C8,Tabla15[[Piloto]:[Puntos clase]],6, FALSE), " ") -> 4RM
B9: 4 | C9: RUBEN GONZALEZ PEREZ | D9: 2 | E9: 2 | F9: =IFERROR(VLOOKUP(C9,'01_RS ALCARRIA'!$D$6:$M$36,10,FALSE),"") -> 15 | G9: =IFERROR(VLOOKUP(C9,'01_RS ALCARRIA'!$D$6:$O$36,12,FALSE),"") -> 6 | H9: =(F9+G9)*2 -> 42 | I9: =IFERROR(VLOOKUP(C9,'02_TCT GUADAMUR'!$D$6:$M$36,10,FALSE),"") | J9: =IFERROR(VLOOKUP(C9,'02_TCT GUADAMUR'!$D$6:$O$36,12,FALSE),"") | K9: =(I9+J9) -> #VALUE! | L9: =IFERROR(VLOOKUP(C9,'03_TCT MAQUEDA'!$D$6:$M$36,10,FALSE),"") | M9: =IFERROR(VLOOKUP(C9,'03_TCT MAQUEDA'!$D$6:$O$36,12,FALSE),"") | N9: =(L9+M9) -> #VALUE! | O9: =IFERROR(VLOOKUP(C9,'04_RALLYE CAM'!$D$6:$M$36,10,FALSE),"") | P9: =IFERROR(VLOOKUP(C9,'04_RALLYE CAM'!$D$6:$O$36,12,FALSE),"") | Q9: =(O9+P9)*3 -> #VALUE! | R9: =IFERROR(VLOOKUP(C9,'05_RS NAVALCARNERO'!$D$6:$M$28,10,FALSE),"") | S9: =IFERROR(VLOOKUP(C9,'05_RS NAVALCARNERO'!$D$6:$O$28,12,FALSE),"") | T9: =(R9+S9)*2 -> #VALUE! | U9: =IFERROR(VLOOKUP(C9,'06_TCT NUEVO BAZTÁN'!$D$6:$M$28,10,FALSE),"") | V9: =IFERROR(VLOOKUP(C9,'06_TCT NUEVO BAZTÁN'!$D$6:$O$28,12,FALSE),"") | W9: =(U9+V9) -> #VALUE! | X9: =H9+K9+N9+Q9+T9+W9 -> #VALUE! | Y9: =IF(Z9>=3,"Sí","No") -> Sí | Z9: =COUNTA(H9,K9,N9,Q9,T9,W9) -> 6 | AB9: =IFERROR(VLOOKUP(C9,Tabla15[[Piloto]:[Puntos clase]],6, FALSE), " ") -> 2RM
B10: 5 | C10: JAVIER ENCINAS ALARZA | D10: =IFERROR(VLOOKUP(C10,Tabla15[[Piloto]:[Puntos clase]],7, FALSE), " ") -> 1 | E10: =LEFT(AB10,LEN(AB10)-2) -> 4 | F10: =IFERROR(VLOOKUP(C10,'01_RS ALCARRIA'!$D$6:$M$36,10,FALSE),"") -> 12 | G10: =IFERROR(VLOOKUP(C10,'01_RS ALCARRIA'!$D$6:$O$36,12,FALSE),"")/2 -> 4 | H10: =(F10+G10)*2 -> 32 | I10: =IFERROR(VLOOKUP(C10,'02_TCT GUADAMUR'!$D$6:$M$36,10,FALSE),"") -> 15 | J10: =IFERROR(VLOOKUP(C10,'02_TCT GUADAMUR'!$D$6:$O$36,12,FALSE),"") -> 10 | K10: =(I10+J10) -> 25 | L10: 0 | M10: 0 | N10: =(L10+M10) -> 0 | O10: =IFERROR(VLOOKUP(C10,'04_RALLYE CAM'!$D$6:$M$36,10,FALSE),"") -> 6 | P10: =IFERROR(VLOOKUP(C10,'04_RALLYE CAM'!$D$6:$O$36,12,FALSE),"") -> 3 | Q10: =(O10+P10)*3 -> 27 | R10: =IFERROR(VLOOKUP(C10,'05_RS NAVALCARNERO'!$D$6:$M$28,10,FALSE),"") | S10: =IFERROR(VLOOKUP(C10,'05_RS NAVALCARNERO'!$D$6:$O$28,12,FALSE),"") | T10: =(R10+S10)*2 -> #VALUE! | U10: =IFERROR(VLOOKUP(C10,'06_TCT NUEVO BAZTÁN'!$D$6:$M$28,10,FALSE),"") | V10: =IFERROR(VLOOKUP(C10,'06_TCT NUEVO BAZTÁN'!$D$6:$O$28,12,FALSE),"") | W10: =(U10+V10) -> #VALUE! | X10: =H10+K10+N10+Q10+T10+W10 -> #VALUE! | Y10: =IF(Z10>=3,"Sí","No") -> Sí | Z10: =COUNTA(H10,K10,N10,Q10,T10,W10) -> 6 | AB10: =IFERROR(VLOOKUP(C10,Tabla15[[Piloto]:[Puntos clase]],6, FALSE), " ") -> 4RM
B11: 6 | C11: CRISTOFER CALERO CARRANZA | D11: =IFERROR(VLOOKUP(C11,Tabla15[[Piloto]:[Puntos clase]],7, FALSE), " ") -> 3 | E11: =LEFT(AB11,LEN(AB11)-2) -> 2 | F11: =IFERROR(VLOOKUP(C11,'01_RS ALCARRIA'!$D$6:$M$36,10,FALSE),"") -> 10 | G11: =IFERROR(VLOOKUP(C11,'01_RS ALCARRIA'!$D$6:$O$36,12,FALSE),"") -> 10 | H11: =(F11+G11)*2 -> 40 | I11: =IFERROR(VLOOKUP(C11,'02_TCT GUADAMUR'!$D$6:$M$36,10,FALSE),"") -> 10 | J11: =IFERROR(VLOOKUP(C11,'02_TCT GUADAMUR'!$D$6:$O$36,12,FALSE),"") -> 8 | K11: =(I11+J11) -> 18 | L11: =IFERROR(VLOOKUP(C11,'03_TCT MAQUEDA'!$D$6:$M$36,10,FALSE),"") -> 8 | M11: =IFERROR(VLOOKUP(C11,'03_TCT MAQUEDA'!$D$6:$O$36,12,FALSE),"") -> 10 | N11: =(L11+M11) -> 18 | O11: =IFERROR(VLOOKUP(C11,'04_RALLYE CAM'!$D$6:$M$36,10,FALSE),"") -> 5 | P11: =IFERROR(VLOOKUP(C11,'04_RALLYE CAM'!$D$6:$O$36,12,FALSE),"") -> 10 | Q11: =(O11+P11)*3 -> 45 | R11: =IFERROR(VLOOKUP(C11,'05_RS NAVALCARNERO'!$D$6:$M$28,10,FALSE),"") -> 8 | S11: =IFERROR(VLOOKUP(C11,'05_RS NAVALCARNERO'!$D$6:$O$28,12,FALSE),"") -> 8 | T11: =(R11+S11)*2 -> 32 | U11: =IFERROR(VLOOKUP(C11,'06_TCT NUEVO BAZTÁN'!$D$6:$M$28,10,FALSE),"") -> 8 | V11: =IFERROR(VLOOKUP(C11,'06_TCT NUEVO BAZTÁN'!$D$6:$O$28,12,FALSE),"") -> 8 | W11: =(U11+V11) -> 16 | X11: =H11+K11+N11+Q11+T11+W11 -> 169 | Y11: =IF(Z11>=3,"Sí","No") -> Sí | Z11: =COUNTA(H11,K11,N11,Q11,T11,W11) -> 6 | AB11: =IFERROR(VLOOKUP(C11,Tabla15[[Piloto]:[Puntos clase]],6, FALSE), " ") -> 2RM
B12: 7 | C12: SANTIAGO GARCIA MARTIN | D12: =IFERROR(VLOOKUP(C12,Tabla15[[Piloto]:[Puntos clase]],7, FALSE), " ") -> 3 | E12: =LEFT(AB12,LEN(AB12)-2) -> 2 | F12: =IFERROR(VLOOKUP(C12,'01_RS ALCARRIA'!$D$6:$M$36,10,FALSE),"") -> 8 | G12: =IFERROR(VLOOKUP(C12,'01_RS ALCARRIA'!$D$6:$O$36,12,FALSE),"") -> 8 | H12: =(F12+G12)*2 -> 32 | I12: =IFERROR(VLOOKUP(C12,'02_TCT GUADAMUR'!$D$6:$M$36,10,FALSE),"") | J12: =IFERROR(VLOOKUP(C12,'02_TCT GUADAMUR'!$D$6:$O$36,12,FALSE),"") | K12: =(I12+J12) -> #VALUE! | L12: =IFERROR(VLOOKUP(C12,'03_TCT MAQUEDA'!$D$6:$M$36,10,FALSE),"") | M12: =IFERROR(VLOOKUP(C12,'03_TCT MAQUEDA'!$D$6:$O$36,12,FALSE),"") | N12: =(L12+M12) -> #VALUE! | O12: 0 | P12: 0 | Q12: =(O12+P12)*3 -> 0 | R12: =IFERROR(VLOOKUP(C12,'05_RS NAVALCARNERO'!$D$6:$M$28,10,FALSE),"") | S12: =IFERROR(VLOOKUP(C12,'05_RS NAVALCARNERO'!$D$6:$O$28,12,FALSE),"") | T12: =(R12+S12)*2 -> #VALUE! | U12: =IFERROR(VLOOKUP(C12,'06_TCT NUEVO BAZTÁN'!$D$6:$M$28,10,FALSE),"") | V12: =IFERROR(VLOOKUP(C12,'06_TCT NUEVO BAZTÁN'!$D$6:$O$28,12,FALSE),"") | W12: =(U12+V12) -> #VALUE! | X12: =H12+K12+N12+Q12+T12+W12 -> #VALUE! | Y12: =IF(Z12>=3,"Sí","No") -> Sí | Z12: =COUNTA(H12,K12,N12,Q12,T12,W12) -> 6 | AB12: =IFERROR(VLOOKUP(C12,Tabla15[[Piloto]:[Puntos clase]],6, FALSE), " ") -> 2RM
B13: 8 | C13: JOSE MARIA GARCIA-VIÑO SANCHEZ | D13: =IFERROR(VLOOKUP(C13,Tabla15[[Piloto]:[Puntos clase]],7, FALSE), " ") -> 3 | E13: =LEFT(AB13,LEN(AB13)-2) -> 2 | F13: =IFERROR(VLOOKUP(C13,'01_RS ALCARRIA'!$D$6:$M$36,10,FALSE),"") -> 6 | G13: =IFERROR(VLOOKUP(C13,'01_RS ALCARRIA'!$D$6:$O$36,12,FALSE),"") -> 6 | H13: =(F13+G13)*2 -> 24 | I13: =IFERROR(VLOOKUP(C13,'02_TCT GUADAMUR'!$D$6:$M$36,10,FALSE),"") | J13: =IFERROR(VLOOKUP(C13,'02_TCT GUADAMUR'!$D$6:$O$36,12,FALSE),"") | K13: =(I13+J13) -> #VALUE! | L13: 0 | M13: 0 | N13: =(L13+M13) -> 0 | O13: =IFERROR(VLOOKUP(C13,'04_RALLYE CAM'!$D$6:$M$36,10,FALSE),"") | P13: =IFERROR(VLOOKUP(C13,'04_RALLYE CAM'!$D$6:$O$36,12,FALSE),"") | Q13: =(O13+P13)*3 -> #VALUE! | R13: =IFERROR(VLOOKUP(C13,'05_RS NAVALCARNERO'!$D$6:$M$28,10,FALSE),"") | S13: =IFERROR(VLOOKUP(C13,'05_RS NAVALCARNERO'!$D$6:$O$28,12,FALSE),"") | T13: =(R13+S13)*2 -> #VALUE! | U13: =IFERROR(VLOOKUP(C13,'06_TCT NUEVO BAZTÁN'!$D$6:$M$28,10,FALSE),"") | V13: =IFERROR(VLOOKUP(C13,'06_TCT NUEVO BAZTÁN'!$D$6:$O$28,12,FALSE),"") | W13: =(U13+V13) -> #VALUE! | X13: =H13+K13+N13+Q13+T13+W13 -> #VALUE! | Y13: =IF(Z13>=3,"Sí","No") -> Sí | Z13: =COUNTA(H13,K13,N13,Q13,T13,W13) -> 6 | AB13: =IFERROR(VLOOKUP(C13,Tabla15[[Piloto]:[Puntos clase]],6, FALSE), " ") -> 2RM
B14: 9 | C14: CARLOS VELAZQUEZ RODRIGUEZ | D14: =IFERROR(VLOOKUP(C14,Tabla15[[Piloto]:[Puntos clase]],7, FALSE), " ") -> 3 | E14: =LEFT(AB14,LEN(AB14)-2) -> 2 | F14: =IFERROR(VLOOKUP(C14,'01_RS ALCARRIA'!$D$6:$M$36,10,FALSE),"") -> 5 | G14: =IFERROR(VLOOKUP(C14,'01_RS ALCARRIA'!$D$6:$O$36,12,FALSE),"") -> 5 | H14: =(F14+G14)*2 -> 20 | I14: =IFERROR(VLOOKUP(C14,'02_TCT GUADAMUR'!$D$6:$M$36,10,FALSE),"") -> 3 | J14: =IFERROR(VLOOKUP(C14,'02_TCT GUADAMUR'!$D$6:$O$36,12,FALSE),"") -> 5 | K14: =(I14+J14) -> 8 | L14: =IFERROR(VLOOKUP(C14,'03_TCT MAQUEDA'!$D$6:$M$36,10,FALSE),"") -> 2 | M14: =IFERROR(VLOOKUP(C14,'03_TCT MAQUEDA'!$D$6:$O$36,12,FALSE),"") -> 6 | N14: =(L14+M14) -> 8 | O14: =IFERROR(VLOOKUP(C14,'04_RALLYE CAM'!$D$6:$M$36,10,FALSE),"") | P14: =IFERROR(VLOOKUP(C14,'04_RALLYE CAM'!$D$6:$O$36,12,FALSE),"") | Q14: =(O14+P14)*3 -> #VALUE! | R14: =IFERROR(VLOOKUP(C14,'05_RS NAVALCARNERO'!$D$6:$M$28,10,FALSE),"") | S14: =IFERROR(VLOOKUP(C14,'05_RS NAVALCARNERO'!$D$6:$O$28,12,FALSE),"") | T14: =(R14+S14)*2 -> #VALUE! | U14: =IFERROR(VLOOKUP(C14,'06_TCT NUEVO BAZTÁN'!$D$6:$M$28,10,FALSE),"") | V14: =IFERROR(VLOOKUP(C14,'06_TCT NUEVO BAZTÁN'!$D$6:$O$28,12,FALSE),"") | W14: =(U14+V14) -> #VALUE! | X14: =H14+K14+N14+Q14+T14+W14 -> #VALUE! | Y14: =IF(Z14>=3,"Sí","No") -> Sí | Z14: =COUNTA(H14,K14,N14,Q14,T14,W14) -> 6 | AB14: =IFERROR(VLOOKUP(C14,Tabla15[[Piloto]:[Puntos clase]],6, FALSE), " ") -> 2RM
B15: 10 | C15: ALBERTO LUIS PEREZ | D15: =IFERROR(VLOOKUP(C15,Tabla15[[Piloto]:[Puntos clase]],7, FALSE), " ") -> 5 | E15: =LEFT(AB15,LEN(AB15)-2) -> 2 | F15: =IFERROR(VLOOKUP(C15,'01_RS ALCARRIA'!$D$6:$M$36,10,FALSE),"") -> 4 | G15: =IFERROR(VLOOKUP(C15,'01_RS ALCARRIA'!$D$6:$O$36,12,FALSE),"") -> 10 | H15: =(F15+G15)*2 -> 28 | I15: =IFERROR(VLOOKUP(C15,'02_TCT GUADAMUR'!$D$6:$M$36,10,FALSE),"") -> 8 | J15: =IFERROR(VLOOKUP(C15,'02_TCT GUADAMUR'!$D$6:$O$36,12,FALSE),"") -> 10 | K15: =(I15+J15) -> 18 | L15: =IFERROR(VLOOKUP(C15,'03_TCT MAQUEDA'!$D$6:$M$36,10,FALSE),"") | M15: =IFERROR(VLOOKUP(C15,'03_TCT MAQUEDA'!$D$6:$O$36,12,FALSE),"") | N15: =(L15+M15) -> #VALUE! | O15: =IFERROR(VLOOKUP(C15,'04_RALLYE CAM'!$D$6:$M$36,10,FALSE),"") | P15: =IFERROR(VLOOKUP(C15,'04_RALLYE CAM'!$D$6:$O$36,12,FALSE),"") | Q15: =(O15+P15)*3 -> #VALUE! | R15: =IFERROR(VLOOKUP(C15,'05_RS NAVALCARNERO'!$D$6:$M$28,10,FALSE),"") | S15: =IFERROR(VLOOKUP(C15,'05_RS NAVALCARNERO'!$D$6:$O$28,12,FALSE),"") | T15: =(R15+S15)*2 -> #VALUE! | U15: =IFERROR(VLOOKUP(C15,'06_TCT NUEVO BAZTÁN'!$D$6:$M$28,10,FALSE),"") | V15: =IFERROR(VLOOKUP(C15,'06_TCT NUEVO BAZTÁN'!$D$6:$O$28,12,FALSE),"") | W15: =(U15+V15) -> #VALUE! | X15: =H15+K15+N15+Q15+T15+W15 -> #VALUE! | Y15: =IF(Z15>=3,"Sí","No") -> Sí | Z15: =COUNTA(H15,K15,N15,Q15,T15,W15) -> 6 | AB15: =IFERROR(VLOOKUP(C15,Tabla15[[Piloto]:[Puntos clase]],6, FALSE), " ") -> 2RM
B16: 11 | C16: RAUL CARRASCO SEGOVIA | D16: =IFERROR(VLOOKUP(C16,Tabla15[[Piloto]:[Puntos clase]],7, FALSE), " ") -> 4 | E16: =LEFT(AB16,LEN(AB16)-2) -> 2 | F16: =IFERROR(VLOOKUP(C16,'01_RS ALCARRIA'!$D$6:$M$36,10,FALSE),"") -> 3 | G16: =IFERROR(VLOOKUP(C16,'01_RS ALCARRIA'!$D$6:$O$36,12,FALSE),"") -> 10 | H16: =(F16+G16)*2 -> 26 | I16: =IFERROR(VLOOKUP(C16,'02_TCT GUADAMUR'!$D$6:$M$36,10,FALSE),"") -> 6 | J16: =IFERROR(VLOOKUP(C16,'02_TCT GUADAMUR'!$D$6:$O$36,12,FALSE),"") -> 10 | K16: =(I16+J16) -> 16 | L16: =IFERROR(VLOOKUP(C16,'03_TCT MAQUEDA'!$D$6:$M$36,10,FALSE),"") | M16: =IFERROR(VLOOKUP(C16,'03_TCT MAQUEDA'!$D$6:$O$36,12,FALSE),"") | N16: =(L16+M16) -> #VALUE! | O16: =IFERROR(VLOOKUP(C16,'04_RALLYE CAM'!$D$6:$M$36,10,FALSE),"") -> 4 | P16: =IFERROR(VLOOKUP(C16,'04_RALLYE CAM'!$D$6:$O$36,12,FALSE),"") -> 10 | Q16: =(O16+P16)*3 -> 42 | R16: =IFERROR(VLOOKUP(C16,'05_RS NAVALCARNERO'!$D$6:$M$28,10,FALSE),"") -> 2 | S16: =IFERROR(VLOOKUP(C16,'05_RS NAVALCARNERO'!$D$6:$O$28,12,FALSE),"") -> 10 | T16: =(R16+S16)*2 -> 24 | U16: =IFERROR(VLOOKUP(C16,'06_TCT NUEVO BAZTÁN'!$D$6:$M$28,10,FALSE),"") -> 2 | V16: =IFERROR(VLOOKUP(C16,'06_TCT NUEVO BAZTÁN'!$D$6:$O$28,12,FALSE),"") -> 10 | W16: =(U16+V16) -> 12 | X16: =H16+K16+N16+Q16+T16+W16 -> #VALUE! | Y16: =IF(Z16>=3,"Sí","No") -> Sí | Z16: =COUNTA(H16,K16,N16,Q16,T16,W16) -> 6 | AB16: =IFERROR(VLOOKUP(C16,Tabla15[[Piloto]:[Puntos clase]],6, FALSE), " ") -> 2RM
B17: 12 | C17: ALBERTO DORSCH BLANCO | D17: =IFERROR(VLOOKUP(C17,Tabla15[[Piloto]:[Puntos clase]],7, FALSE), " ") -> 4 | E17: =LEFT(AB17,LEN(AB17)-2) -> 2 | F17: =IFERROR(VLOOKUP(C17,'01_RS ALCARRIA'!$D$6:$M$36,10,FALSE),"") -> 2 | G17: =IFERROR(VLOOKUP(C17,'01_RS ALCARRIA'!$D$6:$O$36,12,FALSE),"") -> 8 | H17: =(F17+G17)*2 -> 20 | I17: =IFERROR(VLOOKUP(C17,'02_TCT GUADAMUR'!$D$6:$M$36,10,FALSE),"") -> 1 | J17: =IFERROR(VLOOKUP(C17,'02_TCT GUADAMUR'!$D$6:$O$36,12,FALSE),"") -> 8 | K17: =(I17+J17) -> 9 | L17: =IFERROR(VLOOKUP(C17,'03_TCT MAQUEDA'!$D$6:$M$36,10,FALSE),"") -> 5 | M17: =IFERROR(VLOOKUP(C17,'03_TCT MAQUEDA'!$D$6:$O$36,12,FALSE),"") -> 8 | N17: =(L17+M17) -> 13 | O17: =IFERROR(VLOOKUP(C17,'04_RALLYE CAM'!$D$6:$M$36,10,FALSE),"") | P17: =IFERROR(VLOOKUP(C17,'04_RALLYE CAM'!$D$6:$O$36,12,FALSE),"") | Q17: =(O17+P17)*3 -> #VALUE! | R17: =IFERROR(VLOOKUP(C17,'05_RS NAVALCARNERO'!$D$6:$M$28,10,FALSE),"") | S17: =IFERROR(VLOOKUP(C17,'05_RS NAVALCARNERO'!$D$6:$O$28,12,FALSE),"") | T17: =(R17+S17)*2 -> #VALUE! | U17: =IFERROR(VLOOKUP(C17,'06_TCT NUEVO BAZTÁN'!$D$6:$M$28,10,FALSE),"") | V17: =IFERROR(VLOOKUP(C17,'06_TCT NUEVO BAZTÁN'!$D$6:$O$28,12,FALSE),"") | W17: =(U17+V17) -> #VALUE! | X17: =H17+K17+N17+Q17+T17+W17 -> #VALUE! | Y17: =IF(Z17>=3,"Sí","No") -> Sí | Z17: =COUNTA(H17,K17,N17,Q17,T17,W17) -> 6 | AB17: =IFERROR(VLOOKUP(C17,Tabla15[[Piloto]:[Puntos clase]],6, FALSE), " ") -> 2RM
B18: 13 | C18: FRANCISCO DEL POZO MARTINEZ | D18: =IFERROR(VLOOKUP(C18,Tabla15[[Piloto]:[Puntos clase]],7, FALSE), " ") -> 3 | E18: =LEFT(AB18,LEN(AB18)-2) -> 2 | F18: =IFERROR(VLOOKUP(C18,'01_RS ALCARRIA'!$D$6:$M$36,10,FALSE),"") -> 1 | G18: =IFERROR(VLOOKUP(C18,'01_RS ALCARRIA'!$D$6:$O$36,12,FALSE),"") -> 3 | H18: =(F18+G18)*2 -> 8 | I18: =IFERROR(VLOOKUP(C18,'02_TCT GUADAMUR'!$D$6:$M$36,10,FALSE),"") | J18: =IFERROR(VLOOKUP(C18,'02_TCT GUADAMUR'!$D$6:$O$36,12,FALSE),"") | K18: =(I18+J18) -> #VALUE! | L18: =IFERROR(VLOOKUP(C18,'03_TCT MAQUEDA'!$D$6:$M$36,10,FALSE),"") | M18: =IFERROR(VLOOKUP(C18,'03_TCT MAQUEDA'!$D$6:$O$36,12,FALSE),"") | N18: =(L18+M18) -> #VALUE! | O18: =IFERROR(VLOOKUP(C18,'04_RALLYE CAM'!$D$6:$M$36,10,FALSE),"") | P18: =IFERROR(VLOOKUP(C18,'04_RALLYE CAM'!$D$6:$O$36,12,FALSE),"") | Q18: =(O18+P18)*3 -> #VALUE! | R18: =IFERROR(VLOOKUP(C18,'05_RS NAVALCARNERO'!$D$6:$M$28,10,FALSE),"") | S18: =IFERROR(VLOOKUP(C18,'05_RS NAVALCARNERO'!$D$6:$O$28,12,FALSE),"") | T18: =(R18+S18)*2 -> #VALUE! | U18: =IFERROR(VLOOKUP(C18,'06_TCT NUEVO BAZTÁN'!$D$6:$M$28,10,FALSE),"") | V18: =IFERROR(VLOOKUP(C18,'06_TCT NUEVO BAZTÁN'!$D$6:$O$28,12,FALSE),"") | W18: =(U18+V18) -> #VALUE! | X18: =H18+K18+N18+Q18+T18+W18 -> #VALUE! | Y18: =IF(Z18>=3,"Sí","No") -> Sí | Z18: =COUNTA(H18,K18,N18,Q18,T18,W18) -> 6 | AB18: =IFERROR(VLOOKUP(C18,Tabla15[[Piloto]:[Puntos clase]],6, FALSE), " ") -> 2RM
B19: 14 | C19: JULIO MARTIN AGUDO | D19: =IFERROR(VLOOKUP(C19,Tabla15[[Piloto]:[Puntos clase]],7, FALSE), " ") -> 3 | E19: =LEFT(AB19,LEN(AB19)-2) -> 2 | F19: =IFERROR(VLOOKUP(C19,'01_RS ALCARRIA'!$D$6:$M$36,10,FALSE),"") -> 0 | G19: =IFERROR(VLOOKUP(C19,'01_RS ALCARRIA'!$D$6:$O$36,12,FALSE),"") -> 1 | H19: =(F19+G19)*2 -> 2 | I19: =IFERROR(VLOOKUP(C19,'02_TCT GUADAMUR'!$D$6:$M$36,10,FALSE),"") -> 0 | J19: =IFERROR(VLOOKUP(C19,'02_TCT GUADAMUR'!$D$6:$O$36,12,FALSE),"") -> 0 | K19: =(I19+J19) -> 0 | L19: 0 | M19: 0 | N19: =(L19+M19) -> 0 | O19: =IFERROR(VLOOKUP(C19,'04_RALLYE CAM'!$D$6:$M$36,10,FALSE),"") | P19: =IFERROR(VLOOKUP(C19,'04_RALLYE CAM'!$D$6:$O$36,12,FALSE),"") | Q19: =(O19+P19)*3 -> #VALUE! | R19: =IFERROR(VLOOKUP(C19,'05_RS NAVALCARNERO'!$D$6:$M$28,10,FALSE),"") | S19: =IFERROR(VLOOKUP(C19,'05_RS NAVALCARNERO'!$D$6:$O$28,12,FALSE),"") | T19: =(R19+S19)*2 -> #VALUE! | U19: =IFERROR(VLOOKUP(C19,'06_TCT NUEVO BAZTÁN'!$D$6:$M$28,10,FALSE),"") | V19: =IFERROR(VLOOKUP(C19,'06_TCT NUEVO BAZTÁN'!$D$6:$O$28,12,FALSE),"") | W19: =(U19+V19) -> #VALUE! | X19: =H19+K19+N19+Q19+T19+W19 -> #VALUE! | Y19: =IF(Z19>=3,"Sí","No") -> Sí | Z19: =COUNTA(H19,K19,N19,Q19,T19,W19) -> 6 | AB19: =IFERROR(VLOOKUP(C19,Tabla15[[Piloto]:[Puntos clase]],6, FALSE), " ") -> 2RM
B20: 14 | C20: JOSE MANUEL CERRATO NOGUEIRA | D20: 3 | E20: 2 | F20: =IFERROR(VLOOKUP(C20,'01_RS ALCARRIA'!$D$6:$M$36,10,FALSE),"") -> 0 | G20: =IFERROR(VLOOKUP(C20,'01_RS ALCARRIA'!$D$6:$O$36,12,FALSE),"") -> 0 | H20: =(F20+G20)*2 -> 0 | I20: =IFERROR(VLOOKUP(C20,'02_TCT GUADAMUR'!$D$6:$M$36,10,FALSE),"") -> 2 | J20: =IFERROR(VLOOKUP(C20,'02_TCT GUADAMUR'!$D$6:$O$36,12,FALSE),"") -> 3 | K20: =(I20+J20) -> 5 | L20: =IFERROR(VLOOKUP(C20,'03_TCT MAQUEDA'!$D$6:$M$36,10,FALSE),"") | M20: =IFERROR(VLOOKUP(C20,'03_TCT MAQUEDA'!$D$6:$O$36,12,FALSE),"") | N20: =(L20+M20) -> #VALUE! | O20: =IFERROR(VLOOKUP(C20,'04_RALLYE CAM'!$D$6:$M$36,10,FALSE),"") | P20: =IFERROR(VLOOKUP(C20,'04_RALLYE CAM'!$D$6:$O$36,12,FALSE),"") | Q20: =(O20+P20)*3 -> #VALUE! | R20: =IFERROR(VLOOKUP(C20,'05_RS NAVALCARNERO'!$D$6:$M$28,10,FALSE),"") | S20: =IFERROR(VLOOKUP(C20,'05_RS NAVALCARNERO'!$D$6:$O$28,12,FALSE),"") | T20: =(R20+S20)*2 -> #VALUE! | U20: =IFERROR(VLOOKUP(C20,'06_TCT NUEVO BAZTÁN'!$D$6:$M$28,10,FALSE),"") | V20: =IFERROR(VLOOKUP(C20,'06_TCT NUEVO BAZTÁN'!$D$6:$O$28,12,FALSE),"") | W20: =(U20+V20) -> #VALUE! | X20: =H20+K20+N20+Q20+T20+W20 -> #VALUE! | Y20: =IF(Z20>=3,"Sí","No") -> Sí | Z20: =COUNTA(H20,K20,N20,Q20,T20,W20) -> 6 | AB20: =IFERROR(VLOOKUP(C20,Tabla15[[Piloto]:[Puntos clase]],6, FALSE), " ") -> 2RM
B21: 16 | C21: MARCOS JOSE DEL CID JIMENEZ | D21: =IFERROR(VLOOKUP(C21,Tabla15[[Piloto]:[Puntos clase]],7, FALSE), " ") -> 3 | E21: =LEFT(AB21,LEN(AB21)-2) -> 2 | F21: =IFERROR(VLOOKUP(C21,'01_RS ALCARRIA'!$D$6:$M$36,10,FALSE),"") -> 0 | G21: =IFERROR(VLOOKUP(C21,'01_RS ALCARRIA'!$D$6:$O$36,12,FALSE),"") -> 0 | H21: =(F21+G21)*2 -> 0 | I21: =IFERROR(VLOOKUP(C21,'02_TCT GUADAMUR'!$D$6:$M$36,10,FALSE),"") -> 0 | J21: =IFERROR(VLOOKUP(C21,'02_TCT GUADAMUR'!$D$6:$O$36,12,FALSE),"") -> 0 | K21: =(I21+J21) -> 0 | L21: =IFERROR(VLOOKUP(C21,'03_TCT MAQUEDA'!$D$6:$M$36,10,FALSE),"") -> 0 | M21: =IFERROR(VLOOKUP(C21,'03_TCT MAQUEDA'!$D$6:$O$36,12,FALSE),"") -> 3 | N21: =(L21+M21) -> 3 | O21: =IFERROR(VLOOKUP(C21,'04_RALLYE CAM'!$D$6:$M$36,10,FALSE),"") | P21: =IFERROR(VLOOKUP(C21,'04_RALLYE CAM'!$D$6:$O$36,12,FALSE),"")/2 -> #VALUE! | Q21: =(O21+P21)*3 -> #VALUE! | R21: =IFERROR(VLOOKUP(C21,'05_RS NAVALCARNERO'!$D$6:$M$28,10,FALSE),"") | S21: =IFERROR(VLOOKUP(C21,'05_RS NAVALCARNERO'!$D$6:$O$28,12,FALSE),"") | T21: =(R21+S21)*2 -> #VALUE! | U21: =IFERROR(VLOOKUP(C21,'06_TCT NUEVO BAZTÁN'!$D$6:$M$28,10,FALSE),"") | V21: =IFERROR(VLOOKUP(C21,'06_TCT NUEVO BAZTÁN'!$D$6:$O$28,12,FALSE),"") | W21: =(U21+V21) -> #VALUE! | X21: =H21+K21+N21+Q21+T21+W21 -> #VALUE! | Y21: =IF(Z21>=3,"Sí","No") -> Sí | Z21: =COUNTA(H21,K21,N21,Q21,T21,W21) -> 6 | AB21: =IFERROR(VLOOKUP(C21,Tabla15[[Piloto]:[Puntos clase]],6, FALSE), " ") -> 2RM
B22: 17 | C22: PELI | D22: =IFERROR(VLOOKUP(C22,Tabla15[[Piloto]:[Puntos clase]],7, FALSE), " ") -> 3 | E22: =LEFT(AB22,LEN(AB22)-2) -> 2 | F22: =IFERROR(VLOOKUP(C22,'01_RS ALCARRIA'!$D$6:$M$36,10,FALSE),"") -> 0 | G22: =IFERROR(VLOOKUP(C22,'01_RS ALCARRIA'!$D$6:$O$36,12,FALSE),"") -> 0 | H22: =(F22+G22)*2 -> 0 | I22: =IFERROR(VLOOKUP(C22,'02_TCT GUADAMUR'!$D$6:$M$36,10,FALSE),"") -> 0 | J22: =IFERROR(VLOOKUP(C22,'02_TCT GUADAMUR'!$D$6:$O$36,12,FALSE),"") -> 1 | K22: =(I22+J22) -> 1 | L22: =IFERROR(VLOOKUP(C22,'03_TCT MAQUEDA'!$D$6:$M$36,10,FALSE),"") -> 4 | M22: =IFERROR(VLOOKUP(C22,'03_TCT MAQUEDA'!$D$6:$O$36,12,FALSE),"") -> 8 | N22: =(L22+M22) -> 12 | O22: =IFERROR(VLOOKUP(C22,'04_RALLYE CAM'!$D$6:$M$36,10,FALSE),"") | P22: =IFERROR(VLOOKUP(C22,'04_RALLYE CAM'!$D$6:$O$36,12,FALSE),"") | Q22: =(O22+P22)*3 -> #VALUE! | R22: =IFERROR(VLOOKUP(C22,'05_RS NAVALCARNERO'!$D$6:$M$28,10,FALSE),"") | S22: =IFERROR(VLOOKUP(C22,'05_RS NAVALCARNERO'!$D$6:$O$28,12,FALSE),"") | T22: =(R22+S22)*2 -> #VALUE! | U22: =IFERROR(VLOOKUP(C22,'06_TCT NUEVO BAZTÁN'!$D$6:$M$28,10,FALSE),"") | V22: =IFERROR(VLOOKUP(C22,'06_TCT NUEVO BAZTÁN'!$D$6:$O$28,12,FALSE),"") | W22: =(U22+V22) -> #VALUE! | X22: =H22+K22+N22+Q22+T22+W22 -> #VALUE! | Y22: =IF(Z22>=3,"Sí","No") -> Sí | Z22: =COUNTA(H22,K22,N22,Q22,T22,W22) -> 6 | AB22: =IFERROR(VLOOKUP(C22,Tabla15[[Piloto]:[Puntos clase]],6, FALSE), " ") -> 2RM
B23: 17 | C23: ALEJANDRO VIÑAMBRES ROMERO | D23: =IFERROR(VLOOKUP(C23,Tabla15[[Piloto]:[Puntos clase]],7, FALSE), " ") -> 3 | E23: =LEFT(AB23,LEN(AB23)-2) -> 2 | F23: =IFERROR(VLOOKUP(C23,'01_RS ALCARRIA'!$D$6:$M$36,10,FALSE),"") -> 0 | G23: =IFERROR(VLOOKUP(C23,'01_RS ALCARRIA'!$D$6:$O$36,12,FALSE),"") -> 0 | H23: =(F23+G23)*2 -> 0 | I23: =IFERROR(VLOOKUP(C23,'02_TCT GUADAMUR'!$D$6:$M$36,10,FALSE),"") | J23: =IFERROR(VLOOKUP(C23,'02_TCT GUADAMUR'!$D$6:$O$36,12,FALSE),"") | K23: =(I23+J23) -> #VALUE! | L23: =IFERROR(VLOOKUP(C23,'03_TCT MAQUEDA'!$D$6:$M$36,10,FALSE),"") -> 0 | M23: =IFERROR(VLOOKUP(C23,'03_TCT MAQUEDA'!$D$6:$O$36,12,FALSE),"") -> 1 | N23: =(L23+M23) -> 1 | O23: =IFERROR(VLOOKUP(C23,'04_RALLYE CAM'!$D$6:$M$36,10,FALSE),"") -> 0 | P23: =IFERROR(VLOOKUP(C23,'04_RALLYE CAM'!$D$6:$O$36,12,FALSE),"") -> 6 | Q23: =(O23+P23)*3 -> 18 | R23: =IFERROR(VLOOKUP(C23,'05_RS NAVALCARNERO'!$D$6:$M$28,10,FALSE),"") | S23: =IFERROR(VLOOKUP(C23,'05_RS NAVALCARNERO'!$D$6:$O$28,12,FALSE),"") | T23: =(R23+S23)*2 -> #VALUE! | U23: =IFERROR(VLOOKUP(C23,'06_TCT NUEVO BAZTÁN'!$D$6:$M$28,10,FALSE),"") | V23: =IFERROR(VLOOKUP(C23,'06_TCT NUEVO BAZTÁN'!$D$6:$O$28,12,FALSE),"") | W23: =(U23+V23) -> #VALUE! | X23: =H23+K23+N23+Q23+T23+W23 -> #VALUE! | Y23: =IF(Z23>=3,"Sí","No") -> Sí | Z23: =COUNTA(H23,K23,N23,Q23,T23,W23) -> 6 | AB23: =IFERROR(VLOOKUP(C23,Tabla15[[Piloto]:[Puntos clase]],6, FALSE), " ") -> 2RM
B24: 19 | C24: VICTOR GARRIDO GONZALEZ | D24: =IFERROR(VLOOKUP(C24,Tabla15[[Piloto]:[Puntos clase]],7, FALSE), " ") -> 3 | E24: =LEFT(AB24,LEN(AB24)-2) -> 2 | F24: =IFERROR(VLOOKUP(C24,'01_RS ALCARRIA'!$D$6:$M$36,10,FALSE),"") -> 0 | G24: =IFERROR(VLOOKUP(C24,'01_RS ALCARRIA'!$D$6:$O$36,12,FALSE),"") -> 0 | H24: =(F24+G24)*2 -> 0 | I24: =IFERROR(VLOOKUP(C24,'02_TCT GUADAMUR'!$D$6:$M$36,10,FALSE),"") | J24: =IFERROR(VLOOKUP(C24,'02_TCT GUADAMUR'!$D$6:$O$36,12,FALSE),"") | K24: =(I24+J24) -> #VALUE! | L24: =IFERROR(VLOOKUP(C24,'03_TCT MAQUEDA'!$D$6:$M$36,10,FALSE),"") | M24: =IFERROR(VLOOKUP(C24,'03_TCT MAQUEDA'!$D$6:$O$36,12,FALSE),"") | N24: =(L24+M24) -> #VALUE! | O24: =IFERROR(VLOOKUP(C24,'04_RALLYE CAM'!$D$6:$M$36,10,FALSE),"") | P24: =IFERROR(VLOOKUP(C24,'04_RALLYE CAM'!$D$6:$O$36,12,FALSE),"")/2 -> #VALUE! | Q24: =(O24+P24)*3 -> #VALUE! | R24: =IFERROR(VLOOKUP(C24,'05_RS NAVALCARNERO'!$D$6:$M$28,10,FALSE),"") | S24: =IFERROR(VLOOKUP(C24,'05_RS NAVALCARNERO'!$D$6:$O$28,12,FALSE),"") | T24: =(R24+S24)*2 -> #VALUE! | U24: =IFERROR(VLOOKUP(C24,'06_TCT NUEVO BAZTÁN'!$D$6:$M$28,10,FALSE),"") | V24: =IFERROR(VLOOKUP(C24,'06_TCT NUEVO BAZTÁN'!$D$6:$O$28,12,FALSE),"") | W24: =(U24+V24) -> #VALUE! | X24: =H24+K24+N24+Q24+T24+W24 -> #VALUE! | Y24: =IF(Z24>=3,"Sí","No") -> Sí | Z24: =COUNTA(H24,K24,N24,Q24,T24,W24) -> 6 | AB24: =IFERROR(VLOOKUP(C24,Tabla15[[Piloto]:[Puntos clase]],6, FALSE), " ") -> 2RM
B25: 20 | C25: MARIANO ALONSO GENTILE | D25: 4 | E25: =LEFT(AB25,LEN(AB25)-2) -> 2 | F25: =IFERROR(VLOOKUP(C25,'01_RS ALCARRIA'!$D$6:$M$36,10,FALSE),"") -> 0 | G25: =IFERROR(VLOOKUP(C25,'01_RS ALCARRIA'!$D$6:$O$36,12,FALSE),"") -> 6 | H25: =(F25+G25)*2 -> 12 | I25: =IFERROR(VLOOKUP(C25,'02_TCT GUADAMUR'!$D$6:$M$36,10,FALSE),"") -> 0 | J25: =IFERROR(VLOOKUP(C25,'02_TCT GUADAMUR'!$D$6:$O$36,12,FALSE),"") -> 5 | K25: =(I25+J25) -> 5 | L25: =IFERROR(VLOOKUP(C25,'03_TCT MAQUEDA'!$D$6:$M$36,10,FALSE),"") | M25: =IFERROR(VLOOKUP(C25,'03_TCT MAQUEDA'!$D$6:$O$36,12,FALSE),"") | N25: =(L25+M25) -> #VALUE! | O25: =IFERROR(VLOOKUP(C25,'04_RALLYE CAM'!$D$6:$M$36,10,FALSE),"") | P25: =IFERROR(VLOOKUP(C25,'04_RALLYE CAM'!$D$6:$O$36,12,FALSE),"") | Q25: =(O25+P25)*3 -> #VALUE! | R25: =IFERROR(VLOOKUP(C25,'05_RS NAVALCARNERO'!$D$6:$M$28,10,FALSE),"") | S25: =IFERROR(VLOOKUP(C25,'05_RS NAVALCARNERO'!$D$6:$O$28,12,FALSE),"") | T25: =(R25+S25)*2 -> #VALUE! | U25: =IFERROR(VLOOKUP(C25,'06_TCT NUEVO BAZTÁN'!$D$6:$M$28,10,FALSE),"") | V25: =IFERROR(VLOOKUP(C25,'06_TCT NUEVO BAZTÁN'!$D$6:$O$28,12,FALSE),"") | W25: =(U25+V25) -> #VALUE! | X25: =H25+K25+N25+Q25+T25+W25 -> #VALUE! | Y25: =IF(Z25>=3,"Sí","No") -> Sí | Z25: =COUNTA(H25,K25,N25,Q25,T25,W25) -> 6 | AB25: =IFERROR(VLOOKUP(C25,Tabla15[[Piloto]:[Puntos clase]],6, FALSE), " ") -> 2RM
B26: 21 | C26: IVAN AGUADO REOYO | D26: 4 | E26: 2 | F26: =IFERROR(VLOOKUP(C26,'01_RS ALCARRIA'!$D$6:$M$36,10,FALSE),"") -> 0 | G26: =IFERROR(VLOOKUP(C26,'01_RS ALCARRIA'!$D$6:$O$36,12,FALSE),"") -> 5 | H26: =(F26+G26)*2 -> 10 | I26: =IFERROR(VLOOKUP(C26,'02_TCT GUADAMUR'!$D$6:$M$36,10,FALSE),"") -> 0 | J26: =IFERROR(VLOOKUP(C26,'02_TCT GUADAMUR'!$D$6:$O$36,12,FALSE),"") -> 6 | K26: =(I26+J26) -> 6 | L26: =IFERROR(VLOOKUP(C26,'03_TCT MAQUEDA'!$D$6:$M$36,10,FALSE),"") -> 6 | M26: =IFERROR(VLOOKUP(C26,'03_TCT MAQUEDA'!$D$6:$O$36,12,FALSE),"") -> 10 | N26: =(L26+M26) -> 16 | O26: =IFERROR(VLOOKUP(C26,'04_RALLYE CAM'!$D$6:$M$36,10,FALSE),"") | P26: =IFERROR(VLOOKUP(C26,'04_RALLYE CAM'!$D$6:$O$36,12,FALSE),"") | Q26: =(O26+P26)*3 -> #VALUE! | R26: =IFERROR(VLOOKUP(C26,'05_RS NAVALCARNERO'!$D$6:$M$28,10,FALSE),"") | S26: =IFERROR(VLOOKUP(C26,'05_RS NAVALCARNERO'!$D$6:$O$28,12,FALSE),"") | T26: =(R26+S26)*2 -> #VALUE! | U26: =IFERROR(VLOOKUP(C26,'06_TCT NUEVO BAZTÁN'!$D$6:$M$28,10,FALSE),"") | V26: =IFERROR(VLOOKUP(C26,'06_TCT NUEVO BAZTÁN'!$D$6:$O$28,12,FALSE),"") | W26: =(U26+V26) -> #VALUE! | X26: =H26+K26+N26+Q26+T26+W26 -> #VALUE! | Y26: =IF(Z26>=3,"Sí","No") -> Sí | Z26: =COUNTA(H26,K26,N26,Q26,T26,W26) -> 6 | AB26: =IFERROR(VLOOKUP(C26,Tabla15[[Piloto]:[Puntos clase]],6, FALSE), " ") -> 2RM
B27: 22 | C27: RUBEN VELAZQUEZ BERNARDO | D27: =IFERROR(VLOOKUP(C27,Tabla15[[Piloto]:[Puntos clase]],7, FALSE), " ") -> 5 | E27: =LEFT(AB27,LEN(AB27)-2) -> 4 | F27: =IFERROR(VLOOKUP(C27,'01_RS ALCARRIA'!$D$6:$M$36,10,FALSE),"") | G27: =IFERROR(VLOOKUP(C27,'01_RS ALCARRIA'!$D$6:$O$36,12,FALSE),"") | H27: =(F27+G27)*2 -> #VALUE! | I27: =IFERROR(VLOOKUP(C27,'02_TCT GUADAMUR'!$D$6:$M$36,10,FALSE),"") -> 4 | J27: =IFERROR(VLOOKUP(C27,'02_TCT GUADAMUR'!$D$6:$O$36,12,FALSE),"") -> 8 | K27: =(I27+J27) -> 12 | L27: =IFERROR(VLOOKUP(C27,'03_TCT MAQUEDA'!$D$6:$M$36,10,FALSE),"") | M27: =IFERROR(VLOOKUP(C27,'03_TCT MAQUEDA'!$D$6:$O$36,12,FALSE),"") | N27: =(L27+M27) -> #VALUE! | O27: =IFERROR(VLOOKUP(C27,'04_RALLYE CAM'!$D$6:$M$36,10,FALSE),"") | P27: =IFERROR(VLOOKUP(C27,'04_RALLYE CAM'!$D$6:$O$36,12,FALSE),"") | Q27: =(O27+P27)*3 -> #VALUE! | R27: =IFERROR(VLOOKUP(C27,'05_RS NAVALCARNERO'!$D$6:$M$28,10,FALSE),"") | S27: =IFERROR(VLOOKUP(C27,'05_RS NAVALCARNERO'!$D$6:$O$28,12,FALSE),"") | T27: =(R27+S27)*2 -> #VALUE! | U27: =IFERROR(VLOOKUP(C27,'06_TCT NUEVO BAZTÁN'!$D$6:$M$28,10,FALSE),"") | V27: =IFERROR(VLOOKUP(C27,'06_TCT NUEVO BAZTÁN'!$D$6:$O$28,12,FALSE),"") | W27: =(U27+V27) -> #VALUE! | X27: =H27+K27+N27+Q27+T27+W27 -> #VALUE! | Y27: =IF(Z27>=3,"Sí","No") -> Sí | Z27: =COUNTA(H27,K27,N27,Q27,T27,W27) -> 6 | AB27: =IFERROR(VLOOKUP(C27,Tabla15[[Piloto]:[Puntos clase]],6, FALSE), " ") -> 4RM
B28: 23 | C28: MANUEL SORIANO DIAZ | D28: =IFERROR(VLOOKUP(C28,Tabla15[[Piloto]:[Puntos clase]],7, FALSE), " ") -> 2 | E28: =LEFT(AB28,LEN(AB28)-2) -> 2 | F28: =IFERROR(VLOOKUP(C28,'01_RS ALCARRIA'!$D$6:$M$36,10,FALSE),"") | G28: =IFERROR(VLOOKUP(C28,'01_RS ALCARRIA'!$D$6:$O$36,12,FALSE),"") | H28: =(F28+G28)*2 -> #VALUE! | I28: =IFERROR(VLOOKUP(C28,'02_TCT GUADAMUR'!$D$6:$M$36,10,FALSE),"") | J28: =IFERROR(VLOOKUP(C28,'02_TCT GUADAMUR'!$D$6:$O$36,12,FALSE),"") | K28: =(I28+J28) -> #VALUE! | L28: =IFERROR(VLOOKUP(C28,'03_TCT MAQUEDA'!$D$6:$M$36,10,FALSE),"") -> 0 | M28: =IFERROR(VLOOKUP(C28,'03_TCT MAQUEDA'!$D$6:$O$36,12,FALSE),"") -> 5 | N28: =(L28+M28) -> 5 | O28: =IFERROR(VLOOKUP(C28,'04_RALLYE CAM'!$D$6:$M$36,10,FALSE),"") | P28: =IFERROR(VLOOKUP(C28,'04_RALLYE CAM'!$D$6:$O$36,12,FALSE),"") | Q28: =(O28+P28)*3 -> #VALUE! | R28: =IFERROR(VLOOKUP(C28,'05_RS NAVALCARNERO'!$D$6:$M$28,10,FALSE),"") | S28: =IFERROR(VLOOKUP(C28,'05_RS NAVALCARNERO'!$D$6:$O$28,12,FALSE),"") | T28: =(R28+S28)*2 -> #VALUE! | U28: =IFERROR(VLOOKUP(C28,'06_TCT NUEVO BAZTÁN'!$D$6:$M$28,10,FALSE),"") | V28: =IFERROR(VLOOKUP(C28,'06_TCT NUEVO BAZTÁN'!$D$6:$O$28,12,FALSE),"") | W28: =(U28+V28) -> #VALUE! | X28: =H28+K28+N28+Q28+T28+W28 -> #VALUE! | Y28: =IF(Z28>=3,"Sí","No") -> Sí | Z28: =COUNTA(H28,K28,N28,Q28,T28,W28) -> 6 | AB28: =IFERROR(VLOOKUP(C28,Tabla15[[Piloto]:[Puntos clase]],6, FALSE), " ") -> 2RM
B29: 24 | C29: ANTONIO PEDROSA GORDILLO | D29: =IFERROR(VLOOKUP(C29,Tabla15[[Piloto]:[Puntos clase]],7, FALSE), " ") -> 5 | E29: =LEFT(AB29,LEN(AB29)-2) -> 2 | F29: =IFERROR(VLOOKUP(C29,'01_RS ALCARRIA'!$D$6:$M$36,10,FALSE),"") | G29: =IFERROR(VLOOKUP(C29,'01_RS ALCARRIA'!$D$6:$O$36,12,FALSE),"") | H29: =(F29+G29)*2 -> #VALUE! | I29: =IFERROR(VLOOKUP(C29,'02_TCT GUADAMUR'!$D$6:$M$36,10,FALSE),"") -> 0 | J29: =IFERROR(VLOOKUP(C29,'02_TCT GUADAMUR'!$D$6:$O$36,12,FALSE),"") -> 6 | K29: =(I29+J29) -> 6 | L29: =IFERROR(VLOOKUP(C29,'03_TCT MAQUEDA'!$D$6:$M$36,10,FALSE),"") -> 10 | M29: =IFERROR(VLOOKUP(C29,'03_TCT MAQUEDA'!$D$6:$O$36,12,FALSE),"")/2 -> 5 | N29: =(L29+M29) -> 15 | O29: =IFERROR(VLOOKUP(C29,'04_RALLYE CAM'!$D$6:$M$36,10,FALSE),"") | P29: =IFERROR(VLOOKUP(C29,'04_RALLYE CAM'!$D$6:$O$36,12,FALSE),"") | Q29: =(O29+P29)*3 -> #VALUE! | R29: =IFERROR(VLOOKUP(C29,'05_RS NAVALCARNERO'!$D$6:$M$28,10,FALSE),"") | S29: =IFERROR(VLOOKUP(C29,'05_RS NAVALCARNERO'!$D$6:$O$28,12,FALSE),"") | T29: =(R29+S29)*2 -> #VALUE! | U29: =IFERROR(VLOOKUP(C29,'06_TCT NUEVO BAZTÁN'!$D$6:$M$28,10,FALSE),"") | V29: =IFERROR(VLOOKUP(C29,'06_TCT NUEVO BAZTÁN'!$D$6:$O$28,12,FALSE),"") | W29: =(U29+V29) -> #VALUE! | X29: =H29+K29+N29+Q29+T29+W29 -> #VALUE! | Y29: =IF(Z29>=3,"Sí","No") -> Sí | Z29: =COUNTA(H29,K29,N29,Q29,T29,W29) -> 6 | AB29: =IFERROR(VLOOKUP(C29,Tabla15[[Piloto]:[Puntos clase]],6, FALSE), " ") -> 2RM
B30: 25 | C30: SERGIO VILLALBA TEJEDA | D30: 3 | E30: 2 | F30: =IFERROR(VLOOKUP(C30,'01_RS ALCARRIA'!$D$6:$M$36,10,FALSE),"") | G30: =IFERROR(VLOOKUP(C30,'01_RS ALCARRIA'!$D$6:$O$36,12,FALSE),"") | H30: =(F30+G30)*2 -> #VALUE! | I30: =IFERROR(VLOOKUP(C30,'02_TCT GUADAMUR'!$D$6:$M$36,10,FALSE),"") | J30: =IFERROR(VLOOKUP(C30,'02_TCT GUADAMUR'!$D$6:$O$36,12,FALSE),"") | K30: =(I30+J30) -> #VALUE! | L30: =IFERROR(VLOOKUP(C30,'03_TCT MAQUEDA'!$D$6:$M$36,10,FALSE),"") -> 1 | M30: =IFERROR(VLOOKUP(C30,'03_TCT MAQUEDA'!$D$6:$O$36,12,FALSE),"") -> 5 | N30: =(L30+M30) -> 6 | O30: =IFERROR(VLOOKUP(C30,'04_RALLYE CAM'!$D$6:$M$36,10,FALSE),"") | P30: =IFERROR(VLOOKUP(C30,'04_RALLYE CAM'!$D$6:$O$36,12,FALSE),"") | Q30: =(O30+P30)*3 -> #VALUE! | R30: =IFERROR(VLOOKUP(C30,'05_RS NAVALCARNERO'!$D$6:$M$28,10,FALSE),"") | S30: =IFERROR(VLOOKUP(C30,'05_RS NAVALCARNERO'!$D$6:$O$28,12,FALSE),"") | T30: =(R30+S30)*2 -> #VALUE! | U30: =IFERROR(VLOOKUP(C30,'06_TCT NUEVO BAZTÁN'!$D$6:$M$28,10,FALSE),"") | V30: =IFERROR(VLOOKUP(C30,'06_TCT NUEVO BAZTÁN'!$D$6:$O$28,12,FALSE),"") | W30: =(U30+V30) -> #VALUE! | X30: =H30+K30+N30+Q30+T30+W30 -> #VALUE! | Y30: =IF(Z30>=3,"Sí","No") -> Sí | Z30: =COUNTA(H30,K30,N30,Q30,T30,W30) -> 6 | AB30: =IFERROR(VLOOKUP(C30,Tabla15[[Piloto]:[Puntos clase]],6, FALSE), " ") -> 2RM
B31: 26 | C31: IVAN ALONSO MARIN | D31: =IFERROR(VLOOKUP(C31,Tabla15[[Piloto]:[Puntos clase]],7, FALSE), " ") -> 5 | E31: 2 | F31: =IFERROR(VLOOKUP(C31,'01_RS ALCARRIA'!$D$6:$M$36,10,FALSE),"") | G31: =IFERROR(VLOOKUP(C31,'01_RS ALCARRIA'!$D$6:$O$36,12,FALSE),"") | H31: =(F31+G31)*2 -> #VALUE! | I31: =IFERROR(VLOOKUP(C31,'02_TCT GUADAMUR'!$D$6:$M$36,10,FALSE),"") | J31: =IFERROR(VLOOKUP(C31,'02_TCT GUADAMUR'!$D$6:$O$36,12,FALSE),"") | K31: =(I31+J31) -> #VALUE! | L31: =IFERROR(VLOOKUP(C31,'03_TCT MAQUEDA'!$D$6:$M$36,10,FALSE),"") | M31: =IFERROR(VLOOKUP(C31,'03_TCT MAQUEDA'!$D$6:$O$36,12,FALSE),"") | N31: =(L31+M31) -> #VALUE! | O31: =IFERROR(VLOOKUP(C31,'04_RALLYE CAM'!$D$6:$M$36,10,FALSE),"") | P31: =IFERROR(VLOOKUP(C31,'04_RALLYE CAM'!$D$6:$O$36,12,FALSE),"") | Q31: =(O31+P31)*3 -> #VALUE! | R31: =IFERROR(VLOOKUP(C31,'05_RS NAVALCARNERO'!$D$6:$M$28,10,FALSE),"") | S31: =IFERROR(VLOOKUP(C31,'05_RS NAVALCARNERO'!$D$6:$O$28,12,FALSE),"") | T31: =(R31+S31)*2 -> #VALUE! | U31: =IFERROR(VLOOKUP(C31,'06_TCT NUEVO BAZTÁN'!$D$6:$M$28,10,FALSE),"") | V31: =IFERROR(VLOOKUP(C31,'06_TCT NUEVO BAZTÁN'!$D$6:$O$28,12,FALSE),"") | W31: =(U31+V31) -> #VALUE! | X31: =H31+K31+N31+Q31+T31+W31 -> #VALUE! | Y31: =IF(Z31>=3,"Sí","No") -> Sí | Z31: =COUNTA(H31,K31,N31,Q31,T31,W31) -> 6 | AB31: =IFERROR(VLOOKUP(C31,Tabla15[[Piloto]:[Puntos clase]],6, FALSE), " ") -> 2RM
B32: 27 | C32: BELTRAN MARTINEZ REGUERA | D32: =IFERROR(VLOOKUP(C32,Tabla15[[Piloto]:[Puntos clase]],7, FALSE), " ") -> 4 | E32: 2 | F32: =IFERROR(VLOOKUP(C32,'01_RS ALCARRIA'!$D$6:$M$36,10,FALSE),"") | G32: =IFERROR(VLOOKUP(C32,'01_RS ALCARRIA'!$D$6:$O$36,12,FALSE),"") | H32: =(F32+G32)*2 -> #VALUE! | I32: =IFERROR(VLOOKUP(C32,'02_TCT GUADAMUR'!$D$6:$M$36,10,FALSE),"") | J32: =IFERROR(VLOOKUP(C32,'02_TCT GUADAMUR'!$D$6:$O$36,12,FALSE),"") | K32: =(I32+J32) -> #VALUE! | L32: =IFERROR(VLOOKUP(C32,'03_TCT MAQUEDA'!$D$6:$M$36,10,FALSE),"") | M32: =IFERROR(VLOOKUP(C32,'03_TCT MAQUEDA'!$D$6:$O$36,12,FALSE),"") | N32: =(L32+M32) -> #VALUE! | O32: =IFERROR(VLOOKUP(C32,'04_RALLYE CAM'!$D$6:$M$36,10,FALSE),"") | P32: =IFERROR(VLOOKUP(C32,'04_RALLYE CAM'!$D$6:$O$36,12,FALSE),"") | Q32: =(O32+P32)*3 -> #VALUE! | R32: =IFERROR(VLOOKUP(C32,'05_RS NAVALCARNERO'!$D$6:$M$28,10,FALSE),"") | S32: =IFERROR(VLOOKUP(C32,'05_RS NAVALCARNERO'!$D$6:$O$28,12,FALSE),"") | T32: =(R32+S32)*2 -> #VALUE! | U32: =IFERROR(VLOOKUP(C32,'06_TCT NUEVO BAZTÁN'!$D$6:$M$28,10,FALSE),"") | V32: =IFERROR(VLOOKUP(C32,'06_TCT NUEVO BAZTÁN'!$D$6:$O$28,12,FALSE),"") | W32: =(U32+V32) -> #VALUE! | X32: =H32+K32+N32+Q32+T32+W32 -> #VALUE! | Y32: =IF(Z32>=3,"Sí","No") -> Sí | Z32: =COUNTA(H32,K32,N32,Q32,T32,W32) -> 6 | AB32: =IFERROR(VLOOKUP(C32,Tabla15[[Piloto]:[Puntos clase]],6, FALSE), " ") -> 2RM
B33: 28 | C33: ANDRES LOPEZ ARCHILLA | D33: 2 | E33: 2 | F33: =IFERROR(VLOOKUP(C33,'01_RS ALCARRIA'!$D$6:$M$36,10,FALSE),"") | G33: =IFERROR(VLOOKUP(C33,'01_RS ALCARRIA'!$D$6:$O$36,12,FALSE),"") | H33: =(F33+G33)*2 -> #VALUE! | I33: =IFERROR(VLOOKUP(C33,'02_TCT GUADAMUR'!$D$6:$M$36,10,FALSE),"") -> 20 | J33: =IFERROR(VLOOKUP(C33,'02_TCT GUADAMUR'!$D$6:$O$36,12,FALSE),"") -> 8 | K33: =(I33+J33) -> 28 | L33: =IFERROR(VLOOKUP(C33,'03_TCT MAQUEDA'!$D$6:$M$36,10,FALSE),"") -> 12 | M33: =IFERROR(VLOOKUP(C33,'03_TCT MAQUEDA'!$D$6:$O$36,12,FALSE),"") -> 6 | N33: =(L33+M33) -> 18 | O33: =IFERROR(VLOOKUP(C33,'04_RALLYE CAM'!$D$6:$M$36,10,FALSE),"") | P33: =IFERROR(VLOOKUP(C33,'04_RALLYE CAM'!$D$6:$O$36,12,FALSE),"") | Q33: =(O33+P33)*3 -> #VALUE! | R33: =IFERROR(VLOOKUP(C33,'05_RS NAVALCARNERO'!$D$6:$M$28,10,FALSE),"") | S33: =IFERROR(VLOOKUP(C33,'05_RS NAVALCARNERO'!$D$6:$O$28,12,FALSE),"") | T33: =(R33+S33)*2 -> #VALUE! | U33: =IFERROR(VLOOKUP(C33,'06_TCT NUEVO BAZTÁN'!$D$6:$M$28,10,FALSE),"") | V33: =IFERROR(VLOOKUP(C33,'06_TCT NUEVO BAZTÁN'!$D$6:$O$28,12,FALSE),"") | W33: =(U33+V33) -> #VALUE! | X33: =H33+K33+N33+Q33+T33+W33 -> #VALUE! | Y33: =IF(Z33>=3,"Sí","No") -> Sí | Z33: =COUNTA(H33,K33,N33,Q33,T33,W33) -> 6 | AB33: =IFERROR(VLOOKUP(C33,Tabla15[[Piloto]:[Puntos clase]],6, FALSE), " ")
B34: 29 | C34: DAVID DE LA OSA SANJUAN | D34: 3 | E34: 2 | F34: =IFERROR(VLOOKUP(C34,'01_RS ALCARRIA'!$D$6:$M$36,10,FALSE),"") | G34: =IFERROR(VLOOKUP(C34,'01_RS ALCARRIA'!$D$6:$O$36,12,FALSE),"") | H34: =(F34+G34)*2 -> #VALUE! | I34: =IFERROR(VLOOKUP(C34,'02_TCT GUADAMUR'!$D$6:$M$36,10,FALSE),"") -> 12 | J34: =IFERROR(VLOOKUP(C34,'02_TCT GUADAMUR'!$D$6:$O$36,12,FALSE),"") -> 10 | K34: =(I34+J34) -> 22 | L34: =IFERROR(VLOOKUP(C34,'03_TCT MAQUEDA'!$D$6:$M$36,10,FALSE),"") | M34: =IFERROR(VLOOKUP(C34,'03_TCT MAQUEDA'!$D$6:$O$36,12,FALSE),"") | N34: =(L34+M34) -> #VALUE! | O34: =IFERROR(VLOOKUP(C34,'04_RALLYE CAM'!$D$6:$M$36,10,FALSE),"") | P34: =IFERROR(VLOOKUP(C34,'04_RALLYE CAM'!$D$6:$O$36,12,FALSE),"") | Q34: =(O34+P34)*3 -> #VALUE! | R34: =IFERROR(VLOOKUP(C34,'05_RS NAVALCARNERO'!$D$6:$M$28,10,FALSE),"") -> 6 | S34: =IFERROR(VLOOKUP(C34,'05_RS NAVALCARNERO'!$D$6:$O$28,12,FALSE),"") -> 6 | T34: =(R34+S34)*2 -> 24 | U34: =IFERROR(VLOOKUP(C34,'06_TCT NUEVO BAZTÁN'!$D$6:$M$28,10,FALSE),"") -> 6 | V34: =IFERROR(VLOOKUP(C34,'06_TCT NUEVO BAZTÁN'!$D$6:$O$28,12,FALSE),"") -> 6 | W34: =(U34+V34) -> 12 | X34: =H34+K34+N34+Q34+T34+W34 -> #VALUE! | Y34: =IF(Z34>=3,"Sí","No") -> Sí | Z34: =COUNTA(H34,K34,N34,Q34,T34,W34) -> 6 | AB34: =IFERROR(VLOOKUP(C34,Tabla15[[Piloto]:[Puntos clase]],6, FALSE), " ")
B35: 30 | C35: ARMANDO GARCIA-MORENO LOPEZ | D35: 3 | E35: 2 | F35: =IFERROR(VLOOKUP(C35,'01_RS ALCARRIA'!$D$6:$M$36,10,FALSE),"") | G35: =IFERROR(VLOOKUP(C35,'01_RS ALCARRIA'!$D$6:$O$36,12,FALSE),"") | H35: =(F35+G35)*2 -> #VALUE! | I35: =IFERROR(VLOOKUP(C35,'02_TCT GUADAMUR'!$D$6:$M$36,10,FALSE),"") -> 5 | J35: =IFERROR(VLOOKUP(C35,'02_TCT GUADAMUR'!$D$6:$O$36,12,FALSE),"") -> 6 | K35: =(I35+J35) -> 11 | L35: 0 | M35: 0 | N35: =(L35+M35) -> 0 | O35: =IFERROR(VLOOKUP(C35,'04_RALLYE CAM'!$D$6:$M$36,10,FALSE),"") | P35: =IFERROR(VLOOKUP(C35,'04_RALLYE CAM'!$D$6:$O$36,12,FALSE),"") | Q35: =(O35+P35)*3 -> #VALUE! | R35: =IFERROR(VLOOKUP(C35,'05_RS NAVALCARNERO'!$D$6:$M$28,10,FALSE),"") | S35: =IFERROR(VLOOKUP(C35,'05_RS NAVALCARNERO'!$D$6:$O$28,12,FALSE),"") | T35: =(R35+S35)*2 -> #VALUE! | U35: =IFERROR(VLOOKUP(C35,'06_TCT NUEVO BAZTÁN'!$D$6:$M$28,10,FALSE),"") | V35: =IFERROR(VLOOKUP(C35,'06_TCT NUEVO BAZTÁN'!$D$6:$O$28,12,FALSE),"") | W35: =(U35+V35) -> #VALUE! | X35: =H35+K35+N35+Q35+T35+W35 -> #VALUE! | Y35: =IF(Z35>=3,"Sí","No") -> Sí | Z35: =COUNTA(H35,K35,N35,Q35,T35,W35) -> 6 | AB35: =IFERROR(VLOOKUP(C35,Tabla15[[Piloto]:[Puntos clase]],6, FALSE), " ")
C36: SERGIO MARTIN SANCHEZ | D36: 2 | E36: 2 | F36: =IFERROR(VLOOKUP(C36,'01_RS ALCARRIA'!$D$6:$M$36,10,FALSE),"") | G36: =IFERROR(VLOOKUP(C36,'01_RS ALCARRIA'!$D$6:$O$36,12,FALSE),"") | H36: =(F36+G36)*2 -> #VALUE! | I36: =IFERROR(VLOOKUP(C36,'02_TCT GUADAMUR'!$D$6:$M$36,10,FALSE),"") -> 0 | J36: =IFERROR(VLOOKUP(C36,'02_TCT GUADAMUR'!$D$6:$O$36,12,FALSE),"") -> 5 | K36: =(I36+J36) -> 5 | L36: 0 | M36: 0 | N36: =(L36+M36) -> 0 | O36: =IFERROR(VLOOKUP(C36,'04_RALLYE CAM'!$D$6:$M$36,10,FALSE),"") | P36: =IFERROR(VLOOKUP(C36,'04_RALLYE CAM'!$D$6:$O$36,12,FALSE),"") | Q36: =(O36+P36)*3 -> #VALUE! | R36: =IFERROR(VLOOKUP(C36,'05_RS NAVALCARNERO'!$D$6:$M$28,10,FALSE),"") | S36: =IFERROR(VLOOKUP(C36,'05_RS NAVALCARNERO'!$D$6:$O$28,12,FALSE),"") | T36: =(R36+S36)*2 -> #VALUE! | U36: =IFERROR(VLOOKUP(C36,'06_TCT NUEVO BAZTÁN'!$D$6:$M$28,10,FALSE),"") | V36: =IFERROR(VLOOKUP(C36,'06_TCT NUEVO BAZTÁN'!$D$6:$O$28,12,FALSE),"") | W36: =(U36+V36) -> #VALUE! | X36: =H36+K36+N36+Q36+T36+W36 -> #VALUE! | Y36: =IF(Z36>=3,"Sí","No") -> Sí | Z36: =COUNTA(H36,K36,N36,Q36,T36,W36) -> 6 | AB36: =IFERROR(VLOOKUP(C36,Tabla15[[Piloto]:[Puntos clase]],6, FALSE), " ")
